BEGIN:VCALENDAR
VERSION:2.0
PRODID:-//85.13.129.106//NONSGML kigkonsult.se iCalcreator 2.10.23//
BEGIN:VEVENT
UID:20260420T035804CEST-1584KUcuDU@85.13.129.106
DTSTAMP:20260420T015804Z
DESCRIPTION:
DTSTART;TZID=Europe/Berlin:20140906T093000
DTEND;TZID=Europe/Berlin:20140906T111500
LOCATION:
SUMMARY:14/15 D1-Jun. VL: SG SV Germania Ilmenau D - SC 1903 Weimar D
END:VEVENT
BEGIN:VEVENT
UID:20260420T035804CEST-15892uVUa1@85.13.129.106
DTSTAMP:20260420T015804Z
DESCRIPTION:
DTSTART;TZID=Europe/Berlin:20140913T103000
DTEND;TZID=Europe/Berlin:20140913T121500
LOCATION:
SUMMARY:14/15 D1-Jun. VL: SG 1. FC Sonneberg 04 D - SG SV Germania Ilmenau 
 D
END:VEVENT
BEGIN:VEVENT
UID:20260420T035804CEST-1593L7110L@85.13.129.106
DTSTAMP:20260420T015804Z
DESCRIPTION:
DTSTART;TZID=Europe/Berlin:20140920T093000
DTEND;TZID=Europe/Berlin:20140920T111500
LOCATION:
SUMMARY:14/15 D1-Jun. VL: SG SV Germania Ilmenau D - FC Carl Zeiss Jena D2
END:VEVENT
BEGIN:VEVENT
UID:20260420T035804CEST-1598Mx2nnN@85.13.129.106
DTSTAMP:20260420T015804Z
DESCRIPTION:
DTSTART;TZID=Europe/Berlin:20141004T103000
DTEND;TZID=Europe/Berlin:20141004T121500
LOCATION:
SUMMARY:14/15 D1-Jun. VL: SG Herpfer SV 07 D - SG SV Germania Ilmenau D
END:VEVENT
BEGIN:VEVENT
UID:20260420T035804CEST-1602Z8vIl3@85.13.129.106
DTSTAMP:20260420T015804Z
DESCRIPTION:
DTSTART;TZID=Europe/Berlin:20141018T103000
DTEND;TZID=Europe/Berlin:20141018T121500
LOCATION:
SUMMARY:14/15 D1-Jun. VL: SG SV Germania Ilmenau D - FSV Sömmerda D
END:VEVENT
BEGIN:VEVENT
UID:20260420T035804CEST-16075VwljC@85.13.129.106
DTSTAMP:20260420T015804Z
DESCRIPTION:
DTSTART;TZID=Europe/Berlin:20141213T103000
DTEND;TZID=Europe/Berlin:20141213T121500
LOCATION:
SUMMARY:14/15 D1-Jun. VL: TSV Germ. Sonneberg West D - SG SV Germania Ilmen
 au D
END:VEVENT
BEGIN:VEVENT
UID:20260420T035804CEST-1611zDdB81@85.13.129.106
DTSTAMP:20260420T015804Z
DESCRIPTION:
DTSTART;TZID=Europe/Berlin:20141101T103000
DTEND;TZID=Europe/Berlin:20141101T121500
LOCATION:
SUMMARY:14/15 D1-Jun. VL: FC Rot-Weiß Erfurt D2 - SG SV Germania Ilmenau D
END:VEVENT
BEGIN:VEVENT
UID:20260420T035804CEST-1615i07P77@85.13.129.106
DTSTAMP:20260420T015804Z
DESCRIPTION:
DTSTART;TZID=Europe/Berlin:20141108T093000
DTEND;TZID=Europe/Berlin:20141108T111500
LOCATION:
SUMMARY:14/15 D1-Jun. VL: SG SV Germania Ilmenau D - SG 1. Suhler SV 06 D
END:VEVENT
BEGIN:VEVENT
UID:20260420T035804CEST-1620V2vdke@85.13.129.106
DTSTAMP:20260420T015804Z
DESCRIPTION:
DTSTART;TZID=Europe/Berlin:20141122T110000
DTEND;TZID=Europe/Berlin:20141122T124500
LOCATION:
SUMMARY:14/15 D1-Jun. VL: SG FSV BW 90 Stadtilm D - SG SV Germania Ilmenau 
 D
END:VEVENT
BEGIN:VEVENT
UID:20260420T035804CEST-1624M5v7kl@85.13.129.106
DTSTAMP:20260420T015804Z
DESCRIPTION:
DTSTART;TZID=Europe/Berlin:20141129T093000
DTEND;TZID=Europe/Berlin:20141129T111500
LOCATION:
SUMMARY:14/15 D1-Jun. VL: SG SV Germania Ilmenau D - FC-BW Schalkau D
END:VEVENT
BEGIN:VEVENT
UID:20260420T035804CEST-1629H01RDa@85.13.129.106
DTSTAMP:20260420T015804Z
DESCRIPTION:
DTSTART;TZID=Europe/Berlin:20141206T103000
DTEND;TZID=Europe/Berlin:20141206T121500
LOCATION:
SUMMARY:14/15 D1-Jun. VL: VfB Oberweimar D - SG SV Germania Ilmenau D
END:VEVENT
BEGIN:VEVENT
UID:20260420T035804CEST-1633lFNRdV@85.13.129.106
DTSTAMP:20260420T015804Z
DESCRIPTION:
DTSTART;TZID=Europe/Berlin:20150228T103000
DTEND;TZID=Europe/Berlin:20150228T121500
LOCATION:
SUMMARY:14/15 D1-Jun. VL: SC 1903 Weimar D - SG SV Germania Ilmenau D
END:VEVENT
BEGIN:VEVENT
UID:20260420T035804CEST-1638fs800k@85.13.129.106
DTSTAMP:20260420T015804Z
DESCRIPTION:
DTSTART;TZID=Europe/Berlin:20150307T103000
DTEND;TZID=Europe/Berlin:20150307T121500
LOCATION:
SUMMARY:14/15 D1-Jun. VL: SG SV Germania Ilmenau D - SG 1. FC Sonneberg 04 
 D
END:VEVENT
BEGIN:VEVENT
UID:20260420T035804CEST-1642rVj2Bi@85.13.129.106
DTSTAMP:20260420T015804Z
DESCRIPTION:
DTSTART;TZID=Europe/Berlin:20150314T103000
DTEND;TZID=Europe/Berlin:20150314T121500
LOCATION:
SUMMARY:14/15 D1-Jun. VL: FC Carl Zeiss Jena D2 - SG SV Germania Ilmenau D
END:VEVENT
BEGIN:VEVENT
UID:20260420T035804CEST-1646JkRMvP@85.13.129.106
DTSTAMP:20260420T015804Z
DESCRIPTION:
DTSTART;TZID=Europe/Berlin:20150418T093000
DTEND;TZID=Europe/Berlin:20150418T111500
LOCATION:
SUMMARY:14/15 D1-Jun. VL: SG SV Germania Ilmenau D - SG Herpfer SV 07 D
END:VEVENT
BEGIN:VEVENT
UID:20260420T035804CEST-1651X8Rn7D@85.13.129.106
DTSTAMP:20260420T015804Z
DESCRIPTION:
DTSTART;TZID=Europe/Berlin:20150425T110000
DTEND;TZID=Europe/Berlin:20150425T124500
LOCATION:
SUMMARY:14/15 D1-Jun. VL: FSV Sömmerda D - SG SV Germania Ilmenau D
END:VEVENT
BEGIN:VEVENT
UID:20260420T035804CEST-16559GHU4W@85.13.129.106
DTSTAMP:20260420T015804Z
DESCRIPTION:
DTSTART;TZID=Europe/Berlin:20150502T103000
DTEND;TZID=Europe/Berlin:20150502T121500
LOCATION:
SUMMARY:14/15 D1-Jun. VL: SG SV Germania Ilmenau D - TSV Germ. Sonneberg We
 st D
END:VEVENT
BEGIN:VEVENT
UID:20260420T035804CEST-1660T0a25I@85.13.129.106
DTSTAMP:20260420T015804Z
DESCRIPTION:
DTSTART;TZID=Europe/Berlin:20150516T093000
DTEND;TZID=Europe/Berlin:20150516T111500
LOCATION:
SUMMARY:14/15 D1-Jun. VL: SG SV Germania Ilmenau D - FC Rot-Weiß Erfurt D2
END:VEVENT
BEGIN:VEVENT
UID:20260420T035804CEST-1664LONsR0@85.13.129.106
DTSTAMP:20260420T015804Z
DESCRIPTION:
DTSTART;TZID=Europe/Berlin:20150530T110000
DTEND;TZID=Europe/Berlin:20150530T124500
LOCATION:
SUMMARY:14/15 D1-Jun. VL: SG 1. Suhler SV 06 D - SG SV Germania Ilmenau D
END:VEVENT
BEGIN:VEVENT
UID:20260420T035804CEST-1669kmVZGH@85.13.129.106
DTSTAMP:20260420T015804Z
DESCRIPTION:
DTSTART;TZID=Europe/Berlin:20150606T103000
DTEND;TZID=Europe/Berlin:20150606T121500
LOCATION:
SUMMARY:14/15 D1-Jun. VL: SG SV Germania Ilmenau D - SG FSV BW 90 Stadtilm 
 D
END:VEVENT
BEGIN:VEVENT
UID:20260420T035804CEST-1673fBEhB9@85.13.129.106
DTSTAMP:20260420T015804Z
DESCRIPTION:Schalkau
DTSTART;TZID=Europe/Berlin:20150614T103000
DTEND;TZID=Europe/Berlin:20150614T121500
LOCATION:Katzberger Straße 6\n96528 Schalkau\, 96528 Schalkau
SUMMARY:14/15 D1-Jun. VL: FC-BW Schalkau D - SG SV Germania Ilmenau D
END:VEVENT
BEGIN:VEVENT
UID:20260420T035804CEST-1677WbI4b2@85.13.129.106
DTSTAMP:20260420T015804Z
DESCRIPTION:Schalkau
DTSTART;TZID=Europe/Berlin:20150620T103000
DTEND;TZID=Europe/Berlin:20150620T121500
LOCATION:Katzberger Straße 6\n96528 Schalkau\, 96528 Schalkau
SUMMARY:14/15 D1-Jun. VL: SG SV Germania Ilmenau D - VfB Oberweimar D
END:VEVENT
END:VCALENDAR
