BEGIN:VCALENDAR
VERSION:2.0
PRODID:-//85.13.129.106//NONSGML kigkonsult.se iCalcreator 2.10.23//
BEGIN:VEVENT
UID:20260422T001128CEST-8050zUrBwJ@85.13.129.106
DTSTAMP:20260421T221128Z
DESCRIPTION:
DTSTART;TZID=Europe/Berlin:20140906T110000
DTEND;TZID=Europe/Berlin:20140906T124500
LOCATION:
SUMMARY:14/15 D1-Jun. VL: SG 1. Suhler SV 06 D - VfB Oberweimar D
END:VEVENT
BEGIN:VEVENT
UID:20260422T001128CEST-80546xVRvu@85.13.129.106
DTSTAMP:20260421T221128Z
DESCRIPTION:
DTSTART;TZID=Europe/Berlin:20140913T090000
DTEND;TZID=Europe/Berlin:20140913T104500
LOCATION:
SUMMARY:14/15 D1-Jun. VL: SC 1903 Weimar D - SG 1. Suhler SV 06 D
END:VEVENT
BEGIN:VEVENT
UID:20260422T001128CEST-8059hvvOSS@85.13.129.106
DTSTAMP:20260421T221128Z
DESCRIPTION:
DTSTART;TZID=Europe/Berlin:20140920T110000
DTEND;TZID=Europe/Berlin:20140920T124500
LOCATION:
SUMMARY:14/15 D1-Jun. VL: SG 1. Suhler SV 06 D - SG 1. FC Sonneberg 04 D
END:VEVENT
BEGIN:VEVENT
UID:20260422T001128CEST-8063sb3Pmu@85.13.129.106
DTSTAMP:20260421T221128Z
DESCRIPTION:
DTSTART;TZID=Europe/Berlin:20141115T103000
DTEND;TZID=Europe/Berlin:20141115T121500
LOCATION:
SUMMARY:14/15 D1-Jun. VL: FC Carl Zeiss Jena D2 - SG 1. Suhler SV 06 D
END:VEVENT
BEGIN:VEVENT
UID:20260422T001128CEST-806878HB9P@85.13.129.106
DTSTAMP:20260421T221128Z
DESCRIPTION:
DTSTART;TZID=Europe/Berlin:20141018T110000
DTEND;TZID=Europe/Berlin:20141018T124500
LOCATION:
SUMMARY:14/15 D1-Jun. VL: SG 1. Suhler SV 06 D - SG Herpfer SV 07 D
END:VEVENT
BEGIN:VEVENT
UID:20260422T001128CEST-8072DvUTVh@85.13.129.106
DTSTAMP:20260421T221128Z
DESCRIPTION:
DTSTART;TZID=Europe/Berlin:20141025T093000
DTEND;TZID=Europe/Berlin:20141025T111500
LOCATION:
SUMMARY:14/15 D1-Jun. VL: FSV Sömmerda D - SG 1. Suhler SV 06 D
END:VEVENT
BEGIN:VEVENT
UID:20260422T001128CEST-8076XDvjUJ@85.13.129.106
DTSTAMP:20260421T221128Z
DESCRIPTION:
DTSTART;TZID=Europe/Berlin:20141101T110000
DTEND;TZID=Europe/Berlin:20141101T124500
LOCATION:
SUMMARY:14/15 D1-Jun. VL: SG 1. Suhler SV 06 D - TSV Germ. Sonneberg West D
END:VEVENT
BEGIN:VEVENT
UID:20260422T001128CEST-8081DLm1r5@85.13.129.106
DTSTAMP:20260421T221128Z
DESCRIPTION:
DTSTART;TZID=Europe/Berlin:20141108T093000
DTEND;TZID=Europe/Berlin:20141108T111500
LOCATION:
SUMMARY:14/15 D1-Jun. VL: SG SV Germania Ilmenau D - SG 1. Suhler SV 06 D
END:VEVENT
BEGIN:VEVENT
UID:20260422T001128CEST-8085CWVScx@85.13.129.106
DTSTAMP:20260421T221128Z
DESCRIPTION:
DTSTART;TZID=Europe/Berlin:20141122T103000
DTEND;TZID=Europe/Berlin:20141122T121500
LOCATION:
SUMMARY:14/15 D1-Jun. VL: FC Rot-Weiß Erfurt D2 - SG 1. Suhler SV 06 D
END:VEVENT
BEGIN:VEVENT
UID:20260422T001128CEST-8089Op4Mua@85.13.129.106
DTSTAMP:20260421T221128Z
DESCRIPTION:
DTSTART;TZID=Europe/Berlin:20141129T110000
DTEND;TZID=Europe/Berlin:20141129T124500
LOCATION:
SUMMARY:14/15 D1-Jun. VL: SG 1. Suhler SV 06 D - SG FSV BW 90 Stadtilm D
END:VEVENT
BEGIN:VEVENT
UID:20260422T001128CEST-80946bnogp@85.13.129.106
DTSTAMP:20260421T221128Z
DESCRIPTION:Schalkau
DTSTART;TZID=Europe/Berlin:20141207T100000
DTEND;TZID=Europe/Berlin:20141207T114500
LOCATION:Katzberger Straße 6\n96528 Schalkau\, 96528 Schalkau
SUMMARY:14/15 D1-Jun. VL: FC-BW Schalkau D - SG 1. Suhler SV 06 D
END:VEVENT
BEGIN:VEVENT
UID:20260422T001128CEST-80986HB2zL@85.13.129.106
DTSTAMP:20260421T221128Z
DESCRIPTION:Schalkau
DTSTART;TZID=Europe/Berlin:20150301T121500
DTEND;TZID=Europe/Berlin:20150301T140000
LOCATION:Katzberger Straße 6\n96528 Schalkau\, 96528 Schalkau
SUMMARY:14/15 D1-Jun. VL: VfB Oberweimar D - SG 1. Suhler SV 06 D
END:VEVENT
BEGIN:VEVENT
UID:20260422T001128CEST-8102OUudvE@85.13.129.106
DTSTAMP:20260421T221128Z
DESCRIPTION:Schalkau
DTSTART;TZID=Europe/Berlin:20150509T110000
DTEND;TZID=Europe/Berlin:20150509T124500
LOCATION:Katzberger Straße 6\n96528 Schalkau\, 96528 Schalkau
SUMMARY:14/15 D1-Jun. VL: SG 1. Suhler SV 06 D - SC 1903 Weimar D
END:VEVENT
BEGIN:VEVENT
UID:20260422T001128CEST-8106uD5DGw@85.13.129.106
DTSTAMP:20260421T221128Z
DESCRIPTION:Schalkau
DTSTART;TZID=Europe/Berlin:20150314T103000
DTEND;TZID=Europe/Berlin:20150314T121500
LOCATION:Katzberger Straße 6\n96528 Schalkau\, 96528 Schalkau
SUMMARY:14/15 D1-Jun. VL: SG 1. FC Sonneberg 04 D - SG 1. Suhler SV 06 D
END:VEVENT
BEGIN:VEVENT
UID:20260422T001128CEST-8111GUrU1m@85.13.129.106
DTSTAMP:20260421T221128Z
DESCRIPTION:Schalkau
DTSTART;TZID=Europe/Berlin:20150418T110000
DTEND;TZID=Europe/Berlin:20150418T124500
LOCATION:Katzberger Straße 6\n96528 Schalkau\, 96528 Schalkau
SUMMARY:14/15 D1-Jun. VL: SG 1. Suhler SV 06 D - FC Carl Zeiss Jena D2
END:VEVENT
BEGIN:VEVENT
UID:20260422T001128CEST-811583RSHd@85.13.129.106
DTSTAMP:20260421T221128Z
DESCRIPTION:Schalkau
DTSTART;TZID=Europe/Berlin:20150425T103000
DTEND;TZID=Europe/Berlin:20150425T121500
LOCATION:Katzberger Straße 6\n96528 Schalkau\, 96528 Schalkau
SUMMARY:14/15 D1-Jun. VL: SG Herpfer SV 07 D - SG 1. Suhler SV 06 D
END:VEVENT
BEGIN:VEVENT
UID:20260422T001128CEST-8119JaozAW@85.13.129.106
DTSTAMP:20260421T221128Z
DESCRIPTION:Schalkau
DTSTART;TZID=Europe/Berlin:20150502T110000
DTEND;TZID=Europe/Berlin:20150502T124500
LOCATION:Katzberger Straße 6\n96528 Schalkau\, 96528 Schalkau
SUMMARY:14/15 D1-Jun. VL: SG 1. Suhler SV 06 D - FSV Sömmerda D
END:VEVENT
BEGIN:VEVENT
UID:20260422T001128CEST-8124kfuvDa@85.13.129.106
DTSTAMP:20260421T221128Z
DESCRIPTION:Schalkau
DTSTART;TZID=Europe/Berlin:20150517T103000
DTEND;TZID=Europe/Berlin:20150517T121500
LOCATION:Katzberger Straße 6\n96528 Schalkau\, 96528 Schalkau
SUMMARY:14/15 D1-Jun. VL: TSV Germ. Sonneberg West D - SG 1. Suhler SV 06 D
END:VEVENT
BEGIN:VEVENT
UID:20260422T001128CEST-8128CblL4F@85.13.129.106
DTSTAMP:20260421T221128Z
DESCRIPTION:Schalkau
DTSTART;TZID=Europe/Berlin:20150530T110000
DTEND;TZID=Europe/Berlin:20150530T124500
LOCATION:Katzberger Straße 6\n96528 Schalkau\, 96528 Schalkau
SUMMARY:14/15 D1-Jun. VL: SG 1. Suhler SV 06 D - SG SV Germania Ilmenau D
END:VEVENT
BEGIN:VEVENT
UID:20260422T001128CEST-8132C9OUMp@85.13.129.106
DTSTAMP:20260421T221128Z
DESCRIPTION:Schalkau
DTSTART;TZID=Europe/Berlin:20150606T110000
DTEND;TZID=Europe/Berlin:20150606T124500
LOCATION:Katzberger Straße 6\n96528 Schalkau\, 96528 Schalkau
SUMMARY:14/15 D1-Jun. VL: SG 1. Suhler SV 06 D - FC Rot-Weiß Erfurt D2
END:VEVENT
BEGIN:VEVENT
UID:20260422T001128CEST-81379eUllj@85.13.129.106
DTSTAMP:20260421T221128Z
DESCRIPTION:Schalkau
DTSTART;TZID=Europe/Berlin:20150613T100000
DTEND;TZID=Europe/Berlin:20150613T114500
LOCATION:Katzberger Straße 6\n96528 Schalkau\, 96528 Schalkau
SUMMARY:14/15 D1-Jun. VL: SG FSV BW 90 Stadtilm D - SG 1. Suhler SV 06 D
END:VEVENT
BEGIN:VEVENT
UID:20260422T001128CEST-8141vF00cf@85.13.129.106
DTSTAMP:20260421T221128Z
DESCRIPTION:Schalkau
DTSTART;TZID=Europe/Berlin:20150620T120000
DTEND;TZID=Europe/Berlin:20150620T134500
LOCATION:Katzberger Straße 6\n96528 Schalkau\, 96528 Schalkau
SUMMARY:14/15 D1-Jun. VL: SG 1. Suhler SV 06 D - FC-BW Schalkau D
END:VEVENT
END:VCALENDAR
