BEGIN:VCALENDAR
VERSION:2.0
PRODID:-//85.13.129.106//NONSGML kigkonsult.se iCalcreator 2.10.23//
BEGIN:VEVENT
UID:20260421T125044CEST-9941xWocGA@85.13.129.106
DTSTAMP:20260421T105044Z
DESCRIPTION:
DTSTART;TZID=Europe/Amsterdam:20130911T180000
DTEND;TZID=Europe/Amsterdam:20130911T194500
LOCATION:
SUMMARY:13/14 E-Jun. Pokal: Freilos - TSV Germ. Sonneberg West E
END:VEVENT
BEGIN:VEVENT
UID:20260421T125044CEST-9946Kw6nLA@85.13.129.106
DTSTAMP:20260421T105044Z
DESCRIPTION:
DTSTART;TZID=Europe/Amsterdam:20130911T180000
DTEND;TZID=Europe/Amsterdam:20130911T194500
LOCATION:
SUMMARY:13/14 E-Jun. Pokal: Freilos - SV Iso. Neuhaus Schierschnitz E
END:VEVENT
BEGIN:VEVENT
UID:20260421T125044CEST-9950SWkF6w@85.13.129.106
DTSTAMP:20260421T105044Z
DESCRIPTION:
DTSTART;TZID=Europe/Amsterdam:20130911T180000
DTEND;TZID=Europe/Amsterdam:20130911T194500
LOCATION:
SUMMARY:13/14 E-Jun. Pokal: Freilos - SV EK Veilsdorf E
END:VEVENT
BEGIN:VEVENT
UID:20260421T125044CEST-99545J1fjC@85.13.129.106
DTSTAMP:20260421T105044Z
DESCRIPTION:
DTSTART;TZID=Europe/Amsterdam:20130911T180000
DTEND;TZID=Europe/Amsterdam:20130911T194500
LOCATION:
SUMMARY:13/14 E-Jun. Pokal: Freilos - SV 03 Eisfeld E
END:VEVENT
END:VCALENDAR
