BEGIN:VCALENDAR
VERSION:2.0
PRODID:-//85.13.129.106//NONSGML kigkonsult.se iCalcreator 2.10.23//
BEGIN:VEVENT
UID:20260420T115738CEST-0639N5PBoG@85.13.129.106
DTSTAMP:20260420T095738Z
DESCRIPTION:
DTSTART;TZID=Europe/Berlin:20180818T110000
DTEND;TZID=Europe/Berlin:20180818T124500
LOCATION:
SUMMARY:18/19 D-Jun. VL: SV Wacker 04 Bad Salzungen D - 1. Suhler SV 06 D
END:VEVENT
BEGIN:VEVENT
UID:20260420T115738CEST-0644sTFIee@85.13.129.106
DTSTAMP:20260420T095738Z
DESCRIPTION:
DTSTART;TZID=Europe/Berlin:20180826T113000
DTEND;TZID=Europe/Berlin:20180826T131500
LOCATION:
SUMMARY:18/19 D-Jun. VL: spielfrei - SV Wacker 04 Bad Salzungen D
END:VEVENT
BEGIN:VEVENT
UID:20260420T115738CEST-0648XCd6EJ@85.13.129.106
DTSTAMP:20260420T095738Z
DESCRIPTION:
DTSTART;TZID=Europe/Berlin:20180901T103000
DTEND;TZID=Europe/Berlin:20180901T121500
LOCATION:
SUMMARY:18/19 D-Jun. VL: SV Wacker 04 Bad Salzungen D - FSV Ulstertal Geisa
  1866 D
END:VEVENT
BEGIN:VEVENT
UID:20260420T115738CEST-06539FdB6S@85.13.129.106
DTSTAMP:20260420T095738Z
DESCRIPTION:
DTSTART;TZID=Europe/Berlin:20180908T103000
DTEND;TZID=Europe/Berlin:20180908T121500
LOCATION:
SUMMARY:18/19 D-Jun. VL: FSV Martinroda D - SV Wacker 04 Bad Salzungen D
END:VEVENT
BEGIN:VEVENT
UID:20260420T115738CEST-0657u05kIX@85.13.129.106
DTSTAMP:20260420T095738Z
DESCRIPTION:
DTSTART;TZID=Europe/Berlin:20180929T103000
DTEND;TZID=Europe/Berlin:20180929T121500
LOCATION:
SUMMARY:18/19 D-Jun. VL: SV Wacker 04 Bad Salzungen D - 1. FC Sonneberg 04 
 D
END:VEVENT
BEGIN:VEVENT
UID:20260420T115738CEST-0661z7GpFB@85.13.129.106
DTSTAMP:20260420T095738Z
DESCRIPTION:
DTSTART;TZID=Europe/Berlin:20181020T103000
DTEND;TZID=Europe/Berlin:20181020T121500
LOCATION:
SUMMARY:18/19 D-Jun. VL: SG SpG Helba D - SV Wacker 04 Bad Salzungen D
END:VEVENT
BEGIN:VEVENT
UID:20260420T115738CEST-0666nrenuu@85.13.129.106
DTSTAMP:20260420T095738Z
DESCRIPTION:
DTSTART;TZID=Europe/Berlin:20181028T123000
DTEND;TZID=Europe/Berlin:20181028T141500
LOCATION:
SUMMARY:18/19 D-Jun. VL: SV Wacker 04 Bad Salzungen D - SG Effelder/Schalka
 u D
END:VEVENT
BEGIN:VEVENT
UID:20260420T115738CEST-0670GFoi9v@85.13.129.106
DTSTAMP:20260420T095738Z
DESCRIPTION:
DTSTART;TZID=Europe/Berlin:20181103T103000
DTEND;TZID=Europe/Berlin:20181103T121500
LOCATION:
SUMMARY:18/19 D-Jun. VL: 1. Suhler SV 06 D - SV Wacker 04 Bad Salzungen D
END:VEVENT
BEGIN:VEVENT
UID:20260420T115738CEST-0674soJCGN@85.13.129.106
DTSTAMP:20260420T095738Z
DESCRIPTION:
DTSTART;TZID=Europe/Berlin:20181111T103000
DTEND;TZID=Europe/Berlin:20181111T121500
LOCATION:
SUMMARY:18/19 D-Jun. VL: SV Wacker 04 Bad Salzungen D - spielfrei
END:VEVENT
BEGIN:VEVENT
UID:20260420T115738CEST-06792IscSf@85.13.129.106
DTSTAMP:20260420T095738Z
DESCRIPTION:
DTSTART;TZID=Europe/Berlin:20181117T103000
DTEND;TZID=Europe/Berlin:20181117T121500
LOCATION:
SUMMARY:18/19 D-Jun. VL: FSV Ulstertal Geisa 1866 D - SV Wacker 04 Bad Salz
 ungen D
END:VEVENT
BEGIN:VEVENT
UID:20260420T115738CEST-0683oCo2VE@85.13.129.106
DTSTAMP:20260420T095738Z
DESCRIPTION:
DTSTART;TZID=Europe/Berlin:20181125T110000
DTEND;TZID=Europe/Berlin:20181125T124500
LOCATION:
SUMMARY:18/19 D-Jun. VL: FSV Martinroda D - SV Wacker 04 Bad Salzungen D
END:VEVENT
BEGIN:VEVENT
UID:20260420T115738CEST-06884jnU10@85.13.129.106
DTSTAMP:20260420T095738Z
DESCRIPTION:
DTSTART;TZID=Europe/Berlin:20190223T103000
DTEND;TZID=Europe/Berlin:20190223T121500
LOCATION:
SUMMARY:18/19 D-Jun. VL: 1. FC Sonneberg 04 D - SV Wacker 04 Bad Salzungen 
 D
END:VEVENT
BEGIN:VEVENT
UID:20260420T115738CEST-0692wBCwbT@85.13.129.106
DTSTAMP:20260420T095738Z
DESCRIPTION:
DTSTART;TZID=Europe/Berlin:20190302T103000
DTEND;TZID=Europe/Berlin:20190302T121500
LOCATION:
SUMMARY:18/19 D-Jun. VL: SV Wacker 04 Bad Salzungen D - SG SpG Helba D
END:VEVENT
BEGIN:VEVENT
UID:20260420T115738CEST-0698F8zVpJ@85.13.129.106
DTSTAMP:20260420T095738Z
DESCRIPTION:
DTSTART;TZID=Europe/Berlin:20190330T103000
DTEND;TZID=Europe/Berlin:20190330T121500
LOCATION:
SUMMARY:18/19 D-Jun. VL: SG Effelder/Schalkau D - SV Wacker 04 Bad Salzunge
 n D
END:VEVENT
BEGIN:VEVENT
UID:20260420T115738CEST-0703SlwuvC@85.13.129.106
DTSTAMP:20260420T095738Z
DESCRIPTION:
DTSTART;TZID=Europe/Berlin:20190317T110000
DTEND;TZID=Europe/Berlin:20190317T124500
LOCATION:
SUMMARY:18/19 D-Jun. VL: SV Wacker 04 Bad Salzungen D - 1. Suhler SV 06 D
END:VEVENT
BEGIN:VEVENT
UID:20260420T115738CEST-0707fxoU2b@85.13.129.106
DTSTAMP:20260420T095738Z
DESCRIPTION:
DTSTART;TZID=Europe/Berlin:20190331T113000
DTEND;TZID=Europe/Berlin:20190331T131500
LOCATION:
SUMMARY:18/19 D-Jun. VL: spielfrei - SV Wacker 04 Bad Salzungen D
END:VEVENT
BEGIN:VEVENT
UID:20260420T115738CEST-0712zebzvH@85.13.129.106
DTSTAMP:20260420T095738Z
DESCRIPTION:
DTSTART;TZID=Europe/Berlin:20190406T103000
DTEND;TZID=Europe/Berlin:20190406T121500
LOCATION:
SUMMARY:18/19 D-Jun. VL: SV Wacker 04 Bad Salzungen D - FSV Ulstertal Geisa
  1866 D
END:VEVENT
BEGIN:VEVENT
UID:20260420T115738CEST-07161OHI1D@85.13.129.106
DTSTAMP:20260420T095738Z
DESCRIPTION:
DTSTART;TZID=Europe/Berlin:20190512T130000
DTEND;TZID=Europe/Berlin:20190512T144500
LOCATION:
SUMMARY:18/19 D-Jun. VL: SV Wacker 04 Bad Salzungen D - FSV Martinroda D
END:VEVENT
BEGIN:VEVENT
UID:20260420T115738CEST-0721CkIenU@85.13.129.106
DTSTAMP:20260420T095738Z
DESCRIPTION:
DTSTART;TZID=Europe/Berlin:20190518T103000
DTEND;TZID=Europe/Berlin:20190518T121500
LOCATION:
SUMMARY:18/19 D-Jun. VL: SV Wacker 04 Bad Salzungen D - 1. FC Sonneberg 04 
 D
END:VEVENT
BEGIN:VEVENT
UID:20260420T115738CEST-07268JG7Vx@85.13.129.106
DTSTAMP:20260420T095738Z
DESCRIPTION:
DTSTART;TZID=Europe/Berlin:20190525T103000
DTEND;TZID=Europe/Berlin:20190525T121500
LOCATION:
SUMMARY:18/19 D-Jun. VL: SG SpG Helba D - SV Wacker 04 Bad Salzungen D
END:VEVENT
BEGIN:VEVENT
UID:20260420T115738CEST-0730hvBet2@85.13.129.106
DTSTAMP:20260420T095738Z
DESCRIPTION:
DTSTART;TZID=Europe/Berlin:20190601T103000
DTEND;TZID=Europe/Berlin:20190601T121500
LOCATION:
SUMMARY:18/19 D-Jun. VL: SV Wacker 04 Bad Salzungen D - SG Effelder/Schalka
 u D
END:VEVENT
END:VCALENDAR
