BEGIN:VCALENDAR
VERSION:2.0
PRODID:-//85.13.129.106//NONSGML kigkonsult.se iCalcreator 2.10.23//
BEGIN:VEVENT
UID:20260425T030701CEST-8373L3tdUV@85.13.129.106
DTSTAMP:20260425T010701Z
DESCRIPTION:
DTSTART;TZID=Europe/Berlin:20170716T150000
DTEND;TZID=Europe/Berlin:20170716T164500
LOCATION:
SUMMARY:17/18 Herren Kreispokal: SG Haselbach/ Hasenthal - SG Heinersdorf/N
 euenbau
END:VEVENT
BEGIN:VEVENT
UID:20260425T030701CEST-83815zUdFF@85.13.129.106
DTSTAMP:20260425T010701Z
DESCRIPTION:
DTSTART;TZID=Europe/Berlin:20170730T150000
DTEND;TZID=Europe/Berlin:20170730T164500
LOCATION:
SUMMARY:17/18 Herren Kreispokal: SG Haselbach/ Hasenthal - SV 03 Eisfeld
END:VEVENT
END:VCALENDAR
