BEGIN:VCALENDAR
VERSION:2.0
PRODID:-//85.13.129.106//NONSGML kigkonsult.se iCalcreator 2.10.23//
BEGIN:VEVENT
UID:20260420T201401CEST-2611xVBWd5@85.13.129.106
DTSTAMP:20260420T181401Z
DESCRIPTION:
DTSTART;TZID=Europe/Berlin:20160918T103000
DTEND;TZID=Europe/Berlin:20160918T104000
LOCATION:
SUMMARY:16/17 G-Jun. KL Ost: SV 08 Steinach G - SC 06 Oberlind G
END:VEVENT
BEGIN:VEVENT
UID:20260420T201401CEST-2616Txonrb@85.13.129.106
DTSTAMP:20260420T181401Z
DESCRIPTION:
DTSTART;TZID=Europe/Berlin:20160918T110600
DTEND;TZID=Europe/Berlin:20160918T111600
LOCATION:
SUMMARY:16/17 G-Jun. KL Ost: 1. FC Sonneberg 04 G - SC 06 Oberlind G
END:VEVENT
BEGIN:VEVENT
UID:20260420T201401CEST-2620h7wBxg@85.13.129.106
DTSTAMP:20260420T181401Z
DESCRIPTION:
DTSTART;TZID=Europe/Berlin:20161002T110000
DTEND;TZID=Europe/Berlin:20161002T111000
LOCATION:
SUMMARY:16/17 G-Jun. KL Ost: SV Falke Sachsenbrunn G - SC 06 Oberlind G
END:VEVENT
BEGIN:VEVENT
UID:20260420T201401CEST-2624pcBXdV@85.13.129.106
DTSTAMP:20260420T181401Z
DESCRIPTION:
DTSTART;TZID=Europe/Berlin:20161002T111200
DTEND;TZID=Europe/Berlin:20161002T112200
LOCATION:
SUMMARY:16/17 G-Jun. KL Ost: SC 06 Oberlind G - FC-BW Schalkau G
END:VEVENT
BEGIN:VEVENT
UID:20260420T201401CEST-2629owWD7c@85.13.129.106
DTSTAMP:20260420T181401Z
DESCRIPTION:
DTSTART;TZID=Europe/Berlin:20161002T091200
DTEND;TZID=Europe/Berlin:20161002T092200
LOCATION:
SUMMARY:16/17 G-Jun. KL Ost: SC 06 Oberlind G - FC-BW Schalkau G
END:VEVENT
BEGIN:VEVENT
UID:20260420T201401CEST-2633SG3L5F@85.13.129.106
DTSTAMP:20260420T181401Z
DESCRIPTION:
DTSTART;TZID=Europe/Berlin:20161002T093600
DTEND;TZID=Europe/Berlin:20161002T094600
LOCATION:
SUMMARY:16/17 G-Jun. KL Ost: SV Falke Sachsenbrunn G - SC 06 Oberlind G
END:VEVENT
BEGIN:VEVENT
UID:20260420T201401CEST-2637nbx3MO@85.13.129.106
DTSTAMP:20260420T181401Z
DESCRIPTION:
DTSTART;TZID=Europe/Berlin:20161002T100000
DTEND;TZID=Europe/Berlin:20161002T101000
LOCATION:
SUMMARY:16/17 G-Jun. KL Ost: SV 08 Steinach G - SC 06 Oberlind G
END:VEVENT
BEGIN:VEVENT
UID:20260420T201401CEST-2642mWHiUe@85.13.129.106
DTSTAMP:20260420T181401Z
DESCRIPTION:
DTSTART;TZID=Europe/Berlin:20161002T103600
DTEND;TZID=Europe/Berlin:20161002T104600
LOCATION:
SUMMARY:16/17 G-Jun. KL Ost: 1. FC Sonneberg 04 G - SC 06 Oberlind G
END:VEVENT
BEGIN:VEVENT
UID:20260420T201401CEST-2646nVKRuT@85.13.129.106
DTSTAMP:20260420T181401Z
DESCRIPTION:
DTSTART;TZID=Europe/Berlin:20161023T094200
DTEND;TZID=Europe/Berlin:20161023T095200
LOCATION:
SUMMARY:16/17 G-Jun. KL Ost: SC 06 Oberlind G - FC-BW Schalkau G
END:VEVENT
BEGIN:VEVENT
UID:20260420T201401CEST-26506ZbUUT@85.13.129.106
DTSTAMP:20260420T181401Z
DESCRIPTION:
DTSTART;TZID=Europe/Berlin:20161023T100600
DTEND;TZID=Europe/Berlin:20161023T101600
LOCATION:
SUMMARY:16/17 G-Jun. KL Ost: SV Falke Sachsenbrunn G - SC 06 Oberlind G
END:VEVENT
BEGIN:VEVENT
UID:20260420T201401CEST-2655xAVoEu@85.13.129.106
DTSTAMP:20260420T181401Z
DESCRIPTION:
DTSTART;TZID=Europe/Berlin:20161023T103000
DTEND;TZID=Europe/Berlin:20161023T104000
LOCATION:
SUMMARY:16/17 G-Jun. KL Ost: SV 08 Steinach G - SC 06 Oberlind G
END:VEVENT
BEGIN:VEVENT
UID:20260420T201401CEST-2659WwzPkE@85.13.129.106
DTSTAMP:20260420T181401Z
DESCRIPTION:
DTSTART;TZID=Europe/Berlin:20161023T110600
DTEND;TZID=Europe/Berlin:20161023T111600
LOCATION:
SUMMARY:16/17 G-Jun. KL Ost: 1. FC Sonneberg 04 G - SC 06 Oberlind G
END:VEVENT
END:VCALENDAR
