BEGIN:VCALENDAR
VERSION:2.0
PRODID:-//85.13.129.106//NONSGML kigkonsult.se iCalcreator 2.10.23//
BEGIN:VEVENT
UID:20260422T142132CEST-1871USPci7@85.13.129.106
DTSTAMP:20260422T122132Z
DESCRIPTION:
DTSTART;TZID=Europe/Berlin:20160717T150000
DTEND;TZID=Europe/Berlin:20160717T164500
LOCATION:
SUMMARY:16/17 Herren Kreispokal: SG Haselbach/ Hasenthal - SG Gompertshause
 n/Hellingen II
END:VEVENT
END:VCALENDAR
