BEGIN:VCALENDAR
VERSION:2.0
PRODID:-//85.13.129.106//NONSGML kigkonsult.se iCalcreator 2.10.23//
BEGIN:VEVENT
UID:20260422T120001CEST-0101E9kvL9@85.13.129.106
DTSTAMP:20260422T100001Z
DESCRIPTION:
DTSTART;TZID=Europe/Berlin:20131012T103000
DTEND;TZID=Europe/Berlin:20131012T121500
LOCATION:
SUMMARY:13/14 D-Jun. KOL: FSV 06 Eintr. Hildburghausen D - SG Gleichamberg 
 D
END:VEVENT
BEGIN:VEVENT
UID:20260422T120001CEST-0105wVOjbm@85.13.129.106
DTSTAMP:20260422T100001Z
DESCRIPTION:
DTSTART;TZID=Europe/Berlin:20131103T103000
DTEND;TZID=Europe/Berlin:20131103T121500
LOCATION:
SUMMARY:13/14 D-Jun. KOL: Erlauer SV Grün-Weiß D - FSV 06 Eintr. Hildburgha
 usen D
END:VEVENT
BEGIN:VEVENT
UID:20260422T120001CEST-0110gkTZio@85.13.129.106
DTSTAMP:20260422T100001Z
DESCRIPTION:
DTSTART;TZID=Europe/Berlin:20131110T103000
DTEND;TZID=Europe/Berlin:20131110T121500
LOCATION:
SUMMARY:13/14 D-Jun. KOL: FSV 06 Eintr. Hildburghausen D - SV Eintracht Obe
 rland D
END:VEVENT
BEGIN:VEVENT
UID:20260422T120001CEST-01146VUJcs@85.13.129.106
DTSTAMP:20260422T100001Z
DESCRIPTION:
DTSTART;TZID=Europe/Berlin:20131117T103000
DTEND;TZID=Europe/Berlin:20131117T121500
LOCATION:
SUMMARY:13/14 D-Jun. KOL: TSV 1908 Gompertshausen D - FSV 06 Eintr. Hildbur
 ghausen D
END:VEVENT
BEGIN:VEVENT
UID:20260422T120001CEST-0118kUjuWR@85.13.129.106
DTSTAMP:20260422T100001Z
DESCRIPTION:
DTSTART;TZID=Europe/Berlin:20140404T173000
DTEND;TZID=Europe/Berlin:20140404T191500
LOCATION:
SUMMARY:13/14 D-Jun. KOL: SG 1951 Sonneberg D - FSV 06 Eintr. Hildburghause
 n D
END:VEVENT
BEGIN:VEVENT
UID:20260422T120001CEST-0123Iu2GKX@85.13.129.106
DTSTAMP:20260422T100001Z
DESCRIPTION:
DTSTART;TZID=Europe/Berlin:20140406T103000
DTEND;TZID=Europe/Berlin:20140406T121500
LOCATION:
SUMMARY:13/14 D-Jun. KOL: FSV 06 Eintr. Hildburghausen D - TSV Germ. Sonneb
 erg West D2
END:VEVENT
BEGIN:VEVENT
UID:20260422T120001CEST-0127rFn4jz@85.13.129.106
DTSTAMP:20260422T100001Z
DESCRIPTION:Schalkau
DTSTART;TZID=Europe/Berlin:20140413T103000
DTEND;TZID=Europe/Berlin:20140413T121500
LOCATION:Katzberger Straße 6\n96528 Schalkau\, 96528 Schalkau
SUMMARY:13/14 D-Jun. KOL: FC-BW Schalkau D - FSV 06 Eintr. Hildburghausen D
END:VEVENT
BEGIN:VEVENT
UID:20260422T120001CEST-0131xxGcXf@85.13.129.106
DTSTAMP:20260422T100001Z
DESCRIPTION:Schalkau
DTSTART;TZID=Europe/Berlin:20140505T173000
DTEND;TZID=Europe/Berlin:20140505T191500
LOCATION:Katzberger Straße 6\n96528 Schalkau\, 96528 Schalkau
SUMMARY:13/14 D-Jun. KOL: SG Gleichamberg D - FSV 06 Eintr. Hildburghausen 
 D
END:VEVENT
BEGIN:VEVENT
UID:20260422T120001CEST-0136e9vvfA@85.13.129.106
DTSTAMP:20260422T100001Z
DESCRIPTION:Schalkau
DTSTART;TZID=Europe/Berlin:20140511T103000
DTEND;TZID=Europe/Berlin:20140511T121500
LOCATION:Katzberger Straße 6\n96528 Schalkau\, 96528 Schalkau
SUMMARY:13/14 D-Jun. KOL: FSV 06 Eintr. Hildburghausen D - Erlauer SV Grün-
 Weiß D
END:VEVENT
BEGIN:VEVENT
UID:20260422T120001CEST-0140MBO2ue@85.13.129.106
DTSTAMP:20260422T100001Z
DESCRIPTION:Schalkau
DTSTART;TZID=Europe/Berlin:20140518T140000
DTEND;TZID=Europe/Berlin:20140518T154500
LOCATION:Katzberger Straße 6\n96528 Schalkau\, 96528 Schalkau
SUMMARY:13/14 D-Jun. KOL: SV Eintracht Oberland D - FSV 06 Eintr. Hildburgh
 ausen D
END:VEVENT
BEGIN:VEVENT
UID:20260422T120001CEST-0145soXMh5@85.13.129.106
DTSTAMP:20260422T100001Z
DESCRIPTION:Schalkau
DTSTART;TZID=Europe/Berlin:20140524T103000
DTEND;TZID=Europe/Berlin:20140524T121500
LOCATION:Katzberger Straße 6\n96528 Schalkau\, 96528 Schalkau
SUMMARY:13/14 D-Jun. KOL: FSV 06 Eintr. Hildburghausen D - TSV 1908 Gompert
 shausen D
END:VEVENT
BEGIN:VEVENT
UID:20260422T120001CEST-0149XjVCsj@85.13.129.106
DTSTAMP:20260422T100001Z
DESCRIPTION:Schalkau
DTSTART;TZID=Europe/Berlin:20140530T173000
DTEND;TZID=Europe/Berlin:20140530T191500
LOCATION:Katzberger Straße 6\n96528 Schalkau\, 96528 Schalkau
SUMMARY:13/14 D-Jun. KOL: FSV 06 Eintr. Hildburghausen D - SG 1951 Sonneber
 g D
END:VEVENT
BEGIN:VEVENT
UID:20260422T120001CEST-0153aauCeU@85.13.129.106
DTSTAMP:20260422T100001Z
DESCRIPTION:Schalkau
DTSTART;TZID=Europe/Berlin:20140615T103000
DTEND;TZID=Europe/Berlin:20140615T121500
LOCATION:Katzberger Straße 6\n96528 Schalkau\, 96528 Schalkau
SUMMARY:13/14 D-Jun. KOL: TSV Germ. Sonneberg West D2 - FSV 06 Eintr. Hildb
 urghausen D
END:VEVENT
BEGIN:VEVENT
UID:20260422T120001CEST-0158Zvgc1O@85.13.129.106
DTSTAMP:20260422T100001Z
DESCRIPTION:Schalkau
DTSTART;TZID=Europe/Berlin:20140617T173000
DTEND;TZID=Europe/Berlin:20140617T191500
LOCATION:Katzberger Straße 6\n96528 Schalkau\, 96528 Schalkau
SUMMARY:13/14 D-Jun. KOL: FSV 06 Eintr. Hildburghausen D - FC-BW Schalkau D
END:VEVENT
END:VCALENDAR
