BEGIN:VCALENDAR
VERSION:2.0
PRODID:-//85.13.129.106//NONSGML kigkonsult.se iCalcreator 2.10.23//
BEGIN:VEVENT
UID:20260423T021655CEST-4100BtaUdw@85.13.129.106
DTSTAMP:20260423T001655Z
DESCRIPTION:
DTSTART;TZID=Europe/Berlin:20150830T103000
DTEND;TZID=Europe/Berlin:20150830T121500
LOCATION:
SUMMARY:15/16 C-Jun. TFV-Pokal: SG FSV BW 90 Stadtilm C - FC Saalfeld C
END:VEVENT
BEGIN:VEVENT
UID:20260423T021655CEST-41052MEd6B@85.13.129.106
DTSTAMP:20260423T001655Z
DESCRIPTION:Schalkau
DTSTART;TZID=Europe/Berlin:20151114T143000
DTEND;TZID=Europe/Berlin:20151114T161500
LOCATION:Katzberger Straße 6\n96528 Schalkau\, 96528 Schalkau
SUMMARY:15/16 C-Jun. TFV-Pokal: SG Schalkau/Sbg.-W. C - FC Saalfeld C
END:VEVENT
BEGIN:VEVENT
UID:20260423T021655CEST-4109Psipzm@85.13.129.106
DTSTAMP:20260423T001655Z
DESCRIPTION:Schalkau
DTSTART;TZID=Europe/Berlin:20160410T103000
DTEND;TZID=Europe/Berlin:20160410T121500
LOCATION:Katzberger Straße 6\n96528 Schalkau\, 96528 Schalkau
SUMMARY:15/16 C-Jun. TFV-Pokal: FC Carl Zeiss Jena C2 - FC Saalfeld C
END:VEVENT
END:VCALENDAR
