BEGIN:VCALENDAR
VERSION:2.0
PRODID:-//85.13.129.106//NONSGML kigkonsult.se iCalcreator 2.10.23//
BEGIN:VEVENT
UID:20260421T190841CEST-8025u8oijJ@85.13.129.106
DTSTAMP:20260421T170841Z
DESCRIPTION:
DTSTART;TZID=Europe/Amsterdam:20130918T180000
DTEND;TZID=Europe/Amsterdam:20130918T194500
LOCATION:
SUMMARY:13/14 D-Jun. Pokal: Freilos - FSV 06 Eintr. Hildburghausen D
END:VEVENT
BEGIN:VEVENT
UID:20260421T190841CEST-8030EKUe1H@85.13.129.106
DTSTAMP:20260421T170841Z
DESCRIPTION:
DTSTART;TZID=Europe/Amsterdam:20131004T170000
DTEND;TZID=Europe/Amsterdam:20131004T184500
LOCATION:
SUMMARY:13/14 D-Jun. Pokal: SV 03 Eisfeld D - FSV 06 Eintr. Hildburghausen 
 D
END:VEVENT
BEGIN:VEVENT
UID:20260421T190841CEST-8034ukPT9D@85.13.129.106
DTSTAMP:20260421T170841Z
DESCRIPTION:
DTSTART;TZID=Europe/Amsterdam:20140416T173000
DTEND;TZID=Europe/Amsterdam:20140416T191500
LOCATION:
SUMMARY:13/14 D-Jun. Pokal: SV EK Veilsdorf D - FSV 06 Eintr. Hildburghause
 n D
END:VEVENT
BEGIN:VEVENT
UID:20260421T190841CEST-803816IL6s@85.13.129.106
DTSTAMP:20260421T170841Z
DESCRIPTION:
DTSTART;TZID=Europe/Amsterdam:20140514T180000
DTEND;TZID=Europe/Amsterdam:20140514T194500
LOCATION:
SUMMARY:13/14 D-Jun. Pokal: FSV 06 Eintr. Hildburghausen D - SC 07 Schleusi
 ngen D
END:VEVENT
BEGIN:VEVENT
UID:20260421T190841CEST-80439lH9ZE@85.13.129.106
DTSTAMP:20260421T170841Z
DESCRIPTION:Schalkau
DTSTART;TZID=Europe/Amsterdam:20140609T133000
DTEND;TZID=Europe/Amsterdam:20140609T151500
LOCATION:Katzberger Straße 6\n96528 Schalkau\, 96528 Schalkau
SUMMARY:13/14 D-Jun. Pokal: FC-BW Schalkau D - FSV 06 Eintr. Hildburghausen
  D
END:VEVENT
END:VCALENDAR
