BEGIN:VCALENDAR
VERSION:2.0
PRODID:-//85.13.129.106//NONSGML kigkonsult.se iCalcreator 2.10.23//
BEGIN:VEVENT
UID:20260421T091123CEST-334870sSSU@85.13.129.106
DTSTAMP:20260421T071123Z
DESCRIPTION:
DTSTART;TZID=Europe/Berlin:20180811T103000
DTEND;TZID=Europe/Berlin:20180811T111500
LOCATION:
SUMMARY:18/19 D-Jun. Landespokal: FSV Schleiz D - SV Jena-Zwätzen D
END:VEVENT
END:VCALENDAR
