BEGIN:VCALENDAR
VERSION:2.0
PRODID:-//85.13.129.106//NONSGML kigkonsult.se iCalcreator 2.10.23//
BEGIN:VEVENT
UID:20260421T081428CEST-2987kuNXBD@85.13.129.106
DTSTAMP:20260421T061428Z
DESCRIPTION:
DTSTART;TZID=Europe/Berlin:20180729T150000
DTEND;TZID=Europe/Berlin:20180729T164500
LOCATION:
SUMMARY:18/19 Herren Kreispokal: SG Eishausen/Streufdorf - SV Eintracht Hel
 dburg
END:VEVENT
BEGIN:VEVENT
UID:20260421T081428CEST-29929oSo67@85.13.129.106
DTSTAMP:20260421T061428Z
DESCRIPTION:
DTSTART;TZID=Europe/Berlin:20181003T150000
DTEND;TZID=Europe/Berlin:20181003T164500
LOCATION:
SUMMARY:18/19 Herren Kreispokal: SG 1. FC Sonneberg/Judenbach II - SV Eintr
 acht Heldburg
END:VEVENT
BEGIN:VEVENT
UID:20260421T081428CEST-2996wOR5er@85.13.129.106
DTSTAMP:20260421T061428Z
DESCRIPTION:
DTSTART;TZID=Europe/Berlin:20181117T133000
DTEND;TZID=Europe/Berlin:20181117T151500
LOCATION:
SUMMARY:18/19 Herren Kreispokal: SV Eintracht Heldburg - SC 09 Effelder
END:VEVENT
END:VCALENDAR
