BEGIN:VCALENDAR
VERSION:2.0
PRODID:-//85.13.129.106//NONSGML kigkonsult.se iCalcreator 2.10.23//
BEGIN:VEVENT
UID:20260421T114051CEST-9271XbVt9m@85.13.129.106
DTSTAMP:20260421T094051Z
DESCRIPTION:
DTSTART;TZID=Europe/Berlin:20170820T130000
DTEND;TZID=Europe/Berlin:20170820T144500
LOCATION:
SUMMARY:17/18 Herren 2.KK-O: SV Rennsteig Ernstthal - FC-BW Schalkau II
END:VEVENT
BEGIN:VEVENT
UID:20260421T114051CEST-9276rocDH0@85.13.129.106
DTSTAMP:20260421T094051Z
DESCRIPTION:
DTSTART;TZID=Europe/Berlin:20170812T130000
DTEND;TZID=Europe/Berlin:20170812T144500
LOCATION:
SUMMARY:17/18 Herren 2.KK-O: 1. FC Köppelsdorf II - SV Rennsteig Ernstthal
END:VEVENT
BEGIN:VEVENT
UID:20260421T114051CEST-92800VEo6M@85.13.129.106
DTSTAMP:20260421T094051Z
DESCRIPTION:
DTSTART;TZID=Europe/Berlin:20170806T160000
DTEND;TZID=Europe/Berlin:20170806T174500
LOCATION:
SUMMARY:17/18 Herren 2.KK-O: SG Heinersdorf/Neuenbau - SV Rennsteig Ernstth
 al
END:VEVENT
BEGIN:VEVENT
UID:20260421T114051CEST-9284WS3m9c@85.13.129.106
DTSTAMP:20260421T094051Z
DESCRIPTION:
DTSTART;TZID=Europe/Berlin:20170910T130000
DTEND;TZID=Europe/Berlin:20170910T144500
LOCATION:
SUMMARY:17/18 Herren 2.KK-O: SV Iso. Neuhaus Schierschnitz II - SV Rennstei
 g Ernstthal
END:VEVENT
BEGIN:VEVENT
UID:20260421T114051CEST-9289Fzrrcc@85.13.129.106
DTSTAMP:20260421T094051Z
DESCRIPTION:
DTSTART;TZID=Europe/Berlin:20170917T150000
DTEND;TZID=Europe/Berlin:20170917T164500
LOCATION:
SUMMARY:17/18 Herren 2.KK-O: SV Rennsteig Ernstthal - SG Lauscha/Neuhaus II
END:VEVENT
BEGIN:VEVENT
UID:20260421T114051CEST-92931az3gR@85.13.129.106
DTSTAMP:20260421T094051Z
DESCRIPTION:
DTSTART;TZID=Europe/Berlin:20170923T170000
DTEND;TZID=Europe/Berlin:20170923T184500
LOCATION:
SUMMARY:17/18 Herren 2.KK-O: SG SV 08 Steinach III - SV Rennsteig Ernstthal
END:VEVENT
BEGIN:VEVENT
UID:20260421T114051CEST-9297X4eHB8@85.13.129.106
DTSTAMP:20260421T094051Z
DESCRIPTION:
DTSTART;TZID=Europe/Berlin:20171008T150000
DTEND;TZID=Europe/Berlin:20171008T164500
LOCATION:
SUMMARY:17/18 Herren 2.KK-O: SV Rennsteig Ernstthal - SG Haselbach/ Hasenth
 al
END:VEVENT
BEGIN:VEVENT
UID:20260421T114051CEST-9302ZfZz7u@85.13.129.106
DTSTAMP:20260421T094051Z
DESCRIPTION:
DTSTART;TZID=Europe/Berlin:20171022T150000
DTEND;TZID=Europe/Berlin:20171022T164500
LOCATION:
SUMMARY:17/18 Herren 2.KK-O: SV Rottmar/Gefell - SV Rennsteig Ernstthal
END:VEVENT
BEGIN:VEVENT
UID:20260421T114051CEST-9306G1Mg83@85.13.129.106
DTSTAMP:20260421T094051Z
DESCRIPTION:Schalkau
DTSTART;TZID=Europe/Berlin:20180602T160000
DTEND;TZID=Europe/Berlin:20180602T174500
LOCATION:Katzberger Straße 6\n96528 Schalkau\, 96528 Schalkau
SUMMARY:17/18 Herren 2.KK-O: FC-BW Schalkau II - SV Rennsteig Ernstthal
END:VEVENT
BEGIN:VEVENT
UID:20260421T114051CEST-9310aNnCax@85.13.129.106
DTSTAMP:20260421T094051Z
DESCRIPTION:Schalkau
DTSTART;TZID=Europe/Berlin:20180521T160000
DTEND;TZID=Europe/Berlin:20180521T174500
LOCATION:Katzberger Straße 6\n96528 Schalkau\, 96528 Schalkau
SUMMARY:17/18 Herren 2.KK-O: SV Rennsteig Ernstthal - 1. FC Köppelsdorf II
END:VEVENT
BEGIN:VEVENT
UID:20260421T114051CEST-9315U3iisV@85.13.129.106
DTSTAMP:20260421T094051Z
DESCRIPTION:Schalkau
DTSTART;TZID=Europe/Berlin:20180408T150000
DTEND;TZID=Europe/Berlin:20180408T164500
LOCATION:Katzberger Straße 6\n96528 Schalkau\, 96528 Schalkau
SUMMARY:17/18 Herren 2.KK-O: SV Rennsteig Ernstthal - SG Heinersdorf/Neuenb
 au
END:VEVENT
BEGIN:VEVENT
UID:20260421T114051CEST-9321Zxl50p@85.13.129.106
DTSTAMP:20260421T094051Z
DESCRIPTION:Schalkau
DTSTART;TZID=Europe/Berlin:20180415T150000
DTEND;TZID=Europe/Berlin:20180415T164500
LOCATION:Katzberger Straße 6\n96528 Schalkau\, 96528 Schalkau
SUMMARY:17/18 Herren 2.KK-O: SV Rennsteig Ernstthal - SV Iso. Neuhaus Schie
 rschnitz II
END:VEVENT
BEGIN:VEVENT
UID:20260421T114051CEST-9326r1pHZA@85.13.129.106
DTSTAMP:20260421T094051Z
DESCRIPTION:Schalkau
DTSTART;TZID=Europe/Berlin:20180422T150000
DTEND;TZID=Europe/Berlin:20180422T164500
LOCATION:Katzberger Straße 6\n96528 Schalkau\, 96528 Schalkau
SUMMARY:17/18 Herren 2.KK-O: SG Lauscha/Neuhaus II - SV Rennsteig Ernstthal
END:VEVENT
BEGIN:VEVENT
UID:20260421T114051CEST-9331XzeTou@85.13.129.106
DTSTAMP:20260421T094051Z
DESCRIPTION:Schalkau
DTSTART;TZID=Europe/Berlin:20180506T150000
DTEND;TZID=Europe/Berlin:20180506T164500
LOCATION:Katzberger Straße 6\n96528 Schalkau\, 96528 Schalkau
SUMMARY:17/18 Herren 2.KK-O: SV Rennsteig Ernstthal - SG SV 08 Steinach III
END:VEVENT
BEGIN:VEVENT
UID:20260421T114051CEST-93357N1TJt@85.13.129.106
DTSTAMP:20260421T094051Z
DESCRIPTION:Schalkau
DTSTART;TZID=Europe/Berlin:20180513T150000
DTEND;TZID=Europe/Berlin:20180513T164500
LOCATION:Katzberger Straße 6\n96528 Schalkau\, 96528 Schalkau
SUMMARY:17/18 Herren 2.KK-O: SG Haselbach/ Hasenthal - SV Rennsteig Ernstth
 al
END:VEVENT
BEGIN:VEVENT
UID:20260421T114051CEST-9339R0hPBX@85.13.129.106
DTSTAMP:20260421T094051Z
DESCRIPTION:Schalkau
DTSTART;TZID=Europe/Berlin:20180527T150000
DTEND;TZID=Europe/Berlin:20180527T164500
LOCATION:Katzberger Straße 6\n96528 Schalkau\, 96528 Schalkau
SUMMARY:17/18 Herren 2.KK-O: SV Rennsteig Ernstthal - SV Rottmar/Gefell
END:VEVENT
END:VCALENDAR
