BEGIN:VCALENDAR
VERSION:2.0
PRODID:-//85.13.129.106//NONSGML kigkonsult.se iCalcreator 2.10.23//
BEGIN:VEVENT
UID:20260422T195053CEST-7551rPptJ0@85.13.129.106
DTSTAMP:20260422T175053Z
DESCRIPTION:
DTSTART;TZID=Europe/Berlin:20170730T123000
DTEND;TZID=Europe/Berlin:20170730T141500
LOCATION:
SUMMARY:17/18 Herren Kreispokal: SG Bedheim/Stressenhausen II - SG Marisfel
 d/Oberstadt
END:VEVENT
BEGIN:VEVENT
UID:20260422T195053CEST-7556Jr2uTt@85.13.129.106
DTSTAMP:20260422T175053Z
DESCRIPTION:
DTSTART;TZID=Europe/Berlin:20170930T140000
DTEND;TZID=Europe/Berlin:20170930T154500
LOCATION:
SUMMARY:17/18 Herren Kreispokal: SG SV 08 Steinach II - SG Marisfeld/Oberst
 adt
END:VEVENT
END:VCALENDAR
