BEGIN:VCALENDAR
VERSION:2.0
PRODID:-//85.13.129.106//NONSGML kigkonsult.se iCalcreator 2.10.23//
BEGIN:VEVENT
UID:20260421T081418CEST-3983kR9DoZ@85.13.129.106
DTSTAMP:20260421T061418Z
DESCRIPTION:
DTSTART;TZID=Europe/Berlin:20170729T160000
DTEND;TZID=Europe/Berlin:20170729T174500
LOCATION:
SUMMARY:17/18 Herren Kreispokal: SV 08 Westhausen II - SV 07 Häselrieth
END:VEVENT
END:VCALENDAR
