BEGIN:VCALENDAR
VERSION:2.0
PRODID:-//85.13.129.106//NONSGML kigkonsult.se iCalcreator 2.10.23//
BEGIN:VEVENT
UID:20260422T030559CEST-2366VjsSxK@85.13.129.106
DTSTAMP:20260422T010559Z
DESCRIPTION:
DTSTART;TZID=Europe/Berlin:20160724T160000
DTEND;TZID=Europe/Berlin:20160724T174500
LOCATION:
SUMMARY:16/17 Herren Kreispokal: TSV Blau-Weiss Bedheim - SV 08 Westhausen
END:VEVENT
BEGIN:VEVENT
UID:20260422T030559CEST-237169Tv1B@85.13.129.106
DTSTAMP:20260422T010559Z
DESCRIPTION:
DTSTART;TZID=Europe/Berlin:20160805T183000
DTEND;TZID=Europe/Berlin:20160805T201500
LOCATION:
SUMMARY:16/17 Herren Kreispokal: SV EK Veilsdorf - SV 08 Westhausen
END:VEVENT
END:VCALENDAR
