BEGIN:VCALENDAR
VERSION:2.0
PRODID:-//85.13.129.106//NONSGML kigkonsult.se iCalcreator 2.10.23//
BEGIN:VEVENT
UID:20260422T202345CEST-4234U26HRR@85.13.129.106
DTSTAMP:20260422T182345Z
DESCRIPTION:
DTSTART;TZID=Europe/Berlin:20150802T150000
DTEND;TZID=Europe/Berlin:20150802T164500
LOCATION:
SUMMARY:15/16 Herren 1.KK-O: SG SV 08 Steinach II - TSV Wacker Steinheid
END:VEVENT
BEGIN:VEVENT
UID:20260422T202345CEST-4238PE6UJB@85.13.129.106
DTSTAMP:20260422T182345Z
DESCRIPTION:
DTSTART;TZID=Europe/Berlin:20150809T140000
DTEND;TZID=Europe/Berlin:20150809T154500
LOCATION:
SUMMARY:15/16 Herren 1.KK-O: TSV Wacker Steinheid - SV Eintracht Oberland I
 I
END:VEVENT
BEGIN:VEVENT
UID:20260422T202345CEST-4243cMO9wW@85.13.129.106
DTSTAMP:20260422T182345Z
DESCRIPTION:
DTSTART;TZID=Europe/Berlin:20150816T150000
DTEND;TZID=Europe/Berlin:20150816T164500
LOCATION:
SUMMARY:15/16 Herren 1.KK-O: SV Empor Heßberg - TSV Wacker Steinheid
END:VEVENT
BEGIN:VEVENT
UID:20260422T202345CEST-4247jUozV9@85.13.129.106
DTSTAMP:20260422T182345Z
DESCRIPTION:
DTSTART;TZID=Europe/Berlin:20150823T140000
DTEND;TZID=Europe/Berlin:20150823T154500
LOCATION:
SUMMARY:15/16 Herren 1.KK-O: TSV Wacker Steinheid - SV EK Veilsdorf II
END:VEVENT
BEGIN:VEVENT
UID:20260422T202345CEST-4251SxdDBG@85.13.129.106
DTSTAMP:20260422T182345Z
DESCRIPTION:
DTSTART;TZID=Europe/Berlin:20150830T130000
DTEND;TZID=Europe/Berlin:20150830T144500
LOCATION:
SUMMARY:15/16 Herren 1.KK-O: SC 09 Effelder II - TSV Wacker Steinheid
END:VEVENT
BEGIN:VEVENT
UID:20260422T202345CEST-4256mEZJgV@85.13.129.106
DTSTAMP:20260422T182345Z
DESCRIPTION:
DTSTART;TZID=Europe/Berlin:20150906T140000
DTEND;TZID=Europe/Berlin:20150906T154500
LOCATION:
SUMMARY:15/16 Herren 1.KK-O: TSV Wacker Steinheid - TSV 1894 Unterlind
END:VEVENT
BEGIN:VEVENT
UID:20260422T202345CEST-4260pjcVTO@85.13.129.106
DTSTAMP:20260422T182345Z
DESCRIPTION:
DTSTART;TZID=Europe/Berlin:20150913T150000
DTEND;TZID=Europe/Berlin:20150913T164500
LOCATION:
SUMMARY:15/16 Herren 1.KK-O: VfR Jagdshof 1931 - TSV Wacker Steinheid
END:VEVENT
BEGIN:VEVENT
UID:20260422T202345CEST-4264Z2cBUR@85.13.129.106
DTSTAMP:20260422T182345Z
DESCRIPTION:
DTSTART;TZID=Europe/Berlin:20150920T140000
DTEND;TZID=Europe/Berlin:20150920T154500
LOCATION:
SUMMARY:15/16 Herren 1.KK-O: TSV Wacker Steinheid - SV 1920 Mupperg
END:VEVENT
BEGIN:VEVENT
UID:20260422T202345CEST-4269AP22s5@85.13.129.106
DTSTAMP:20260422T182345Z
DESCRIPTION:
DTSTART;TZID=Europe/Berlin:20150927T153000
DTEND;TZID=Europe/Berlin:20150927T171500
LOCATION:
SUMMARY:15/16 Herren 1.KK-O: 1. FC Köppelsdorf - TSV Wacker Steinheid
END:VEVENT
BEGIN:VEVENT
UID:20260422T202345CEST-4273vUm8op@85.13.129.106
DTSTAMP:20260422T182345Z
DESCRIPTION:
DTSTART;TZID=Europe/Berlin:20151003T150000
DTEND;TZID=Europe/Berlin:20151003T164500
LOCATION:
SUMMARY:15/16 Herren 1.KK-O: TSV Wacker Steinheid - SG Simmersberg/Schnett
END:VEVENT
BEGIN:VEVENT
UID:20260422T202345CEST-4277oz4vKa@85.13.129.106
DTSTAMP:20260422T182345Z
DESCRIPTION:
DTSTART;TZID=Europe/Berlin:20151011T140000
DTEND;TZID=Europe/Berlin:20151011T154500
LOCATION:
SUMMARY:15/16 Herren 1.KK-O: TSV Wacker Steinheid - FC-BW Schalkau
END:VEVENT
BEGIN:VEVENT
UID:20260422T202345CEST-4281ohoSxO@85.13.129.106
DTSTAMP:20260422T182345Z
DESCRIPTION:
DTSTART;TZID=Europe/Berlin:20151018T150000
DTEND;TZID=Europe/Berlin:20151018T164500
LOCATION:
SUMMARY:15/16 Herren 1.KK-O: FSV Mengersgereuth-Hämmern - TSV Wacker Steinh
 eid
END:VEVENT
BEGIN:VEVENT
UID:20260422T202345CEST-4286ZXuLMi@85.13.129.106
DTSTAMP:20260422T182345Z
DESCRIPTION:
DTSTART;TZID=Europe/Berlin:20151025T140000
DTEND;TZID=Europe/Berlin:20151025T154500
LOCATION:
SUMMARY:15/16 Herren 1.KK-O: TSV Wacker Steinheid - SV 03 Eisfeld
END:VEVENT
BEGIN:VEVENT
UID:20260422T202345CEST-4290VEUS5d@85.13.129.106
DTSTAMP:20260422T182345Z
DESCRIPTION:
DTSTART;TZID=Europe/Berlin:20151101T143000
DTEND;TZID=Europe/Berlin:20151101T161500
LOCATION:
SUMMARY:15/16 Herren 1.KK-O: TSV Wacker Steinheid - SG SV 08 Steinach II
END:VEVENT
BEGIN:VEVENT
UID:20260422T202345CEST-42940ghFZV@85.13.129.106
DTSTAMP:20260422T182345Z
DESCRIPTION:
DTSTART;TZID=Europe/Berlin:20160328T140000
DTEND;TZID=Europe/Berlin:20160328T154500
LOCATION:
SUMMARY:15/16 Herren 1.KK-O: SV Eintracht Oberland II - TSV Wacker Steinhei
 d
END:VEVENT
BEGIN:VEVENT
UID:20260422T202345CEST-4299B4CoLP@85.13.129.106
DTSTAMP:20260422T182345Z
DESCRIPTION:
DTSTART;TZID=Europe/Berlin:20160313T140000
DTEND;TZID=Europe/Berlin:20160313T154500
LOCATION:
SUMMARY:15/16 Herren 1.KK-O: TSV Wacker Steinheid - SV Empor Heßberg
END:VEVENT
BEGIN:VEVENT
UID:20260422T202345CEST-43037WZVn4@85.13.129.106
DTSTAMP:20260422T182345Z
DESCRIPTION:
DTSTART;TZID=Europe/Berlin:20160320T140000
DTEND;TZID=Europe/Berlin:20160320T154500
LOCATION:
SUMMARY:15/16 Herren 1.KK-O: SV EK Veilsdorf II - TSV Wacker Steinheid
END:VEVENT
BEGIN:VEVENT
UID:20260422T202345CEST-4308aeIunI@85.13.129.106
DTSTAMP:20260422T182345Z
DESCRIPTION:
DTSTART;TZID=Europe/Berlin:20160403T140000
DTEND;TZID=Europe/Berlin:20160403T154500
LOCATION:
SUMMARY:15/16 Herren 1.KK-O: TSV Wacker Steinheid - SC 09 Effelder II
END:VEVENT
BEGIN:VEVENT
UID:20260422T202345CEST-43128WsUBx@85.13.129.106
DTSTAMP:20260422T182345Z
DESCRIPTION:
DTSTART;TZID=Europe/Berlin:20160410T150000
DTEND;TZID=Europe/Berlin:20160410T164500
LOCATION:
SUMMARY:15/16 Herren 1.KK-O: TSV 1894 Unterlind - TSV Wacker Steinheid
END:VEVENT
BEGIN:VEVENT
UID:20260422T202345CEST-4316UDUf7R@85.13.129.106
DTSTAMP:20260422T182345Z
DESCRIPTION:
DTSTART;TZID=Europe/Berlin:20160417T140000
DTEND;TZID=Europe/Berlin:20160417T154500
LOCATION:
SUMMARY:15/16 Herren 1.KK-O: TSV Wacker Steinheid - VfR Jagdshof 1931
END:VEVENT
BEGIN:VEVENT
UID:20260422T202345CEST-4321uh9Uuv@85.13.129.106
DTSTAMP:20260422T182345Z
DESCRIPTION:
DTSTART;TZID=Europe/Berlin:20160424T150000
DTEND;TZID=Europe/Berlin:20160424T164500
LOCATION:
SUMMARY:15/16 Herren 1.KK-O: SV 1920 Mupperg - TSV Wacker Steinheid
END:VEVENT
BEGIN:VEVENT
UID:20260422T202345CEST-432532A95u@85.13.129.106
DTSTAMP:20260422T182345Z
DESCRIPTION:
DTSTART;TZID=Europe/Berlin:20160501T140000
DTEND;TZID=Europe/Berlin:20160501T154500
LOCATION:
SUMMARY:15/16 Herren 1.KK-O: 1. FC Köppelsdorf - TSV Wacker Steinheid
END:VEVENT
BEGIN:VEVENT
UID:20260422T202345CEST-4329797bgu@85.13.129.106
DTSTAMP:20260422T182345Z
DESCRIPTION:
DTSTART;TZID=Europe/Berlin:20160508T140000
DTEND;TZID=Europe/Berlin:20160508T154500
LOCATION:
SUMMARY:15/16 Herren 1.KK-O: SG Simmersberg/Schnett - TSV Wacker Steinheid
END:VEVENT
BEGIN:VEVENT
UID:20260422T202345CEST-4334N0mwLr@85.13.129.106
DTSTAMP:20260422T182345Z
DESCRIPTION:Schalkau
DTSTART;TZID=Europe/Berlin:20160522T150000
DTEND;TZID=Europe/Berlin:20160522T164500
LOCATION:Katzberger Straße 6\n96528 Schalkau\, 96528 Schalkau
SUMMARY:15/16 Herren 1.KK-O: FC-BW Schalkau - TSV Wacker Steinheid
END:VEVENT
BEGIN:VEVENT
UID:20260422T202345CEST-4338TTEsw6@85.13.129.106
DTSTAMP:20260422T182345Z
DESCRIPTION:Schalkau
DTSTART;TZID=Europe/Berlin:20160529T140000
DTEND;TZID=Europe/Berlin:20160529T154500
LOCATION:Katzberger Straße 6\n96528 Schalkau\, 96528 Schalkau
SUMMARY:15/16 Herren 1.KK-O: TSV Wacker Steinheid - FSV Mengersgereuth-Hämm
 ern
END:VEVENT
BEGIN:VEVENT
UID:20260422T202345CEST-4342huuNpm@85.13.129.106
DTSTAMP:20260422T182345Z
DESCRIPTION:Schalkau
DTSTART;TZID=Europe/Berlin:20160605T140000
DTEND;TZID=Europe/Berlin:20160605T154500
LOCATION:Katzberger Straße 6\n96528 Schalkau\, 96528 Schalkau
SUMMARY:15/16 Herren 1.KK-O: SV 03 Eisfeld - TSV Wacker Steinheid
END:VEVENT
END:VCALENDAR
