BEGIN:VCALENDAR
VERSION:2.0
PRODID:-//85.13.129.106//NONSGML kigkonsult.se iCalcreator 2.10.23//
BEGIN:VEVENT
UID:20260420T013318CEST-0440Ijf4Tw@85.13.129.106
DTSTAMP:20260419T233318Z
DESCRIPTION:
DTSTART;TZID=Europe/Berlin:20140726T160000
DTEND;TZID=Europe/Berlin:20140726T174500
LOCATION:
SUMMARY:14/15 Herren Kreispokal: SV Blau-Weiß Heubisch - SV Germania Judenb
 ach
END:VEVENT
BEGIN:VEVENT
UID:20260420T013318CEST-0445Pev5vP@85.13.129.106
DTSTAMP:20260419T233318Z
DESCRIPTION:
DTSTART;TZID=Europe/Berlin:20141003T150000
DTEND;TZID=Europe/Berlin:20141003T164500
LOCATION:
SUMMARY:14/15 Herren Kreispokal: TSV 1868 Ummerstadt - SV Germania Judenbac
 h
END:VEVENT
END:VCALENDAR
