BEGIN:VCALENDAR
VERSION:2.0
PRODID:-//85.13.129.106//NONSGML kigkonsult.se iCalcreator 2.10.23//
BEGIN:VEVENT
UID:20260421T073343CEST-5004VkD4cf@85.13.129.106
DTSTAMP:20260421T053343Z
DESCRIPTION:
DTSTART;TZID=Europe/Berlin:20170723T150000
DTEND;TZID=Europe/Berlin:20170723T164500
LOCATION:
SUMMARY:17/18 Herren Kreispokal: SG Rauenstein/ Meng. Hämmern - SG Simmersb
 erg/Schnett
END:VEVENT
END:VCALENDAR
