BEGIN:VCALENDAR
VERSION:2.0
PRODID:-//85.13.129.106//NONSGML kigkonsult.se iCalcreator 2.10.23//
BEGIN:VEVENT
UID:20260419T214905CEST-6926Gs3ZlX@85.13.129.106
DTSTAMP:20260419T194905Z
DESCRIPTION:
DTSTART;TZID=Europe/Berlin:20170729T160000
DTEND;TZID=Europe/Berlin:20170729T174500
LOCATION:
SUMMARY:17/18 Herren Kreispokal: SG Eishausen/Streufdorf II - Erlauer SV Gr
 ün-Weiss II
END:VEVENT
END:VCALENDAR
