BEGIN:VCALENDAR
VERSION:2.0
PRODID:-//85.13.129.106//NONSGML kigkonsult.se iCalcreator 2.10.23//
BEGIN:VEVENT
UID:20260424T015627CEST-5651kst33c@85.13.129.106
DTSTAMP:20260423T235627Z
DESCRIPTION:
DTSTART;TZID=Europe/Berlin:20170730T150000
DTEND;TZID=Europe/Berlin:20170730T164500
LOCATION:
SUMMARY:17/18 Herren Kreispokal: SV Eintracht Heldburg II - Hainaer SV
END:VEVENT
BEGIN:VEVENT
UID:20260424T015627CEST-5656uKM35d@85.13.129.106
DTSTAMP:20260423T235627Z
DESCRIPTION:
DTSTART;TZID=Europe/Berlin:20171003T150000
DTEND;TZID=Europe/Berlin:20171003T164500
LOCATION:
SUMMARY:17/18 Herren Kreispokal: SG Eishausen/Streufdorf - Hainaer SV
END:VEVENT
BEGIN:VEVENT
UID:20260424T015627CEST-5661A8tcgB@85.13.129.106
DTSTAMP:20260423T235627Z
DESCRIPTION:
DTSTART;TZID=Europe/Berlin:20171031T150000
DTEND;TZID=Europe/Berlin:20171031T164500
LOCATION:
SUMMARY:17/18 Herren Kreispokal: 1. FC Köppelsdorf - Hainaer SV
END:VEVENT
BEGIN:VEVENT
UID:20260424T015627CEST-5665urKdGn@85.13.129.106
DTSTAMP:20260423T235627Z
DESCRIPTION:
DTSTART;TZID=Europe/Berlin:20171119T133000
DTEND;TZID=Europe/Berlin:20171119T151500
LOCATION:
SUMMARY:17/18 Herren Kreispokal: SV 08 Engertal Schleusingerneundorf - Hain
 aer SV
END:VEVENT
BEGIN:VEVENT
UID:20260424T015627CEST-5669LZfgzv@85.13.129.106
DTSTAMP:20260423T235627Z
DESCRIPTION:
DTSTART;TZID=Europe/Berlin:20180401T150000
DTEND;TZID=Europe/Berlin:20180401T164500
LOCATION:
SUMMARY:17/18 Herren Kreispokal: SG Dingsleben/St. Bernhard - Hainaer SV
END:VEVENT
BEGIN:VEVENT
UID:20260424T015627CEST-56741w77nE@85.13.129.106
DTSTAMP:20260423T235627Z
DESCRIPTION:
DTSTART;TZID=Europe/Berlin:20180501T150000
DTEND;TZID=Europe/Berlin:20180501T164500
LOCATION:
SUMMARY:17/18 Herren Kreispokal: SG Sachsenbrunn/Crock - Hainaer SV
END:VEVENT
END:VCALENDAR
