BEGIN:VCALENDAR
VERSION:2.0
PRODID:-//85.13.129.106//NONSGML kigkonsult.se iCalcreator 2.10.23//
BEGIN:VEVENT
UID:20260423T022306CEST-0161DBcv8w@85.13.129.106
DTSTAMP:20260423T002306Z
DESCRIPTION:
DTSTART;TZID=Europe/Berlin:20160828T103000
DTEND;TZID=Europe/Berlin:20160828T121500
LOCATION:
SUMMARY:16/17 E-Jun. KL Mitte: SV Falke Sachsenbrunn E - SG Schalkau/Effeld
 er E
END:VEVENT
BEGIN:VEVENT
UID:20260423T022306CEST-0166vwJE2F@85.13.129.106
DTSTAMP:20260423T002306Z
DESCRIPTION:
DTSTART;TZID=Europe/Berlin:20160902T170000
DTEND;TZID=Europe/Berlin:20160902T184500
LOCATION:
SUMMARY:16/17 E-Jun. KL Mitte: SV 03 Eisfeld E - SV Falke Sachsenbrunn E
END:VEVENT
BEGIN:VEVENT
UID:20260423T022306CEST-01713mkgn4@85.13.129.106
DTSTAMP:20260423T002306Z
DESCRIPTION:
DTSTART;TZID=Europe/Berlin:20160911T103000
DTEND;TZID=Europe/Berlin:20160911T121500
LOCATION:
SUMMARY:16/17 E-Jun. KL Mitte: SV Falke Sachsenbrunn E - SG Lauscha/Neuhaus
  E
END:VEVENT
BEGIN:VEVENT
UID:20260423T022306CEST-0175rAuwue@85.13.129.106
DTSTAMP:20260423T002306Z
DESCRIPTION:
DTSTART;TZID=Europe/Berlin:20160916T173000
DTEND;TZID=Europe/Berlin:20160916T191500
LOCATION:
SUMMARY:16/17 E-Jun. KL Mitte: SG Rauenstein/ Meng. Hämm. E - SV Falke Sach
 senbrunn E
END:VEVENT
BEGIN:VEVENT
UID:20260423T022306CEST-0179O5mZa0@85.13.129.106
DTSTAMP:20260423T002306Z
DESCRIPTION:
DTSTART;TZID=Europe/Berlin:20160925T103000
DTEND;TZID=Europe/Berlin:20160925T121500
LOCATION:
SUMMARY:16/17 E-Jun. KL Mitte: SV Falke Sachsenbrunn E - SV Edelweiß Crock 
 E
END:VEVENT
END:VCALENDAR
