BEGIN:VCALENDAR
VERSION:2.0
PRODID:-//85.13.129.106//NONSGML kigkonsult.se iCalcreator 2.10.23//
BEGIN:VEVENT
UID:20260424T055435CEST-0756veTkJg@85.13.129.106
DTSTAMP:20260424T035435Z
DESCRIPTION:
DTSTART;TZID=Europe/Berlin:20151025T103000
DTEND;TZID=Europe/Berlin:20151025T121500
LOCATION:
SUMMARY:15/16 E-Jun. 1.KKl: SV 03 Eisfeld E - SV Iso. Neuhaus Schierschnitz
  E2
END:VEVENT
BEGIN:VEVENT
UID:20260424T055435CEST-07603sjtte@85.13.129.106
DTSTAMP:20260424T035435Z
DESCRIPTION:
DTSTART;TZID=Europe/Berlin:20151031T103000
DTEND;TZID=Europe/Berlin:20151031T121500
LOCATION:
SUMMARY:15/16 E-Jun. 1.KKl: SV 07 Häselrieth E - SV 03 Eisfeld E
END:VEVENT
BEGIN:VEVENT
UID:20260424T055435CEST-0765GsrgS2@85.13.129.106
DTSTAMP:20260424T035435Z
DESCRIPTION:
DTSTART;TZID=Europe/Berlin:20160410T103000
DTEND;TZID=Europe/Berlin:20160410T121500
LOCATION:
SUMMARY:15/16 E-Jun. 1.KKl: SV 03 Eisfeld E - SG Effelder/Schalkau E
END:VEVENT
BEGIN:VEVENT
UID:20260424T055435CEST-0769e12EbW@85.13.129.106
DTSTAMP:20260424T035435Z
DESCRIPTION:
DTSTART;TZID=Europe/Berlin:20160415T173000
DTEND;TZID=Europe/Berlin:20160415T191500
LOCATION:
SUMMARY:15/16 E-Jun. 1.KKl: SV Eintracht Oberland E - SV 03 Eisfeld E
END:VEVENT
BEGIN:VEVENT
UID:20260424T055435CEST-07749fgfSI@85.13.129.106
DTSTAMP:20260424T035435Z
DESCRIPTION:
DTSTART;TZID=Europe/Berlin:20160424T103000
DTEND;TZID=Europe/Berlin:20160424T121500
LOCATION:
SUMMARY:15/16 E-Jun. 1.KKl: SG Mendhausen/Römhild E - SV 03 Eisfeld E
END:VEVENT
BEGIN:VEVENT
UID:20260424T055435CEST-0778U1i8Wj@85.13.129.106
DTSTAMP:20260424T035435Z
DESCRIPTION:
DTSTART;TZID=Europe/Berlin:20160508T093000
DTEND;TZID=Europe/Berlin:20160508T111500
LOCATION:
SUMMARY:15/16 E-Jun. 1.KKl: SV 03 Eisfeld E - SV Iso. Neuhaus Schierschnitz
  E
END:VEVENT
BEGIN:VEVENT
UID:20260424T055435CEST-0782juTNMS@85.13.129.106
DTSTAMP:20260424T035435Z
DESCRIPTION:
DTSTART;TZID=Europe/Berlin:20160520T173000
DTEND;TZID=Europe/Berlin:20160520T191500
LOCATION:
SUMMARY:15/16 E-Jun. 1.KKl: TSV Germ. Hellingen E - SV 03 Eisfeld E
END:VEVENT
BEGIN:VEVENT
UID:20260424T055435CEST-0787VW88av@85.13.129.106
DTSTAMP:20260424T035435Z
DESCRIPTION:
DTSTART;TZID=Europe/Berlin:20160527T173000
DTEND;TZID=Europe/Berlin:20160527T191500
LOCATION:
SUMMARY:15/16 E-Jun. 1.KKl: SV 03 Eisfeld E - SC 07 Schleusingen E2
END:VEVENT
BEGIN:VEVENT
UID:20260424T055435CEST-07918dEBpV@85.13.129.106
DTSTAMP:20260424T035435Z
DESCRIPTION:
DTSTART;TZID=Europe/Berlin:20160603T173000
DTEND;TZID=Europe/Berlin:20160603T191500
LOCATION:
SUMMARY:15/16 E-Jun. 1.KKl: SV Schleusegrund Schönbrunn E - SV 03 Eisfeld E
END:VEVENT
END:VCALENDAR
