BEGIN:VCALENDAR
VERSION:2.0
PRODID:-//85.13.129.106//NONSGML kigkonsult.se iCalcreator 2.10.23//
BEGIN:VEVENT
UID:20260419T230737CEST-7541vOZ4Uj@85.13.129.106
DTSTAMP:20260419T210737Z
DESCRIPTION:
DTSTART;TZID=Europe/Berlin:20120804T150000
DTEND;TZID=Europe/Berlin:20120804T164500
LOCATION:
SUMMARY:12/13 Herren 1.KK-O: TSV Wacker Steinheid - 1. FC Köppelsdorf
END:VEVENT
BEGIN:VEVENT
UID:20260419T230737CEST-75460kvFkM@85.13.129.106
DTSTAMP:20260419T210737Z
DESCRIPTION:Schalkau
DTSTART;TZID=Europe/Berlin:20120811T160000
DTEND;TZID=Europe/Berlin:20120811T174500
LOCATION:Katzberger Straße 6\n96528 Schalkau\, 96528 Schalkau
SUMMARY:12/13 Herren 1.KK-O: FC-BW Schalkau - TSV Wacker Steinheid
END:VEVENT
BEGIN:VEVENT
UID:20260419T230737CEST-7550rNeuLF@85.13.129.106
DTSTAMP:20260419T210737Z
DESCRIPTION:Schalkau
DTSTART;TZID=Europe/Berlin:20120819T150000
DTEND;TZID=Europe/Berlin:20120819T164500
LOCATION:Katzberger Straße 6\n96528 Schalkau\, 96528 Schalkau
SUMMARY:12/13 Herren 1.KK-O: TSV 1923 Neuenbau - TSV Wacker Steinheid
END:VEVENT
BEGIN:VEVENT
UID:20260419T230737CEST-7555hZWcAn@85.13.129.106
DTSTAMP:20260419T210737Z
DESCRIPTION:Schalkau
DTSTART;TZID=Europe/Berlin:20120826T150000
DTEND;TZID=Europe/Berlin:20120826T164500
LOCATION:Katzberger Straße 6\n96528 Schalkau\, 96528 Schalkau
SUMMARY:12/13 Herren 1.KK-O: TSV Wacker Steinheid - VfB Steinach
END:VEVENT
BEGIN:VEVENT
UID:20260419T230737CEST-7559eh16tP@85.13.129.106
DTSTAMP:20260419T210737Z
DESCRIPTION:Schalkau
DTSTART;TZID=Europe/Berlin:20120901T160000
DTEND;TZID=Europe/Berlin:20120901T174500
LOCATION:Katzberger Straße 6\n96528 Schalkau\, 96528 Schalkau
SUMMARY:12/13 Herren 1.KK-O: VfB Grün-Weiß 28 Fehrenbach - TSV Wacker Stein
 heid
END:VEVENT
BEGIN:VEVENT
UID:20260419T230737CEST-75634S7ubW@85.13.129.106
DTSTAMP:20260419T210737Z
DESCRIPTION:Schalkau
DTSTART;TZID=Europe/Berlin:20120908T160000
DTEND;TZID=Europe/Berlin:20120908T174500
LOCATION:Katzberger Straße 6\n96528 Schalkau\, 96528 Schalkau
SUMMARY:12/13 Herren 1.KK-O: TSV Wacker Steinheid - SV Edelweiß Crock
END:VEVENT
BEGIN:VEVENT
UID:20260419T230737CEST-7568uUsP75@85.13.129.106
DTSTAMP:20260419T210737Z
DESCRIPTION:Schalkau
DTSTART;TZID=Europe/Berlin:20120916T150000
DTEND;TZID=Europe/Berlin:20120916T164500
LOCATION:Katzberger Straße 6\n96528 Schalkau\, 96528 Schalkau
SUMMARY:12/13 Herren 1.KK-O: VfR Jagdshof 1931 - TSV Wacker Steinheid
END:VEVENT
BEGIN:VEVENT
UID:20260419T230737CEST-7572wUH65U@85.13.129.106
DTSTAMP:20260419T210737Z
DESCRIPTION:Schalkau
DTSTART;TZID=Europe/Berlin:20120923T150000
DTEND;TZID=Europe/Berlin:20120923T164500
LOCATION:Katzberger Straße 6\n96528 Schalkau\, 96528 Schalkau
SUMMARY:12/13 Herren 1.KK-O: TSV Wacker Steinheid - SV Germania Judenbach
END:VEVENT
BEGIN:VEVENT
UID:20260419T230737CEST-7576VUU6RV@85.13.129.106
DTSTAMP:20260419T210737Z
DESCRIPTION:Schalkau
DTSTART;TZID=Europe/Berlin:20120930T150000
DTEND;TZID=Europe/Berlin:20120930T164500
LOCATION:Katzberger Straße 6\n96528 Schalkau\, 96528 Schalkau
SUMMARY:12/13 Herren 1.KK-O: TSV Germ. Sonneberg-West - TSV Wacker Steinhei
 d
END:VEVENT
BEGIN:VEVENT
UID:20260419T230737CEST-7581t7rI68@85.13.129.106
DTSTAMP:20260419T210737Z
DESCRIPTION:Schalkau
DTSTART;TZID=Europe/Berlin:20121006T160000
DTEND;TZID=Europe/Berlin:20121006T174500
LOCATION:Katzberger Straße 6\n96528 Schalkau\, 96528 Schalkau
SUMMARY:12/13 Herren 1.KK-O: TSV Wacker Steinheid - SG Neuhaus-Schierschnit
 z/ Mupperg II
END:VEVENT
BEGIN:VEVENT
UID:20260419T230737CEST-7585K4wUHj@85.13.129.106
DTSTAMP:20260419T210737Z
DESCRIPTION:Schalkau
DTSTART;TZID=Europe/Berlin:20121014T150000
DTEND;TZID=Europe/Berlin:20121014T164500
LOCATION:Katzberger Straße 6\n96528 Schalkau\, 96528 Schalkau
SUMMARY:12/13 Herren 1.KK-O: TSV 1894 Unterlind - TSV Wacker Steinheid
END:VEVENT
BEGIN:VEVENT
UID:20260419T230737CEST-7589tPUTzf@85.13.129.106
DTSTAMP:20260419T210737Z
DESCRIPTION:Schalkau
DTSTART;TZID=Europe/Berlin:20121021T150000
DTEND;TZID=Europe/Berlin:20121021T164500
LOCATION:Katzberger Straße 6\n96528 Schalkau\, 96528 Schalkau
SUMMARY:12/13 Herren 1.KK-O: TSV Wacker Steinheid - SV Falke Sachsenbrunn I
 I
END:VEVENT
BEGIN:VEVENT
UID:20260419T230737CEST-75939xU3tH@85.13.129.106
DTSTAMP:20260419T210737Z
DESCRIPTION:Schalkau
DTSTART;TZID=Europe/Berlin:20130330T150000
DTEND;TZID=Europe/Berlin:20130330T164500
LOCATION:Katzberger Straße 6\n96528 Schalkau\, 96528 Schalkau
SUMMARY:12/13 Herren 1.KK-O: SG Lauscha/Neuhaus II - TSV Wacker Steinheid
END:VEVENT
BEGIN:VEVENT
UID:20260419T230737CEST-7598UghIWZ@85.13.129.106
DTSTAMP:20260419T210737Z
DESCRIPTION:Schalkau
DTSTART;TZID=Europe/Berlin:20121104T143000
DTEND;TZID=Europe/Berlin:20121104T161500
LOCATION:Katzberger Straße 6\n96528 Schalkau\, 96528 Schalkau
SUMMARY:12/13 Herren 1.KK-O: 1. FC Köppelsdorf - TSV Wacker Steinheid
END:VEVENT
BEGIN:VEVENT
UID:20260419T230737CEST-7602vFKTuf@85.13.129.106
DTSTAMP:20260419T210737Z
DESCRIPTION:Schalkau
DTSTART;TZID=Europe/Berlin:20121111T143000
DTEND;TZID=Europe/Berlin:20121111T161500
LOCATION:Katzberger Straße 6\n96528 Schalkau\, 96528 Schalkau
SUMMARY:12/13 Herren 1.KK-O: TSV Wacker Steinheid - FC-BW Schalkau
END:VEVENT
BEGIN:VEVENT
UID:20260419T230737CEST-7607IE335v@85.13.129.106
DTSTAMP:20260419T210737Z
DESCRIPTION:Schalkau
DTSTART;TZID=Europe/Berlin:20130501T150000
DTEND;TZID=Europe/Berlin:20130501T164500
LOCATION:Katzberger Straße 6\n96528 Schalkau\, 96528 Schalkau
SUMMARY:12/13 Herren 1.KK-O: TSV Wacker Steinheid - TSV 1923 Neuenbau
END:VEVENT
BEGIN:VEVENT
UID:20260419T230737CEST-7611ZvgZLj@85.13.129.106
DTSTAMP:20260419T210737Z
DESCRIPTION:Schalkau
DTSTART;TZID=Europe/Berlin:20130508T180000
DTEND;TZID=Europe/Berlin:20130508T194500
LOCATION:Katzberger Straße 6\n96528 Schalkau\, 96528 Schalkau
SUMMARY:12/13 Herren 1.KK-O: VfB Steinach - TSV Wacker Steinheid
END:VEVENT
BEGIN:VEVENT
UID:20260419T230737CEST-7615FKvuzF@85.13.129.106
DTSTAMP:20260419T210737Z
DESCRIPTION:Schalkau
DTSTART;TZID=Europe/Berlin:20130602T150000
DTEND;TZID=Europe/Berlin:20130602T164500
LOCATION:Katzberger Straße 6\n96528 Schalkau\, 96528 Schalkau
SUMMARY:12/13 Herren 1.KK-O: TSV Wacker Steinheid - VfB Grün-Weiß 28 Fehren
 bach
END:VEVENT
BEGIN:VEVENT
UID:20260419T230737CEST-76191JxUhE@85.13.129.106
DTSTAMP:20260419T210737Z
DESCRIPTION:Schalkau
DTSTART;TZID=Europe/Berlin:20130407T150000
DTEND;TZID=Europe/Berlin:20130407T164500
LOCATION:Katzberger Straße 6\n96528 Schalkau\, 96528 Schalkau
SUMMARY:12/13 Herren 1.KK-O: SV Edelweiß Crock - TSV Wacker Steinheid
END:VEVENT
BEGIN:VEVENT
UID:20260419T230737CEST-7624v4l3To@85.13.129.106
DTSTAMP:20260419T210737Z
DESCRIPTION:Schalkau
DTSTART;TZID=Europe/Berlin:20130520T150000
DTEND;TZID=Europe/Berlin:20130520T164500
LOCATION:Katzberger Straße 6\n96528 Schalkau\, 96528 Schalkau
SUMMARY:12/13 Herren 1.KK-O: TSV Wacker Steinheid - VfR Jagdshof 1931
END:VEVENT
BEGIN:VEVENT
UID:20260419T230737CEST-7628x4u7eG@85.13.129.106
DTSTAMP:20260419T210737Z
DESCRIPTION:Schalkau
DTSTART;TZID=Europe/Berlin:20130421T150000
DTEND;TZID=Europe/Berlin:20130421T164500
LOCATION:Katzberger Straße 6\n96528 Schalkau\, 96528 Schalkau
SUMMARY:12/13 Herren 1.KK-O: SV Germania Judenbach - TSV Wacker Steinheid
END:VEVENT
BEGIN:VEVENT
UID:20260419T230737CEST-7632v8zHbJ@85.13.129.106
DTSTAMP:20260419T210737Z
DESCRIPTION:Schalkau
DTSTART;TZID=Europe/Berlin:20130428T150000
DTEND;TZID=Europe/Berlin:20130428T164500
LOCATION:Katzberger Straße 6\n96528 Schalkau\, 96528 Schalkau
SUMMARY:12/13 Herren 1.KK-O: TSV Wacker Steinheid - TSV Germ. Sonneberg-Wes
 t
END:VEVENT
BEGIN:VEVENT
UID:20260419T230737CEST-76376KLpAg@85.13.129.106
DTSTAMP:20260419T210737Z
DESCRIPTION:Schalkau
DTSTART;TZID=Europe/Berlin:20130504T160000
DTEND;TZID=Europe/Berlin:20130504T174500
LOCATION:Katzberger Straße 6\n96528 Schalkau\, 96528 Schalkau
SUMMARY:12/13 Herren 1.KK-O: SG Neuhaus-Schierschnitz/ Mupperg II - TSV Wac
 ker Steinheid
END:VEVENT
BEGIN:VEVENT
UID:20260419T230737CEST-7641xRnnM9@85.13.129.106
DTSTAMP:20260419T210737Z
DESCRIPTION:Schalkau
DTSTART;TZID=Europe/Berlin:20130512T150000
DTEND;TZID=Europe/Berlin:20130512T164500
LOCATION:Katzberger Straße 6\n96528 Schalkau\, 96528 Schalkau
SUMMARY:12/13 Herren 1.KK-O: TSV Wacker Steinheid - TSV 1894 Unterlind
END:VEVENT
BEGIN:VEVENT
UID:20260419T230737CEST-76454xbNad@85.13.129.106
DTSTAMP:20260419T210737Z
DESCRIPTION:Schalkau
DTSTART;TZID=Europe/Berlin:20130526T130000
DTEND;TZID=Europe/Berlin:20130526T144500
LOCATION:Katzberger Straße 6\n96528 Schalkau\, 96528 Schalkau
SUMMARY:12/13 Herren 1.KK-O: SV Falke Sachsenbrunn II - TSV Wacker Steinhei
 d
END:VEVENT
BEGIN:VEVENT
UID:20260419T230737CEST-7649tgu4kO@85.13.129.106
DTSTAMP:20260419T210737Z
DESCRIPTION:Schalkau
DTSTART;TZID=Europe/Berlin:20130608T160000
DTEND;TZID=Europe/Berlin:20130608T174500
LOCATION:Katzberger Straße 6\n96528 Schalkau\, 96528 Schalkau
SUMMARY:12/13 Herren 1.KK-O: TSV Wacker Steinheid - SG Lauscha/Neuhaus II
END:VEVENT
END:VCALENDAR
