BEGIN:VCALENDAR
VERSION:2.0
PRODID:-//85.13.129.106//NONSGML kigkonsult.se iCalcreator 2.10.23//
BEGIN:VEVENT
UID:20260423T223623CEST-1860MOFCtv@85.13.129.106
DTSTAMP:20260423T203623Z
DESCRIPTION:
DTSTART;TZID=Europe/Berlin:20160417T103000
DTEND;TZID=Europe/Berlin:20160417T121500
LOCATION:
SUMMARY:15/16 F2-Jun. KL Gruppe Mitte: SG Effelder/Schalkau F2 - SV Nahetal
  Hinternah F
END:VEVENT
BEGIN:VEVENT
UID:20260423T223623CEST-1865JeGsZp@85.13.129.106
DTSTAMP:20260423T203623Z
DESCRIPTION:
DTSTART;TZID=Europe/Berlin:20160417T113000
DTEND;TZID=Europe/Berlin:20160417T131500
LOCATION:
SUMMARY:15/16 F2-Jun. KL Gruppe Mitte: SV Nahetal Hinternah F - SV Falke Sa
 chsenbrunn F
END:VEVENT
BEGIN:VEVENT
UID:20260423T223623CEST-1869S76p0X@85.13.129.106
DTSTAMP:20260423T203623Z
DESCRIPTION:
DTSTART;TZID=Europe/Berlin:20160501T103000
DTEND;TZID=Europe/Berlin:20160501T121500
LOCATION:
SUMMARY:15/16 F2-Jun. KL Gruppe Mitte: SV Nahetal Hinternah F - SV 03 Eisfe
 ld F
END:VEVENT
BEGIN:VEVENT
UID:20260423T223623CEST-1874NbaKHu@85.13.129.106
DTSTAMP:20260423T203623Z
DESCRIPTION:
DTSTART;TZID=Europe/Berlin:20160501T120000
DTEND;TZID=Europe/Berlin:20160501T134500
LOCATION:
SUMMARY:15/16 F2-Jun. KL Gruppe Mitte: SV Nahetal Hinternah F - SG Rauenste
 in/ Meng. Hämm. F
END:VEVENT
BEGIN:VEVENT
UID:20260423T223623CEST-1878U2ICKT@85.13.129.106
DTSTAMP:20260423T203623Z
DESCRIPTION:
DTSTART;TZID=Europe/Berlin:20160522T103000
DTEND;TZID=Europe/Berlin:20160522T121500
LOCATION:
SUMMARY:15/16 F2-Jun. KL Gruppe Mitte: SC 07 Schleusingen F2 - SV Nahetal H
 internah F
END:VEVENT
BEGIN:VEVENT
UID:20260423T223623CEST-1883zro4fb@85.13.129.106
DTSTAMP:20260423T203623Z
DESCRIPTION:
DTSTART;TZID=Europe/Berlin:20160522T113000
DTEND;TZID=Europe/Berlin:20160522T131500
LOCATION:
SUMMARY:15/16 F2-Jun. KL Gruppe Mitte: SV Nahetal Hinternah F - SG Effelder
 /Schalkau F2
END:VEVENT
BEGIN:VEVENT
UID:20260423T223623CEST-1887vW4wbN@85.13.129.106
DTSTAMP:20260423T203623Z
DESCRIPTION:
DTSTART;TZID=Europe/Berlin:20160605T093000
DTEND;TZID=Europe/Berlin:20160605T111500
LOCATION:
SUMMARY:15/16 F2-Jun. KL Gruppe Mitte: SV Falke Sachsenbrunn F - SV Nahetal
  Hinternah F
END:VEVENT
BEGIN:VEVENT
UID:20260423T223623CEST-1891Zgg8Kz@85.13.129.106
DTSTAMP:20260423T203623Z
DESCRIPTION:
DTSTART;TZID=Europe/Berlin:20160605T113000
DTEND;TZID=Europe/Berlin:20160605T131500
LOCATION:
SUMMARY:15/16 F2-Jun. KL Gruppe Mitte: SV 03 Eisfeld F - SV Nahetal Hintern
 ah F
END:VEVENT
BEGIN:VEVENT
UID:20260423T223623CEST-18951JvvO2@85.13.129.106
DTSTAMP:20260423T203623Z
DESCRIPTION:
DTSTART;TZID=Europe/Berlin:20160612T093000
DTEND;TZID=Europe/Berlin:20160612T111500
LOCATION:
SUMMARY:15/16 F2-Jun. KL Gruppe Mitte: SG Rauenstein/ Meng. Hämm. F - SV Na
 hetal Hinternah F
END:VEVENT
BEGIN:VEVENT
UID:20260423T223623CEST-1900uPha7s@85.13.129.106
DTSTAMP:20260423T203623Z
DESCRIPTION:
DTSTART;TZID=Europe/Berlin:20160612T110000
DTEND;TZID=Europe/Berlin:20160612T124500
LOCATION:
SUMMARY:15/16 F2-Jun. KL Gruppe Mitte: SV Nahetal Hinternah F - SC 07 Schle
 usingen F2
END:VEVENT
END:VCALENDAR
