BEGIN:VCALENDAR
VERSION:2.0
PRODID:-//85.13.129.106//NONSGML kigkonsult.se iCalcreator 2.10.23//
BEGIN:VEVENT
UID:20260422T163147CEST-1337S5NNOT@85.13.129.106
DTSTAMP:20260422T143147Z
DESCRIPTION:
DTSTART;TZID=Europe/Berlin:20160214T100000
DTEND;TZID=Europe/Berlin:20160214T114500
LOCATION:
SUMMARY:15/16 G-Junioren HKM 1+2 ST: TSV 1911 Themar G - SV Nahetal Hintern
 ah G
END:VEVENT
BEGIN:VEVENT
UID:20260422T163147CEST-13414Da7Fv@85.13.129.106
DTSTAMP:20260422T143147Z
DESCRIPTION:Schalkau
DTSTART;TZID=Europe/Berlin:20160214T100000
DTEND;TZID=Europe/Berlin:20160214T114500
LOCATION:Katzberger Straße 6\n96528 Schalkau\, 96528 Schalkau
SUMMARY:15/16 G-Junioren HKM 1+2 ST: FC-BW Schalkau G - TSV 1911 Themar G
END:VEVENT
BEGIN:VEVENT
UID:20260422T163147CEST-1345vmbxtK@85.13.129.106
DTSTAMP:20260422T143147Z
DESCRIPTION:Schalkau
DTSTART;TZID=Europe/Berlin:20160214T105000
DTEND;TZID=Europe/Berlin:20160214T123500
LOCATION:Katzberger Straße 6\n96528 Schalkau\, 96528 Schalkau
SUMMARY:15/16 G-Junioren HKM 1+2 ST: TSV 1911 Themar G - SC 07 Schleusingen
  G
END:VEVENT
BEGIN:VEVENT
UID:20260422T163147CEST-1350nWBGb3@85.13.129.106
DTSTAMP:20260422T143147Z
DESCRIPTION:Schalkau
DTSTART;TZID=Europe/Berlin:20160214T111000
DTEND;TZID=Europe/Berlin:20160214T125500
LOCATION:Katzberger Straße 6\n96528 Schalkau\, 96528 Schalkau
SUMMARY:15/16 G-Junioren HKM 1+2 ST: TSV 1911 Themar G - FSV 06 Eintr. Hild
 burghausen G
END:VEVENT
BEGIN:VEVENT
UID:20260422T163147CEST-1354M6BXJs@85.13.129.106
DTSTAMP:20260422T143147Z
DESCRIPTION:Schalkau
DTSTART;TZID=Europe/Berlin:20160305T140000
DTEND;TZID=Europe/Berlin:20160305T154500
LOCATION:Katzberger Straße 6\n96528 Schalkau\, 96528 Schalkau
SUMMARY:15/16 G-Junioren HKM 1+2 ST: TSV 1911 Themar G - SV Nahetal Hintern
 ah G
END:VEVENT
BEGIN:VEVENT
UID:20260422T163147CEST-1358cOin54@85.13.129.106
DTSTAMP:20260422T143147Z
DESCRIPTION:Schalkau
DTSTART;TZID=Europe/Berlin:20160305T142000
DTEND;TZID=Europe/Berlin:20160305T160500
LOCATION:Katzberger Straße 6\n96528 Schalkau\, 96528 Schalkau
SUMMARY:15/16 G-Junioren HKM 1+2 ST: FC-BW Schalkau G - TSV 1911 Themar G
END:VEVENT
BEGIN:VEVENT
UID:20260422T163147CEST-1363vZ5STE@85.13.129.106
DTSTAMP:20260422T143147Z
DESCRIPTION:Schalkau
DTSTART;TZID=Europe/Berlin:20160305T145000
DTEND;TZID=Europe/Berlin:20160305T163500
LOCATION:Katzberger Straße 6\n96528 Schalkau\, 96528 Schalkau
SUMMARY:15/16 G-Junioren HKM 1+2 ST: TSV 1911 Themar G - SC 07 Schleusingen
  G
END:VEVENT
BEGIN:VEVENT
UID:20260422T163147CEST-1367R5XVIr@85.13.129.106
DTSTAMP:20260422T143147Z
DESCRIPTION:Schalkau
DTSTART;TZID=Europe/Berlin:20160305T151000
DTEND;TZID=Europe/Berlin:20160305T165500
LOCATION:Katzberger Straße 6\n96528 Schalkau\, 96528 Schalkau
SUMMARY:15/16 G-Junioren HKM 1+2 ST: TSV 1911 Themar G - FSV 06 Eintr. Hild
 burghausen G
END:VEVENT
END:VCALENDAR
