BEGIN:VCALENDAR
VERSION:2.0
PRODID:-//85.13.129.106//NONSGML kigkonsult.se iCalcreator 2.10.23//
BEGIN:VEVENT
UID:20260422T231027CEST-365040Ae29@85.13.129.106
DTSTAMP:20260422T211027Z
DESCRIPTION:
DTSTART;TZID=Europe/Berlin:20150904T180000
DTEND;TZID=Europe/Berlin:20150904T194500
LOCATION:
SUMMARY:15/16 E-Jun. KL Mitte: SV 03 Eisfeld E - SG Effelder/Schalkau E
END:VEVENT
BEGIN:VEVENT
UID:20260422T231027CEST-3655ERUFhs@85.13.129.106
DTSTAMP:20260422T211027Z
DESCRIPTION:
DTSTART;TZID=Europe/Berlin:20150912T103000
DTEND;TZID=Europe/Berlin:20150912T121500
LOCATION:
SUMMARY:15/16 E-Jun. KL Mitte: 1. FC Sonneberg 04 E2 - SV 03 Eisfeld E
END:VEVENT
BEGIN:VEVENT
UID:20260422T231027CEST-3660xfsd6A@85.13.129.106
DTSTAMP:20260422T211027Z
DESCRIPTION:
DTSTART;TZID=Europe/Berlin:20150922T180000
DTEND;TZID=Europe/Berlin:20150922T194500
LOCATION:
SUMMARY:15/16 E-Jun. KL Mitte: SV EK Veilsdorf E - SV 03 Eisfeld E
END:VEVENT
BEGIN:VEVENT
UID:20260422T231027CEST-3664Wu3Mee@85.13.129.106
DTSTAMP:20260422T211027Z
DESCRIPTION:
DTSTART;TZID=Europe/Berlin:20150920T103000
DTEND;TZID=Europe/Berlin:20150920T121500
LOCATION:
SUMMARY:15/16 E-Jun. KL Mitte: SV 03 Eisfeld E - SG Lauscha/Neuhaus E
END:VEVENT
BEGIN:VEVENT
UID:20260422T231027CEST-3669pJO5KF@85.13.129.106
DTSTAMP:20260422T211027Z
DESCRIPTION:
DTSTART;TZID=Europe/Berlin:20150930T173000
DTEND;TZID=Europe/Berlin:20150930T191500
LOCATION:
SUMMARY:15/16 E-Jun. KL Mitte: SG Rauenstein/ Meng. Hämm. E - SV 03 Eisfeld
  E
END:VEVENT
END:VCALENDAR
