BEGIN:VCALENDAR
VERSION:2.0
PRODID:-//85.13.129.106//NONSGML kigkonsult.se iCalcreator 2.10.23//
BEGIN:VEVENT
UID:20260421T113753CEST-4715kI11CH@85.13.129.106
DTSTAMP:20260421T093753Z
DESCRIPTION:
DTSTART;TZID=Europe/Berlin:20150901T170000
DTEND;TZID=Europe/Berlin:20150901T174500
LOCATION:
SUMMARY:15/16 D2-Pokal: SG Haina/Gleichamberg D2 - FSV 06 Eintr. Hildburgha
 usen D
END:VEVENT
BEGIN:VEVENT
UID:20260421T113753CEST-4720A0UPdU@85.13.129.106
DTSTAMP:20260421T093753Z
DESCRIPTION:
DTSTART;TZID=Europe/Berlin:20151002T170000
DTEND;TZID=Europe/Berlin:20151002T174500
LOCATION:
SUMMARY:15/16 D2-Pokal: FSV 06 Eintr. Hildburghausen D - SG Steinach D2
END:VEVENT
BEGIN:VEVENT
UID:20260421T113753CEST-4725gXJ7kE@85.13.129.106
DTSTAMP:20260421T093753Z
DESCRIPTION:
DTSTART;TZID=Europe/Berlin:20160406T103000
DTEND;TZID=Europe/Berlin:20160406T111500
LOCATION:
SUMMARY:15/16 D2-Pokal: SV 1920 Gellershausen D - FSV 06 Eintr. Hildburghau
 sen D
END:VEVENT
BEGIN:VEVENT
UID:20260421T113753CEST-4729WKRLfO@85.13.129.106
DTSTAMP:20260421T093753Z
DESCRIPTION:
DTSTART;TZID=Europe/Berlin:20160503T173000
DTEND;TZID=Europe/Berlin:20160503T181500
LOCATION:
SUMMARY:15/16 D2-Pokal: SC 06 Oberlind D - FSV 06 Eintr. Hildburghausen D
END:VEVENT
BEGIN:VEVENT
UID:20260421T113753CEST-4734B5WAZm@85.13.129.106
DTSTAMP:20260421T093753Z
DESCRIPTION:
DTSTART;TZID=Europe/Berlin:20160618T141500
DTEND;TZID=Europe/Berlin:20160618T150000
LOCATION:
SUMMARY:15/16 D2-Pokal: FSV 06 Eintr. Hildburghausen D - SV Eintracht Oberl
 and D
END:VEVENT
END:VCALENDAR
