BEGIN:VCALENDAR
VERSION:2.0
PRODID:-//85.13.129.106//NONSGML kigkonsult.se iCalcreator 2.10.23//
BEGIN:VEVENT
UID:20260423T214034CEST-9907HcdslE@85.13.129.106
DTSTAMP:20260423T194034Z
DESCRIPTION:Schalkau
DTSTART;TZID=Europe/Berlin:20150905T103000
DTEND;TZID=Europe/Berlin:20150905T121500
LOCATION:Katzberger Straße 6\n96528 Schalkau\, 96528 Schalkau
SUMMARY:15/16 C-Jun. VL: SG Schalkau/Sbg.-W. C - 1. FC Greiz C
END:VEVENT
BEGIN:VEVENT
UID:20260423T214034CEST-9912WVnoTC@85.13.129.106
DTSTAMP:20260423T194034Z
DESCRIPTION:Schalkau
DTSTART;TZID=Europe/Berlin:20150913T103000
DTEND;TZID=Europe/Berlin:20150913T121500
LOCATION:Katzberger Straße 6\n96528 Schalkau\, 96528 Schalkau
SUMMARY:15/16 C-Jun. VL: 1. FC Greiz C - SV BW Neustadt/Orla C
END:VEVENT
BEGIN:VEVENT
UID:20260423T214034CEST-9916oKROD7@85.13.129.106
DTSTAMP:20260423T194034Z
DESCRIPTION:Schalkau
DTSTART;TZID=Europe/Berlin:20150920T103000
DTEND;TZID=Europe/Berlin:20150920T121500
LOCATION:Katzberger Straße 6\n96528 Schalkau\, 96528 Schalkau
SUMMARY:15/16 C-Jun. VL: SV Schott Jena C - 1. FC Greiz C
END:VEVENT
BEGIN:VEVENT
UID:20260423T214034CEST-9920uc59ai@85.13.129.106
DTSTAMP:20260423T194034Z
DESCRIPTION:Schalkau
DTSTART;TZID=Europe/Berlin:20151001T180000
DTEND;TZID=Europe/Berlin:20151001T194500
LOCATION:Katzberger Straße 6\n96528 Schalkau\, 96528 Schalkau
SUMMARY:15/16 C-Jun. VL: 1. FC Greiz C - FC Carl Zeiss Jena C2
END:VEVENT
BEGIN:VEVENT
UID:20260423T214034CEST-9924FUTPCu@85.13.129.106
DTSTAMP:20260423T194034Z
DESCRIPTION:Schalkau
DTSTART;TZID=Europe/Berlin:20151025T103000
DTEND;TZID=Europe/Berlin:20151025T121500
LOCATION:Katzberger Straße 6\n96528 Schalkau\, 96528 Schalkau
SUMMARY:15/16 C-Jun. VL: SC 1903 Weimar C - 1. FC Greiz C
END:VEVENT
BEGIN:VEVENT
UID:20260423T214034CEST-9929MJL7gO@85.13.129.106
DTSTAMP:20260423T194034Z
DESCRIPTION:Schalkau
DTSTART;TZID=Europe/Berlin:20151101T103000
DTEND;TZID=Europe/Berlin:20151101T121500
LOCATION:Katzberger Straße 6\n96528 Schalkau\, 96528 Schalkau
SUMMARY:15/16 C-Jun. VL: 1. FC Greiz C - FSV Grün-Weiß Stadtroda C
END:VEVENT
BEGIN:VEVENT
UID:20260423T214034CEST-9933E0cMjp@85.13.129.106
DTSTAMP:20260423T194034Z
DESCRIPTION:Schalkau
DTSTART;TZID=Europe/Berlin:20151108T103000
DTEND;TZID=Europe/Berlin:20151108T121500
LOCATION:Katzberger Straße 6\n96528 Schalkau\, 96528 Schalkau
SUMMARY:15/16 C-Jun. VL: FC Saalfeld C - 1. FC Greiz C
END:VEVENT
BEGIN:VEVENT
UID:20260423T214034CEST-9937vPEzlv@85.13.129.106
DTSTAMP:20260423T194034Z
DESCRIPTION:Schalkau
DTSTART;TZID=Europe/Berlin:20151121T103000
DTEND;TZID=Europe/Berlin:20151121T121500
LOCATION:Katzberger Straße 6\n96528 Schalkau\, 96528 Schalkau
SUMMARY:15/16 C-Jun. VL: 1. FC Greiz C - JFC Gera C
END:VEVENT
BEGIN:VEVENT
UID:20260423T214034CEST-99411F08Fe@85.13.129.106
DTSTAMP:20260423T194034Z
DESCRIPTION:Schalkau
DTSTART;TZID=Europe/Berlin:20160221T103000
DTEND;TZID=Europe/Berlin:20160221T121500
LOCATION:Katzberger Straße 6\n96528 Schalkau\, 96528 Schalkau
SUMMARY:15/16 C-Jun. VL: 1. FC Greiz C - FC Eisenach C
END:VEVENT
BEGIN:VEVENT
UID:20260423T214034CEST-9945x47V18@85.13.129.106
DTSTAMP:20260423T194034Z
DESCRIPTION:Schalkau
DTSTART;TZID=Europe/Berlin:20151206T110000
DTEND;TZID=Europe/Berlin:20151206T124500
LOCATION:Katzberger Straße 6\n96528 Schalkau\, 96528 Schalkau
SUMMARY:15/16 C-Jun. VL: 1. FC Greiz C - FC Rot-Weiß Erfurt C2
END:VEVENT
BEGIN:VEVENT
UID:20260423T214034CEST-9950rWjDlC@85.13.129.106
DTSTAMP:20260423T194034Z
DESCRIPTION:Schalkau
DTSTART;TZID=Europe/Berlin:20151213T103000
DTEND;TZID=Europe/Berlin:20151213T121500
LOCATION:Katzberger Straße 6\n96528 Schalkau\, 96528 Schalkau
SUMMARY:15/16 C-Jun. VL: SV BW Büßleben C - 1. FC Greiz C
END:VEVENT
BEGIN:VEVENT
UID:20260423T214034CEST-9954Wxj6Tu@85.13.129.106
DTSTAMP:20260423T194034Z
DESCRIPTION:Schalkau
DTSTART;TZID=Europe/Berlin:20160228T103000
DTEND;TZID=Europe/Berlin:20160228T121500
LOCATION:Katzberger Straße 6\n96528 Schalkau\, 96528 Schalkau
SUMMARY:15/16 C-Jun. VL: 1. FC Greiz C - SG Schalkau/Sbg.-W. C
END:VEVENT
BEGIN:VEVENT
UID:20260423T214034CEST-9958fJRWkC@85.13.129.106
DTSTAMP:20260423T194034Z
DESCRIPTION:Schalkau
DTSTART;TZID=Europe/Berlin:20160306T103000
DTEND;TZID=Europe/Berlin:20160306T121500
LOCATION:Katzberger Straße 6\n96528 Schalkau\, 96528 Schalkau
SUMMARY:15/16 C-Jun. VL: SV BW Neustadt/Orla C - 1. FC Greiz C
END:VEVENT
BEGIN:VEVENT
UID:20260423T214034CEST-99625pN2b9@85.13.129.106
DTSTAMP:20260423T194034Z
DESCRIPTION:Schalkau
DTSTART;TZID=Europe/Berlin:20160313T103000
DTEND;TZID=Europe/Berlin:20160313T121500
LOCATION:Katzberger Straße 6\n96528 Schalkau\, 96528 Schalkau
SUMMARY:15/16 C-Jun. VL: 1. FC Greiz C - SV Schott Jena C
END:VEVENT
BEGIN:VEVENT
UID:20260423T214034CEST-99676KUikc@85.13.129.106
DTSTAMP:20260423T194034Z
DESCRIPTION:Schalkau
DTSTART;TZID=Europe/Berlin:20160417T103000
DTEND;TZID=Europe/Berlin:20160417T121500
LOCATION:Katzberger Straße 6\n96528 Schalkau\, 96528 Schalkau
SUMMARY:15/16 C-Jun. VL: FC Carl Zeiss Jena C2 - 1. FC Greiz C
END:VEVENT
BEGIN:VEVENT
UID:20260423T214034CEST-9971Nanv5p@85.13.129.106
DTSTAMP:20260423T194034Z
DESCRIPTION:Schalkau
DTSTART;TZID=Europe/Berlin:20160424T103000
DTEND;TZID=Europe/Berlin:20160424T121500
LOCATION:Katzberger Straße 6\n96528 Schalkau\, 96528 Schalkau
SUMMARY:15/16 C-Jun. VL: 1. FC Greiz C - SC 1903 Weimar C
END:VEVENT
BEGIN:VEVENT
UID:20260423T214034CEST-99755Te67P@85.13.129.106
DTSTAMP:20260423T194034Z
DESCRIPTION:Schalkau
DTSTART;TZID=Europe/Berlin:20160501T103000
DTEND;TZID=Europe/Berlin:20160501T121500
LOCATION:Katzberger Straße 6\n96528 Schalkau\, 96528 Schalkau
SUMMARY:15/16 C-Jun. VL: FSV Grün-Weiß Stadtroda C - 1. FC Greiz C
END:VEVENT
BEGIN:VEVENT
UID:20260423T214034CEST-9980VBanBM@85.13.129.106
DTSTAMP:20260423T194034Z
DESCRIPTION:Schalkau
DTSTART;TZID=Europe/Berlin:20160320T103000
DTEND;TZID=Europe/Berlin:20160320T121500
LOCATION:Katzberger Straße 6\n96528 Schalkau\, 96528 Schalkau
SUMMARY:15/16 C-Jun. VL: 1. FC Greiz C - FC Saalfeld C
END:VEVENT
BEGIN:VEVENT
UID:20260423T214034CEST-9984AvxVtW@85.13.129.106
DTSTAMP:20260423T194034Z
DESCRIPTION:Schalkau
DTSTART;TZID=Europe/Berlin:20160515T103000
DTEND;TZID=Europe/Berlin:20160515T121500
LOCATION:Katzberger Straße 6\n96528 Schalkau\, 96528 Schalkau
SUMMARY:15/16 C-Jun. VL: JFC Gera C - 1. FC Greiz C
END:VEVENT
BEGIN:VEVENT
UID:20260423T214034CEST-9988HNHvFF@85.13.129.106
DTSTAMP:20260423T194034Z
DESCRIPTION:Schalkau
DTSTART;TZID=Europe/Berlin:20160521T103000
DTEND;TZID=Europe/Berlin:20160521T121500
LOCATION:Katzberger Straße 6\n96528 Schalkau\, 96528 Schalkau
SUMMARY:15/16 C-Jun. VL: FC Eisenach C - 1. FC Greiz C
END:VEVENT
BEGIN:VEVENT
UID:20260423T214034CEST-9993s2WlGb@85.13.129.106
DTSTAMP:20260423T194034Z
DESCRIPTION:Schalkau
DTSTART;TZID=Europe/Berlin:20160529T110000
DTEND;TZID=Europe/Berlin:20160529T124500
LOCATION:Katzberger Straße 6\n96528 Schalkau\, 96528 Schalkau
SUMMARY:15/16 C-Jun. VL: FC Rot-Weiß Erfurt C2 - 1. FC Greiz C
END:VEVENT
BEGIN:VEVENT
UID:20260423T214034CEST-9997IU1FcU@85.13.129.106
DTSTAMP:20260423T194034Z
DESCRIPTION:Schalkau
DTSTART;TZID=Europe/Berlin:20160605T103000
DTEND;TZID=Europe/Berlin:20160605T121500
LOCATION:Katzberger Straße 6\n96528 Schalkau\, 96528 Schalkau
SUMMARY:15/16 C-Jun. VL: 1. FC Greiz C - SV BW Büßleben C
END:VEVENT
END:VCALENDAR
