BEGIN:VCALENDAR
VERSION:2.0
PRODID:-//85.13.129.106//NONSGML kigkonsult.se iCalcreator 2.10.23//
BEGIN:VEVENT
UID:20260422T230100CEST-8746vDtXjV@85.13.129.106
DTSTAMP:20260422T210100Z
DESCRIPTION:
DTSTART;TZID=Europe/Berlin:20150906T103000
DTEND;TZID=Europe/Berlin:20150906T121500
LOCATION:
SUMMARY:15/16 C-Jun. VL: FSV Grün-Weiß Stadtroda C - FC Saalfeld C
END:VEVENT
BEGIN:VEVENT
UID:20260422T230100CEST-8751di3aEz@85.13.129.106
DTSTAMP:20260422T210100Z
DESCRIPTION:
DTSTART;TZID=Europe/Berlin:20150913T103000
DTEND;TZID=Europe/Berlin:20150913T121500
LOCATION:
SUMMARY:15/16 C-Jun. VL: FC Saalfeld C - SG Schalkau/Sbg.-W. C
END:VEVENT
BEGIN:VEVENT
UID:20260422T230100CEST-8755ap8i5C@85.13.129.106
DTSTAMP:20260422T210100Z
DESCRIPTION:
DTSTART;TZID=Europe/Berlin:20150920T103000
DTEND;TZID=Europe/Berlin:20150920T121500
LOCATION:
SUMMARY:15/16 C-Jun. VL: FC Saalfeld C - JFC Gera C
END:VEVENT
BEGIN:VEVENT
UID:20260422T230100CEST-8760EusPHG@85.13.129.106
DTSTAMP:20260422T210100Z
DESCRIPTION:
DTSTART;TZID=Europe/Berlin:20151002T180000
DTEND;TZID=Europe/Berlin:20151002T194500
LOCATION:
SUMMARY:15/16 C-Jun. VL: FC Eisenach C - FC Saalfeld C
END:VEVENT
BEGIN:VEVENT
UID:20260422T230100CEST-8764n4IdgF@85.13.129.106
DTSTAMP:20260422T210100Z
DESCRIPTION:
DTSTART;TZID=Europe/Berlin:20151025T103000
DTEND;TZID=Europe/Berlin:20151025T121500
LOCATION:
SUMMARY:15/16 C-Jun. VL: FC Saalfeld C - FC Rot-Weiß Erfurt C2
END:VEVENT
BEGIN:VEVENT
UID:20260422T230100CEST-8768zHKiuP@85.13.129.106
DTSTAMP:20260422T210100Z
DESCRIPTION:
DTSTART;TZID=Europe/Berlin:20151101T103000
DTEND;TZID=Europe/Berlin:20151101T121500
LOCATION:
SUMMARY:15/16 C-Jun. VL: SV BW Büßleben C - FC Saalfeld C
END:VEVENT
BEGIN:VEVENT
UID:20260422T230100CEST-8773z4v16U@85.13.129.106
DTSTAMP:20260422T210100Z
DESCRIPTION:
DTSTART;TZID=Europe/Berlin:20151108T103000
DTEND;TZID=Europe/Berlin:20151108T121500
LOCATION:
SUMMARY:15/16 C-Jun. VL: FC Saalfeld C - 1. FC Greiz C
END:VEVENT
BEGIN:VEVENT
UID:20260422T230100CEST-8777B249U2@85.13.129.106
DTSTAMP:20260422T210100Z
DESCRIPTION:
DTSTART;TZID=Europe/Berlin:20151121T103000
DTEND;TZID=Europe/Berlin:20151121T121500
LOCATION:
SUMMARY:15/16 C-Jun. VL: SV BW Neustadt/Orla C - FC Saalfeld C
END:VEVENT
BEGIN:VEVENT
UID:20260422T230100CEST-8781S5fu9V@85.13.129.106
DTSTAMP:20260422T210100Z
DESCRIPTION:
DTSTART;TZID=Europe/Berlin:20151129T103000
DTEND;TZID=Europe/Berlin:20151129T121500
LOCATION:
SUMMARY:15/16 C-Jun. VL: FC Saalfeld C - SV Schott Jena C
END:VEVENT
BEGIN:VEVENT
UID:20260422T230100CEST-8786NgXLwC@85.13.129.106
DTSTAMP:20260422T210100Z
DESCRIPTION:
DTSTART;TZID=Europe/Berlin:20151205T103000
DTEND;TZID=Europe/Berlin:20151205T121500
LOCATION:
SUMMARY:15/16 C-Jun. VL: FC Carl Zeiss Jena C2 - FC Saalfeld C
END:VEVENT
BEGIN:VEVENT
UID:20260422T230100CEST-8790WHZb26@85.13.129.106
DTSTAMP:20260422T210100Z
DESCRIPTION:
DTSTART;TZID=Europe/Berlin:20151213T103000
DTEND;TZID=Europe/Berlin:20151213T121500
LOCATION:
SUMMARY:15/16 C-Jun. VL: FC Saalfeld C - SC 1903 Weimar C
END:VEVENT
BEGIN:VEVENT
UID:20260422T230100CEST-8794PmUgaX@85.13.129.106
DTSTAMP:20260422T210100Z
DESCRIPTION:
DTSTART;TZID=Europe/Berlin:20160228T103000
DTEND;TZID=Europe/Berlin:20160228T121500
LOCATION:
SUMMARY:15/16 C-Jun. VL: FC Saalfeld C - FSV Grün-Weiß Stadtroda C
END:VEVENT
BEGIN:VEVENT
UID:20260422T230100CEST-8799uz2ORl@85.13.129.106
DTSTAMP:20260422T210100Z
DESCRIPTION:Schalkau
DTSTART;TZID=Europe/Berlin:20160306T103000
DTEND;TZID=Europe/Berlin:20160306T121500
LOCATION:Katzberger Straße 6\n96528 Schalkau\, 96528 Schalkau
SUMMARY:15/16 C-Jun. VL: SG Schalkau/Sbg.-W. C - FC Saalfeld C
END:VEVENT
BEGIN:VEVENT
UID:20260422T230100CEST-8803vUejGW@85.13.129.106
DTSTAMP:20260422T210100Z
DESCRIPTION:Schalkau
DTSTART;TZID=Europe/Berlin:20160313T103000
DTEND;TZID=Europe/Berlin:20160313T121500
LOCATION:Katzberger Straße 6\n96528 Schalkau\, 96528 Schalkau
SUMMARY:15/16 C-Jun. VL: JFC Gera C - FC Saalfeld C
END:VEVENT
BEGIN:VEVENT
UID:20260422T230100CEST-8807pw5Ng9@85.13.129.106
DTSTAMP:20260422T210100Z
DESCRIPTION:Schalkau
DTSTART;TZID=Europe/Berlin:20160417T103000
DTEND;TZID=Europe/Berlin:20160417T121500
LOCATION:Katzberger Straße 6\n96528 Schalkau\, 96528 Schalkau
SUMMARY:15/16 C-Jun. VL: FC Saalfeld C - FC Eisenach C
END:VEVENT
BEGIN:VEVENT
UID:20260422T230100CEST-8812Zr9A5v@85.13.129.106
DTSTAMP:20260422T210100Z
DESCRIPTION:Schalkau
DTSTART;TZID=Europe/Berlin:20160424T110000
DTEND;TZID=Europe/Berlin:20160424T124500
LOCATION:Katzberger Straße 6\n96528 Schalkau\, 96528 Schalkau
SUMMARY:15/16 C-Jun. VL: FC Rot-Weiß Erfurt C2 - FC Saalfeld C
END:VEVENT
BEGIN:VEVENT
UID:20260422T230100CEST-8816udNnUL@85.13.129.106
DTSTAMP:20260422T210100Z
DESCRIPTION:Schalkau
DTSTART;TZID=Europe/Berlin:20160501T103000
DTEND;TZID=Europe/Berlin:20160501T121500
LOCATION:Katzberger Straße 6\n96528 Schalkau\, 96528 Schalkau
SUMMARY:15/16 C-Jun. VL: FC Saalfeld C - SV BW Büßleben C
END:VEVENT
BEGIN:VEVENT
UID:20260422T230100CEST-8820ZCbVJ3@85.13.129.106
DTSTAMP:20260422T210100Z
DESCRIPTION:Schalkau
DTSTART;TZID=Europe/Berlin:20160320T103000
DTEND;TZID=Europe/Berlin:20160320T121500
LOCATION:Katzberger Straße 6\n96528 Schalkau\, 96528 Schalkau
SUMMARY:15/16 C-Jun. VL: 1. FC Greiz C - FC Saalfeld C
END:VEVENT
BEGIN:VEVENT
UID:20260422T230100CEST-8825AUMnaC@85.13.129.106
DTSTAMP:20260422T210100Z
DESCRIPTION:Schalkau
DTSTART;TZID=Europe/Berlin:20160518T183000
DTEND;TZID=Europe/Berlin:20160518T201500
LOCATION:Katzberger Straße 6\n96528 Schalkau\, 96528 Schalkau
SUMMARY:15/16 C-Jun. VL: FC Saalfeld C - SV BW Neustadt/Orla C
END:VEVENT
BEGIN:VEVENT
UID:20260422T230100CEST-8829VCrdzs@85.13.129.106
DTSTAMP:20260422T210100Z
DESCRIPTION:Schalkau
DTSTART;TZID=Europe/Berlin:20160522T103000
DTEND;TZID=Europe/Berlin:20160522T121500
LOCATION:Katzberger Straße 6\n96528 Schalkau\, 96528 Schalkau
SUMMARY:15/16 C-Jun. VL: SV Schott Jena C - FC Saalfeld C
END:VEVENT
BEGIN:VEVENT
UID:20260422T230100CEST-8833ahV3MX@85.13.129.106
DTSTAMP:20260422T210100Z
DESCRIPTION:Schalkau
DTSTART;TZID=Europe/Berlin:20160529T103000
DTEND;TZID=Europe/Berlin:20160529T121500
LOCATION:Katzberger Straße 6\n96528 Schalkau\, 96528 Schalkau
SUMMARY:15/16 C-Jun. VL: FC Saalfeld C - FC Carl Zeiss Jena C2
END:VEVENT
BEGIN:VEVENT
UID:20260422T230100CEST-883856XAwI@85.13.129.106
DTSTAMP:20260422T210100Z
DESCRIPTION:Schalkau
DTSTART;TZID=Europe/Berlin:20160605T103000
DTEND;TZID=Europe/Berlin:20160605T121500
LOCATION:Katzberger Straße 6\n96528 Schalkau\, 96528 Schalkau
SUMMARY:15/16 C-Jun. VL: SC 1903 Weimar C - FC Saalfeld C
END:VEVENT
END:VCALENDAR
