BEGIN:VCALENDAR
VERSION:2.0
PRODID:-//85.13.129.106//NONSGML kigkonsult.se iCalcreator 2.10.23//
BEGIN:VEVENT
UID:20260424T043759CEST-8120Se54VN@85.13.129.106
DTSTAMP:20260424T023759Z
DESCRIPTION:
DTSTART;TZID=Europe/Berlin:20150802T150000
DTEND;TZID=Europe/Berlin:20150802T164500
LOCATION:
SUMMARY:15/16 Herren 2.KK-O: FC Heinersdorf - SV Rottmar/Gefell
END:VEVENT
BEGIN:VEVENT
UID:20260424T043759CEST-8125OXRblO@85.13.129.106
DTSTAMP:20260424T023759Z
DESCRIPTION:
DTSTART;TZID=Europe/Berlin:20150809T150000
DTEND;TZID=Europe/Berlin:20150809T164500
LOCATION:
SUMMARY:15/16 Herren 2.KK-O: SV Rottmar/Gefell - SC 06 Oberlind II
END:VEVENT
BEGIN:VEVENT
UID:20260424T043759CEST-81299oewsI@85.13.129.106
DTSTAMP:20260424T023759Z
DESCRIPTION:
DTSTART;TZID=Europe/Berlin:20150816T150000
DTEND;TZID=Europe/Berlin:20150816T164500
LOCATION:
SUMMARY:15/16 Herren 2.KK-O: SV Rennsteig Ernstthal - SV Rottmar/Gefell
END:VEVENT
BEGIN:VEVENT
UID:20260424T043759CEST-8134kUARF6@85.13.129.106
DTSTAMP:20260424T023759Z
DESCRIPTION:
DTSTART;TZID=Europe/Berlin:20150823T150000
DTEND;TZID=Europe/Berlin:20150823T164500
LOCATION:
SUMMARY:15/16 Herren 2.KK-O: SV Rottmar/Gefell - SG Haselbach/ Hasenthal
END:VEVENT
BEGIN:VEVENT
UID:20260424T043759CEST-8138Nhzv7v@85.13.129.106
DTSTAMP:20260424T023759Z
DESCRIPTION:
DTSTART;TZID=Europe/Berlin:20150829T130000
DTEND;TZID=Europe/Berlin:20150829T144500
LOCATION:
SUMMARY:15/16 Herren 2.KK-O: SG SV 08 Steinach III - SV Rottmar/Gefell
END:VEVENT
BEGIN:VEVENT
UID:20260424T043759CEST-8142zE14aA@85.13.129.106
DTSTAMP:20260424T023759Z
DESCRIPTION:
DTSTART;TZID=Europe/Berlin:20150906T150000
DTEND;TZID=Europe/Berlin:20150906T164500
LOCATION:
SUMMARY:15/16 Herren 2.KK-O: SV Rottmar/Gefell - TSV 1923 Neuenbau
END:VEVENT
BEGIN:VEVENT
UID:20260424T043759CEST-8147ITw1Ic@85.13.129.106
DTSTAMP:20260424T023759Z
DESCRIPTION:
DTSTART;TZID=Europe/Berlin:20150912T133000
DTEND;TZID=Europe/Berlin:20150912T151500
LOCATION:
SUMMARY:15/16 Herren 2.KK-O: SG 1951 Sonneberg II - SV Rottmar/Gefell
END:VEVENT
BEGIN:VEVENT
UID:20260424T043759CEST-8151mfrrmA@85.13.129.106
DTSTAMP:20260424T023759Z
DESCRIPTION:
DTSTART;TZID=Europe/Berlin:20150920T150000
DTEND;TZID=Europe/Berlin:20150920T164500
LOCATION:
SUMMARY:15/16 Herren 2.KK-O: SV Rottmar/Gefell - 1. FC Sonneberg 04 II
END:VEVENT
BEGIN:VEVENT
UID:20260424T043759CEST-8156Frw99V@85.13.129.106
DTSTAMP:20260424T023759Z
DESCRIPTION:
DTSTART;TZID=Europe/Berlin:20150927T123000
DTEND;TZID=Europe/Berlin:20150927T141500
LOCATION:
SUMMARY:15/16 Herren 2.KK-O: 1. FC Köppelsdorf II - SV Rottmar/Gefell
END:VEVENT
BEGIN:VEVENT
UID:20260424T043759CEST-8164i8Il2R@85.13.129.106
DTSTAMP:20260424T023759Z
DESCRIPTION:
DTSTART;TZID=Europe/Berlin:20151003T150000
DTEND;TZID=Europe/Berlin:20151003T164500
LOCATION:
SUMMARY:15/16 Herren 2.KK-O: SV Rottmar/Gefell - SV Iso. Neuhaus Schierschn
 itz II
END:VEVENT
BEGIN:VEVENT
UID:20260424T043759CEST-8172A1pGEC@85.13.129.106
DTSTAMP:20260424T023759Z
DESCRIPTION:
DTSTART;TZID=Europe/Berlin:20151010T160000
DTEND;TZID=Europe/Berlin:20151010T174500
LOCATION:
SUMMARY:15/16 Herren 2.KK-O: SV Rottmar/Gefell - FC-BW Schalkau II
END:VEVENT
BEGIN:VEVENT
UID:20260424T043759CEST-8179RLPoI6@85.13.129.106
DTSTAMP:20260424T023759Z
DESCRIPTION:
DTSTART;TZID=Europe/Berlin:20151025T150000
DTEND;TZID=Europe/Berlin:20151025T164500
LOCATION:
SUMMARY:15/16 Herren 2.KK-O: SV Rottmar/Gefell - SG Lauscha/Neuhaus II
END:VEVENT
BEGIN:VEVENT
UID:20260424T043759CEST-8183nfzE1G@85.13.129.106
DTSTAMP:20260424T023759Z
DESCRIPTION:
DTSTART;TZID=Europe/Berlin:20151101T140000
DTEND;TZID=Europe/Berlin:20151101T154500
LOCATION:
SUMMARY:15/16 Herren 2.KK-O: SV Rottmar/Gefell - FC Heinersdorf
END:VEVENT
BEGIN:VEVENT
UID:20260424T043759CEST-8188v65GvK@85.13.129.106
DTSTAMP:20260424T023759Z
DESCRIPTION:
DTSTART;TZID=Europe/Berlin:20151108T123000
DTEND;TZID=Europe/Berlin:20151108T141500
LOCATION:
SUMMARY:15/16 Herren 2.KK-O: SC 06 Oberlind II - SV Rottmar/Gefell
END:VEVENT
BEGIN:VEVENT
UID:20260424T043759CEST-8192nt2uzi@85.13.129.106
DTSTAMP:20260424T023759Z
DESCRIPTION:
DTSTART;TZID=Europe/Berlin:20160313T150000
DTEND;TZID=Europe/Berlin:20160313T164500
LOCATION:
SUMMARY:15/16 Herren 2.KK-O: SV Rottmar/Gefell - SV Rennsteig Ernstthal
END:VEVENT
BEGIN:VEVENT
UID:20260424T043759CEST-8196f9OL04@85.13.129.106
DTSTAMP:20260424T023759Z
DESCRIPTION:
DTSTART;TZID=Europe/Berlin:20160320T150000
DTEND;TZID=Europe/Berlin:20160320T164500
LOCATION:
SUMMARY:15/16 Herren 2.KK-O: SG Haselbach/ Hasenthal - SV Rottmar/Gefell
END:VEVENT
BEGIN:VEVENT
UID:20260424T043759CEST-8201ECRlvk@85.13.129.106
DTSTAMP:20260424T023759Z
DESCRIPTION:
DTSTART;TZID=Europe/Berlin:20160403T150000
DTEND;TZID=Europe/Berlin:20160403T164500
LOCATION:
SUMMARY:15/16 Herren 2.KK-O: SV Rottmar/Gefell - SG SV 08 Steinach III
END:VEVENT
BEGIN:VEVENT
UID:20260424T043759CEST-8206VwSlDH@85.13.129.106
DTSTAMP:20260424T023759Z
DESCRIPTION:
DTSTART;TZID=Europe/Berlin:20160410T150000
DTEND;TZID=Europe/Berlin:20160410T164500
LOCATION:
SUMMARY:15/16 Herren 2.KK-O: TSV 1923 Neuenbau - SV Rottmar/Gefell
END:VEVENT
BEGIN:VEVENT
UID:20260424T043759CEST-8210vAMp42@85.13.129.106
DTSTAMP:20260424T023759Z
DESCRIPTION:
DTSTART;TZID=Europe/Berlin:20160417T150000
DTEND;TZID=Europe/Berlin:20160417T164500
LOCATION:
SUMMARY:15/16 Herren 2.KK-O: SV Rottmar/Gefell - SG 1951 Sonneberg II
END:VEVENT
BEGIN:VEVENT
UID:20260424T043759CEST-8215fwtoo8@85.13.129.106
DTSTAMP:20260424T023759Z
DESCRIPTION:
DTSTART;TZID=Europe/Berlin:20160423T160000
DTEND;TZID=Europe/Berlin:20160423T174500
LOCATION:
SUMMARY:15/16 Herren 2.KK-O: 1. FC Sonneberg 04 II - SV Rottmar/Gefell
END:VEVENT
BEGIN:VEVENT
UID:20260424T043759CEST-8219KivuoP@85.13.129.106
DTSTAMP:20260424T023759Z
DESCRIPTION:
DTSTART;TZID=Europe/Berlin:20160430T160000
DTEND;TZID=Europe/Berlin:20160430T174500
LOCATION:
SUMMARY:15/16 Herren 2.KK-O: SV Rottmar/Gefell - 1. FC Köppelsdorf II
END:VEVENT
BEGIN:VEVENT
UID:20260424T043759CEST-8223vtSm4b@85.13.129.106
DTSTAMP:20260424T023759Z
DESCRIPTION:
DTSTART;TZID=Europe/Berlin:20160508T130000
DTEND;TZID=Europe/Berlin:20160508T144500
LOCATION:
SUMMARY:15/16 Herren 2.KK-O: SV Iso. Neuhaus Schierschnitz II - SV Rottmar/
 Gefell
END:VEVENT
BEGIN:VEVENT
UID:20260424T043759CEST-8228F7wCco@85.13.129.106
DTSTAMP:20260424T023759Z
DESCRIPTION:Schalkau
DTSTART;TZID=Europe/Berlin:20160522T130000
DTEND;TZID=Europe/Berlin:20160522T144500
LOCATION:Katzberger Straße 6\n96528 Schalkau\, 96528 Schalkau
SUMMARY:15/16 Herren 2.KK-O: FC-BW Schalkau II - SV Rottmar/Gefell
END:VEVENT
BEGIN:VEVENT
UID:20260424T043759CEST-8232xWbuN5@85.13.129.106
DTSTAMP:20260424T023759Z
DESCRIPTION:Schalkau
DTSTART;TZID=Europe/Berlin:20160604T140000
DTEND;TZID=Europe/Berlin:20160604T154500
LOCATION:Katzberger Straße 6\n96528 Schalkau\, 96528 Schalkau
SUMMARY:15/16 Herren 2.KK-O: SG Lauscha/Neuhaus II - SV Rottmar/Gefell
END:VEVENT
END:VCALENDAR
