BEGIN:VCALENDAR
VERSION:2.0
PRODID:-//85.13.129.106//NONSGML kigkonsult.se iCalcreator 2.10.23//
BEGIN:VEVENT
UID:20260424T012729CEST-1498zUuedH@85.13.129.106
DTSTAMP:20260423T232729Z
DESCRIPTION:
DTSTART;TZID=Europe/Berlin:20150712T150000
DTEND;TZID=Europe/Berlin:20150712T164500
LOCATION:
SUMMARY:15/16 Herren Kreispokal: SG Haselbach/ Hasenthal - SV Rottmar/Gefel
 l
END:VEVENT
BEGIN:VEVENT
UID:20260424T012729CEST-1503MUThi7@85.13.129.106
DTSTAMP:20260423T232729Z
DESCRIPTION:
DTSTART;TZID=Europe/Berlin:20150719T150000
DTEND;TZID=Europe/Berlin:20150719T164500
LOCATION:
SUMMARY:15/16 Herren Kreispokal: SG Haselbach/ Hasenthal - TSV 08 Gleichamb
 erg
END:VEVENT
END:VCALENDAR
