BEGIN:VCALENDAR
VERSION:2.0
PRODID:-//85.13.129.106//NONSGML kigkonsult.se iCalcreator 2.10.23//
BEGIN:VEVENT
UID:20260420T113527CEST-7322NlsVHN@85.13.129.106
DTSTAMP:20260420T093527Z
DESCRIPTION:
DTSTART;TZID=Europe/Berlin:20150419T102000
DTEND;TZID=Europe/Berlin:20150419T120500
LOCATION:
SUMMARY:14/15 F-Jun. KOL: TSV Germ. Hellingen F - SV 08 Steinach F
END:VEVENT
BEGIN:VEVENT
UID:20260420T113527CEST-73272v7j0A@85.13.129.106
DTSTAMP:20260420T093527Z
DESCRIPTION:
DTSTART;TZID=Europe/Berlin:20150419T111000
DTEND;TZID=Europe/Berlin:20150419T125500
LOCATION:
SUMMARY:14/15 F-Jun. KOL: SV 08 Steinach F - TSV Germ. Sonneberg West F
END:VEVENT
BEGIN:VEVENT
UID:20260420T113527CEST-73319trhBu@85.13.129.106
DTSTAMP:20260420T093527Z
DESCRIPTION:
DTSTART;TZID=Europe/Berlin:20150503T102000
DTEND;TZID=Europe/Berlin:20150503T120500
LOCATION:
SUMMARY:14/15 F-Jun. KOL: SG Lauscha/Neuhaus F2 - SV 08 Steinach F
END:VEVENT
BEGIN:VEVENT
UID:20260420T113527CEST-73355pvUoV@85.13.129.106
DTSTAMP:20260420T093527Z
DESCRIPTION:Steinach/Talstraße
DTSTART;TZID=Europe/Berlin:20150503T113500
DTEND;TZID=Europe/Berlin:20150503T132000
LOCATION:\,  
SUMMARY:14/15 F-Jun. KOL: SV 08 Steinach F - FC-BW Schalkau F
END:VEVENT
BEGIN:VEVENT
UID:20260420T113527CEST-7340VS8Jlc@85.13.129.106
DTSTAMP:20260420T093527Z
DESCRIPTION:Steinach/Talstraße
DTSTART;TZID=Europe/Berlin:20150517T095500
DTEND;TZID=Europe/Berlin:20150517T114000
LOCATION:\,  
SUMMARY:14/15 F-Jun. KOL: SV Falke Sachsenbrunn F - SV 08 Steinach F
END:VEVENT
BEGIN:VEVENT
UID:20260420T113527CEST-7344jBJUCU@85.13.129.106
DTSTAMP:20260420T093527Z
DESCRIPTION:Steinach/Talstraße
DTSTART;TZID=Europe/Berlin:20150517T104500
DTEND;TZID=Europe/Berlin:20150517T123000
LOCATION:\,  
SUMMARY:14/15 F-Jun. KOL: SV 08 Steinach F - TSV Germ. Hellingen F
END:VEVENT
BEGIN:VEVENT
UID:20260420T113527CEST-7348mHS32r@85.13.129.106
DTSTAMP:20260420T093527Z
DESCRIPTION:Steinach/Talstraße
DTSTART;TZID=Europe/Berlin:20150607T093000
DTEND;TZID=Europe/Berlin:20150607T111500
LOCATION:\,  
SUMMARY:14/15 F-Jun. KOL: TSV Germ. Sonneberg West F - SV 08 Steinach F
END:VEVENT
BEGIN:VEVENT
UID:20260420T113527CEST-7352rCpfst@85.13.129.106
DTSTAMP:20260420T093527Z
DESCRIPTION:Steinach/Talstraße
DTSTART;TZID=Europe/Berlin:20150607T111000
DTEND;TZID=Europe/Berlin:20150607T125500
LOCATION:\,  
SUMMARY:14/15 F-Jun. KOL: SV 08 Steinach F - SG Lauscha/Neuhaus F2
END:VEVENT
BEGIN:VEVENT
UID:20260420T113527CEST-73567cSVKl@85.13.129.106
DTSTAMP:20260420T093527Z
DESCRIPTION:Sonneberg/West
DTSTART;TZID=Europe/Berlin:20150621T102000
DTEND;TZID=Europe/Berlin:20150621T120500
LOCATION:\,  
SUMMARY:14/15 F-Jun. KOL: FC-BW Schalkau F - SV 08 Steinach F
END:VEVENT
BEGIN:VEVENT
UID:20260420T113527CEST-7361zftWjb@85.13.129.106
DTSTAMP:20260420T093527Z
DESCRIPTION:Sonneberg/West
DTSTART;TZID=Europe/Berlin:20150621T111000
DTEND;TZID=Europe/Berlin:20150621T125500
LOCATION:\,  
SUMMARY:14/15 F-Jun. KOL: SV 08 Steinach F - SV Falke Sachsenbrunn F
END:VEVENT
END:VCALENDAR
