BEGIN:VCALENDAR
VERSION:2.0
PRODID:-//85.13.129.106//NONSGML kigkonsult.se iCalcreator 2.10.23//
BEGIN:VEVENT
UID:20260422T112813CEST-2541SVKEvr@85.13.129.106
DTSTAMP:20260422T092813Z
DESCRIPTION:
DTSTART;TZID=Europe/Berlin:20141115T103000
DTEND;TZID=Europe/Berlin:20141115T111500
LOCATION:
SUMMARY:14/15 D2-Jun. KOL: SG Römhild D - SG 1. FC Sonneberg 04 D2
END:VEVENT
BEGIN:VEVENT
UID:20260422T112813CEST-25458uCoRW@85.13.129.106
DTSTAMP:20260422T092813Z
DESCRIPTION:
DTSTART;TZID=Europe/Berlin:20141025T103000
DTEND;TZID=Europe/Berlin:20141025T111500
LOCATION:
SUMMARY:14/15 D2-Jun. KOL: FSV 07 Lauscha D - SG Römhild D
END:VEVENT
BEGIN:VEVENT
UID:20260422T112813CEST-2550ecvkcf@85.13.129.106
DTSTAMP:20260422T092813Z
DESCRIPTION:
DTSTART;TZID=Europe/Berlin:20141102T113000
DTEND;TZID=Europe/Berlin:20141102T121500
LOCATION:
SUMMARY:14/15 D2-Jun. KOL: SG Römhild D - SV Eintracht Oberland D
END:VEVENT
BEGIN:VEVENT
UID:20260422T112813CEST-2554kncWOU@85.13.129.106
DTSTAMP:20260422T092813Z
DESCRIPTION:
DTSTART;TZID=Europe/Berlin:20141108T103000
DTEND;TZID=Europe/Berlin:20141108T111500
LOCATION:
SUMMARY:14/15 D2-Jun. KOL: FSV 06 Eintr. Hildburghausen D - SG Römhild D
END:VEVENT
BEGIN:VEVENT
UID:20260422T112813CEST-2558vTxCsh@85.13.129.106
DTSTAMP:20260422T092813Z
DESCRIPTION:
DTSTART;TZID=Europe/Berlin:20150329T103000
DTEND;TZID=Europe/Berlin:20150329T111500
LOCATION:
SUMMARY:14/15 D2-Jun. KOL: SC 06 Oberlind D - SG Römhild D
END:VEVENT
BEGIN:VEVENT
UID:20260422T112813CEST-2563d5oRZz@85.13.129.106
DTSTAMP:20260422T092813Z
DESCRIPTION:
DTSTART;TZID=Europe/Berlin:20150418T103000
DTEND;TZID=Europe/Berlin:20150418T111500
LOCATION:
SUMMARY:14/15 D2-Jun. KOL: SG Römhild D - Erlauer SV Grün-Weiß D
END:VEVENT
BEGIN:VEVENT
UID:20260422T112813CEST-2567mrETT0@85.13.129.106
DTSTAMP:20260422T092813Z
DESCRIPTION:Schalkau
DTSTART;TZID=Europe/Berlin:20150424T180000
DTEND;TZID=Europe/Berlin:20150424T184500
LOCATION:Katzberger Straße 6\n96528 Schalkau\, 96528 Schalkau
SUMMARY:14/15 D2-Jun. KOL: FC-BW Schalkau D2 - SG Römhild D
END:VEVENT
BEGIN:VEVENT
UID:20260422T112813CEST-2571THuGMG@85.13.129.106
DTSTAMP:20260422T092813Z
DESCRIPTION:Schalkau
DTSTART;TZID=Europe/Berlin:20150502T103000
DTEND;TZID=Europe/Berlin:20150502T111500
LOCATION:Katzberger Straße 6\n96528 Schalkau\, 96528 Schalkau
SUMMARY:14/15 D2-Jun. KOL: SG 1. FC Sonneberg 04 D2 - SG Römhild D
END:VEVENT
BEGIN:VEVENT
UID:20260422T112813CEST-2576VwIJUi@85.13.129.106
DTSTAMP:20260422T092813Z
DESCRIPTION:Schalkau
DTSTART;TZID=Europe/Berlin:20150509T103000
DTEND;TZID=Europe/Berlin:20150509T111500
LOCATION:Katzberger Straße 6\n96528 Schalkau\, 96528 Schalkau
SUMMARY:14/15 D2-Jun. KOL: SG Römhild D - FSV 07 Lauscha D
END:VEVENT
BEGIN:VEVENT
UID:20260422T112813CEST-258011g2p2@85.13.129.106
DTSTAMP:20260422T092813Z
DESCRIPTION:Schalkau
DTSTART;TZID=Europe/Berlin:20150517T103000
DTEND;TZID=Europe/Berlin:20150517T111500
LOCATION:Katzberger Straße 6\n96528 Schalkau\, 96528 Schalkau
SUMMARY:14/15 D2-Jun. KOL: SV Eintracht Oberland D - SG Römhild D
END:VEVENT
BEGIN:VEVENT
UID:20260422T112813CEST-2585GO9zH2@85.13.129.106
DTSTAMP:20260422T092813Z
DESCRIPTION:Schalkau
DTSTART;TZID=Europe/Berlin:20150602T170000
DTEND;TZID=Europe/Berlin:20150602T174500
LOCATION:Katzberger Straße 6\n96528 Schalkau\, 96528 Schalkau
SUMMARY:14/15 D2-Jun. KOL: SG Römhild D - FSV 06 Eintr. Hildburghausen D
END:VEVENT
BEGIN:VEVENT
UID:20260422T112813CEST-2589CuFCFa@85.13.129.106
DTSTAMP:20260422T092813Z
DESCRIPTION:Schalkau
DTSTART;TZID=Europe/Berlin:20150606T130000
DTEND;TZID=Europe/Berlin:20150606T134500
LOCATION:Katzberger Straße 6\n96528 Schalkau\, 96528 Schalkau
SUMMARY:14/15 D2-Jun. KOL: SG Römhild D - SC 06 Oberlind D
END:VEVENT
BEGIN:VEVENT
UID:20260422T112813CEST-25934Nu5wb@85.13.129.106
DTSTAMP:20260422T092813Z
DESCRIPTION:Schalkau
DTSTART;TZID=Europe/Berlin:20150614T103000
DTEND;TZID=Europe/Berlin:20150614T111500
LOCATION:Katzberger Straße 6\n96528 Schalkau\, 96528 Schalkau
SUMMARY:14/15 D2-Jun. KOL: Erlauer SV Grün-Weiß D - SG Römhild D
END:VEVENT
BEGIN:VEVENT
UID:20260422T112813CEST-2598Cg5Lpa@85.13.129.106
DTSTAMP:20260422T092813Z
DESCRIPTION:Schalkau
DTSTART;TZID=Europe/Berlin:20150619T180000
DTEND;TZID=Europe/Berlin:20150619T184500
LOCATION:Katzberger Straße 6\n96528 Schalkau\, 96528 Schalkau
SUMMARY:14/15 D2-Jun. KOL: SG Römhild D - FC-BW Schalkau D2
END:VEVENT
END:VCALENDAR
