BEGIN:VCALENDAR
VERSION:2.0
PRODID:-//85.13.129.106//NONSGML kigkonsult.se iCalcreator 2.10.23//
BEGIN:VEVENT
UID:20260420T065346CEST-4539RcI3cM@85.13.129.106
DTSTAMP:20260420T045346Z
DESCRIPTION:Effelder
DTSTART;TZID=Europe/Berlin:20140914T095500
DTEND;TZID=Europe/Berlin:20140914T114000
LOCATION:\,  
SUMMARY:14/15 F-Jun. KL: SC 09 Effelder F - TSV Germ. Sonneberg West F2
END:VEVENT
BEGIN:VEVENT
UID:20260420T065346CEST-4543s6b8AU@85.13.129.106
DTSTAMP:20260420T045346Z
DESCRIPTION:Effelder
DTSTART;TZID=Europe/Berlin:20140914T111000
DTEND;TZID=Europe/Berlin:20140914T125500
LOCATION:\,  
SUMMARY:14/15 F-Jun. KL: TSV Germ. Sonneberg West F2 - SG FSV Mengersgereut
 h-Hämmern F
END:VEVENT
BEGIN:VEVENT
UID:20260420T065346CEST-4548zu9Drs@85.13.129.106
DTSTAMP:20260420T045346Z
DESCRIPTION:Effelder
DTSTART;TZID=Europe/Berlin:20140928T093000
DTEND;TZID=Europe/Berlin:20140928T111500
LOCATION:\,  
SUMMARY:14/15 F-Jun. KL: SG Lauscha/Neuhaus F - TSV Germ. Sonneberg West F2
END:VEVENT
BEGIN:VEVENT
UID:20260420T065346CEST-4552S4BM4p@85.13.129.106
DTSTAMP:20260420T045346Z
DESCRIPTION:Effelder
DTSTART;TZID=Europe/Berlin:20140928T102000
DTEND;TZID=Europe/Berlin:20140928T120500
LOCATION:\,  
SUMMARY:14/15 F-Jun. KL: SV Falke Sachsenbrunn F - TSV Germ. Sonneberg West
  F2
END:VEVENT
BEGIN:VEVENT
UID:20260420T065346CEST-4556VJxGus@85.13.129.106
DTSTAMP:20260420T045346Z
DESCRIPTION:Effelder
DTSTART;TZID=Europe/Berlin:20140928T113500
DTEND;TZID=Europe/Berlin:20140928T132000
LOCATION:\,  
SUMMARY:14/15 F-Jun. KL: TSV Germ. Sonneberg West F2 - FC-BW Schalkau F
END:VEVENT
BEGIN:VEVENT
UID:20260420T065346CEST-4560sLflWD@85.13.129.106
DTSTAMP:20260420T045346Z
DESCRIPTION:Effelder
DTSTART;TZID=Europe/Berlin:20141019T093000
DTEND;TZID=Europe/Berlin:20141019T111500
LOCATION:\,  
SUMMARY:14/15 F-Jun. KL: TSV Germ. Sonneberg West F2 - SC 09 Effelder F
END:VEVENT
BEGIN:VEVENT
UID:20260420T065346CEST-4565UVk8Iv@85.13.129.106
DTSTAMP:20260420T045346Z
DESCRIPTION:Effelder
DTSTART;TZID=Europe/Berlin:20141019T111000
DTEND;TZID=Europe/Berlin:20141019T125500
LOCATION:\,  
SUMMARY:14/15 F-Jun. KL: SG FSV Mengersgereuth-Hämmern F - TSV Germ. Sonneb
 erg West F2
END:VEVENT
BEGIN:VEVENT
UID:20260420T065346CEST-4569rluXha@85.13.129.106
DTSTAMP:20260420T045346Z
DESCRIPTION:Effelder
DTSTART;TZID=Europe/Berlin:20141019T120000
DTEND;TZID=Europe/Berlin:20141019T134500
LOCATION:\,  
SUMMARY:14/15 F-Jun. KL: TSV Germ. Sonneberg West F2 - SG Lauscha/Neuhaus F
END:VEVENT
BEGIN:VEVENT
UID:20260420T065346CEST-4573sxuFcs@85.13.129.106
DTSTAMP:20260420T045346Z
DESCRIPTION:Effelder
DTSTART;TZID=Europe/Berlin:20141109T093000
DTEND;TZID=Europe/Berlin:20141109T111500
LOCATION:\,  
SUMMARY:14/15 F-Jun. KL: TSV Germ. Sonneberg West F2 - SV Falke Sachsenbrun
 n F
END:VEVENT
BEGIN:VEVENT
UID:20260420T065346CEST-4577lEOH6f@85.13.129.106
DTSTAMP:20260420T045346Z
DESCRIPTION:Schalkau
DTSTART;TZID=Europe/Berlin:20141109T104500
DTEND;TZID=Europe/Berlin:20141109T123000
LOCATION:Katzberger Straße 6\n96528 Schalkau\, 96528 Schalkau
SUMMARY:14/15 F-Jun. KL: FC-BW Schalkau F - TSV Germ. Sonneberg West F2
END:VEVENT
END:VCALENDAR
