BEGIN:VCALENDAR
VERSION:2.0
PRODID:-//85.13.129.106//NONSGML kigkonsult.se iCalcreator 2.10.23//
BEGIN:VEVENT
UID:20260421T113605CEST-2777WeoRFU@85.13.129.106
DTSTAMP:20260421T093605Z
DESCRIPTION:
DTSTART;TZID=Europe/Berlin:20140727T143000
DTEND;TZID=Europe/Berlin:20140727T161500
LOCATION:
SUMMARY:14/15 Herren Kreispokal: SV 08 Engertal Schleusingerneundorf - SV E
 K Veilsdorf
END:VEVENT
BEGIN:VEVENT
UID:20260421T113605CEST-2782wUvMWK@85.13.129.106
DTSTAMP:20260421T093605Z
DESCRIPTION:
DTSTART;TZID=Europe/Berlin:20141003T150000
DTEND;TZID=Europe/Berlin:20141003T164500
LOCATION:
SUMMARY:14/15 Herren Kreispokal: SC 06 Oberlind - SV EK Veilsdorf
END:VEVENT
BEGIN:VEVENT
UID:20260421T113605CEST-2786djgePJ@85.13.129.106
DTSTAMP:20260421T093605Z
DESCRIPTION:
DTSTART;TZID=Europe/Berlin:20141116T133000
DTEND;TZID=Europe/Berlin:20141116T151500
LOCATION:
SUMMARY:14/15 Herren Kreispokal: SV Empor Heßberg - SV EK Veilsdorf
END:VEVENT
END:VCALENDAR
