BEGIN:VCALENDAR
VERSION:2.0
PRODID:-//85.13.129.106//NONSGML kigkonsult.se iCalcreator 2.10.23//
BEGIN:VEVENT
UID:20260423T073226CEST-3681EsCOWU@85.13.129.106
DTSTAMP:20260423T053226Z
DESCRIPTION:
DTSTART;TZID=Europe/Berlin:20140727T150000
DTEND;TZID=Europe/Berlin:20140727T164500
LOCATION:
SUMMARY:14/15 Herren Kreispokal: FSV Mengersgereuth-Hämmern - SC 06 Oberlin
 d II
END:VEVENT
END:VCALENDAR
