BEGIN:VCALENDAR
VERSION:2.0
PRODID:-//85.13.129.106//NONSGML kigkonsult.se iCalcreator 2.10.23//
BEGIN:VEVENT
UID:20260422T203942CEST-02660LviAv@85.13.129.106
DTSTAMP:20260422T183942Z
DESCRIPTION:
DTSTART;TZID=Europe/Berlin:20140906T093000
DTEND;TZID=Europe/Berlin:20140906T111500
LOCATION:
SUMMARY:14/15 D1-Jun. VL: SG SV Germania Ilmenau D - SC 1903 Weimar D
END:VEVENT
BEGIN:VEVENT
UID:20260422T203942CEST-02700GKsb3@85.13.129.106
DTSTAMP:20260422T183942Z
DESCRIPTION:
DTSTART;TZID=Europe/Berlin:20140913T090000
DTEND;TZID=Europe/Berlin:20140913T104500
LOCATION:
SUMMARY:14/15 D1-Jun. VL: SC 1903 Weimar D - SG 1. Suhler SV 06 D
END:VEVENT
BEGIN:VEVENT
UID:20260422T203942CEST-0275jmuuWB@85.13.129.106
DTSTAMP:20260422T183942Z
DESCRIPTION:
DTSTART;TZID=Europe/Berlin:20140920T110000
DTEND;TZID=Europe/Berlin:20140920T124500
LOCATION:
SUMMARY:14/15 D1-Jun. VL: SG FSV BW 90 Stadtilm D - SC 1903 Weimar D
END:VEVENT
BEGIN:VEVENT
UID:20260422T203942CEST-0279VU4vbF@85.13.129.106
DTSTAMP:20260422T183942Z
DESCRIPTION:
DTSTART;TZID=Europe/Berlin:20141004T110000
DTEND;TZID=Europe/Berlin:20141004T124500
LOCATION:
SUMMARY:14/15 D1-Jun. VL: SC 1903 Weimar D - FC-BW Schalkau D
END:VEVENT
BEGIN:VEVENT
UID:20260422T203942CEST-0283ojMK0x@85.13.129.106
DTSTAMP:20260422T183942Z
DESCRIPTION:
DTSTART;TZID=Europe/Berlin:20141019T090000
DTEND;TZID=Europe/Berlin:20141019T104500
LOCATION:
SUMMARY:14/15 D1-Jun. VL: VfB Oberweimar D - SC 1903 Weimar D
END:VEVENT
BEGIN:VEVENT
UID:20260422T203942CEST-02884H1PLm@85.13.129.106
DTSTAMP:20260422T183942Z
DESCRIPTION:
DTSTART;TZID=Europe/Berlin:20141025T090000
DTEND;TZID=Europe/Berlin:20141025T104500
LOCATION:
SUMMARY:14/15 D1-Jun. VL: SC 1903 Weimar D - FC Rot-Weiß Erfurt D2
END:VEVENT
BEGIN:VEVENT
UID:20260422T203942CEST-0292nD4HlO@85.13.129.106
DTSTAMP:20260422T183942Z
DESCRIPTION:
DTSTART;TZID=Europe/Berlin:20141102T103000
DTEND;TZID=Europe/Berlin:20141102T121500
LOCATION:
SUMMARY:14/15 D1-Jun. VL: SC 1903 Weimar D - SG 1. FC Sonneberg 04 D
END:VEVENT
BEGIN:VEVENT
UID:20260422T203942CEST-0296gofIUf@85.13.129.106
DTSTAMP:20260422T183942Z
DESCRIPTION:
DTSTART;TZID=Europe/Berlin:20141108T103000
DTEND;TZID=Europe/Berlin:20141108T121500
LOCATION:
SUMMARY:14/15 D1-Jun. VL: FC Carl Zeiss Jena D2 - SC 1903 Weimar D
END:VEVENT
BEGIN:VEVENT
UID:20260422T203942CEST-03011HJjM9@85.13.129.106
DTSTAMP:20260422T183942Z
DESCRIPTION:
DTSTART;TZID=Europe/Berlin:20141122T103000
DTEND;TZID=Europe/Berlin:20141122T121500
LOCATION:
SUMMARY:14/15 D1-Jun. VL: SC 1903 Weimar D - SG Herpfer SV 07 D
END:VEVENT
BEGIN:VEVENT
UID:20260422T203942CEST-0305HNzHwD@85.13.129.106
DTSTAMP:20260422T183942Z
DESCRIPTION:
DTSTART;TZID=Europe/Berlin:20141129T093000
DTEND;TZID=Europe/Berlin:20141129T111500
LOCATION:
SUMMARY:14/15 D1-Jun. VL: FSV Sömmerda D - SC 1903 Weimar D
END:VEVENT
BEGIN:VEVENT
UID:20260422T203942CEST-0310Or41gl@85.13.129.106
DTSTAMP:20260422T183942Z
DESCRIPTION:
DTSTART;TZID=Europe/Berlin:20141206T103000
DTEND;TZID=Europe/Berlin:20141206T121500
LOCATION:
SUMMARY:14/15 D1-Jun. VL: SC 1903 Weimar D - TSV Germ. Sonneberg West D
END:VEVENT
BEGIN:VEVENT
UID:20260422T203942CEST-0314LATi0o@85.13.129.106
DTSTAMP:20260422T183942Z
DESCRIPTION:
DTSTART;TZID=Europe/Berlin:20150228T103000
DTEND;TZID=Europe/Berlin:20150228T121500
LOCATION:
SUMMARY:14/15 D1-Jun. VL: SC 1903 Weimar D - SG SV Germania Ilmenau D
END:VEVENT
BEGIN:VEVENT
UID:20260422T203942CEST-0318T9rtES@85.13.129.106
DTSTAMP:20260422T183942Z
DESCRIPTION:
DTSTART;TZID=Europe/Berlin:20150509T110000
DTEND;TZID=Europe/Berlin:20150509T124500
LOCATION:
SUMMARY:14/15 D1-Jun. VL: SG 1. Suhler SV 06 D - SC 1903 Weimar D
END:VEVENT
BEGIN:VEVENT
UID:20260422T203942CEST-0323GlPNAH@85.13.129.106
DTSTAMP:20260422T183942Z
DESCRIPTION:
DTSTART;TZID=Europe/Berlin:20150314T103000
DTEND;TZID=Europe/Berlin:20150314T121500
LOCATION:
SUMMARY:14/15 D1-Jun. VL: SC 1903 Weimar D - SG FSV BW 90 Stadtilm D
END:VEVENT
BEGIN:VEVENT
UID:20260422T203942CEST-0327i3blvP@85.13.129.106
DTSTAMP:20260422T183942Z
DESCRIPTION:Schalkau
DTSTART;TZID=Europe/Berlin:20150419T103000
DTEND;TZID=Europe/Berlin:20150419T121500
LOCATION:Katzberger Straße 6\n96528 Schalkau\, 96528 Schalkau
SUMMARY:14/15 D1-Jun. VL: FC-BW Schalkau D - SC 1903 Weimar D
END:VEVENT
BEGIN:VEVENT
UID:20260422T203942CEST-03312GjIOn@85.13.129.106
DTSTAMP:20260422T183942Z
DESCRIPTION:Schalkau
DTSTART;TZID=Europe/Berlin:20150425T090000
DTEND;TZID=Europe/Berlin:20150425T104500
LOCATION:Katzberger Straße 6\n96528 Schalkau\, 96528 Schalkau
SUMMARY:14/15 D1-Jun. VL: SC 1903 Weimar D - VfB Oberweimar D
END:VEVENT
BEGIN:VEVENT
UID:20260422T203942CEST-0336vv8CnR@85.13.129.106
DTSTAMP:20260422T183942Z
DESCRIPTION:Schalkau
DTSTART;TZID=Europe/Berlin:20150430T180000
DTEND;TZID=Europe/Berlin:20150430T194500
LOCATION:Katzberger Straße 6\n96528 Schalkau\, 96528 Schalkau
SUMMARY:14/15 D1-Jun. VL: FC Rot-Weiß Erfurt D2 - SC 1903 Weimar D
END:VEVENT
BEGIN:VEVENT
UID:20260422T203942CEST-0340DWp7Lg@85.13.129.106
DTSTAMP:20260422T183942Z
DESCRIPTION:Schalkau
DTSTART;TZID=Europe/Berlin:20150516T103000
DTEND;TZID=Europe/Berlin:20150516T121500
LOCATION:Katzberger Straße 6\n96528 Schalkau\, 96528 Schalkau
SUMMARY:14/15 D1-Jun. VL: SG 1. FC Sonneberg 04 D - SC 1903 Weimar D
END:VEVENT
BEGIN:VEVENT
UID:20260422T203942CEST-0344ViVSPz@85.13.129.106
DTSTAMP:20260422T183942Z
DESCRIPTION:Schalkau
DTSTART;TZID=Europe/Berlin:20150527T163000
DTEND;TZID=Europe/Berlin:20150527T181500
LOCATION:Katzberger Straße 6\n96528 Schalkau\, 96528 Schalkau
SUMMARY:14/15 D1-Jun. VL: SC 1903 Weimar D - FC Carl Zeiss Jena D2
END:VEVENT
BEGIN:VEVENT
UID:20260422T203942CEST-0349asU01S@85.13.129.106
DTSTAMP:20260422T183942Z
DESCRIPTION:Schalkau
DTSTART;TZID=Europe/Berlin:20150606T103000
DTEND;TZID=Europe/Berlin:20150606T121500
LOCATION:Katzberger Straße 6\n96528 Schalkau\, 96528 Schalkau
SUMMARY:14/15 D1-Jun. VL: SG Herpfer SV 07 D - SC 1903 Weimar D
END:VEVENT
BEGIN:VEVENT
UID:20260422T203942CEST-0354ptbKTP@85.13.129.106
DTSTAMP:20260422T183942Z
DESCRIPTION:Schalkau
DTSTART;TZID=Europe/Berlin:20150613T103000
DTEND;TZID=Europe/Berlin:20150613T121500
LOCATION:Katzberger Straße 6\n96528 Schalkau\, 96528 Schalkau
SUMMARY:14/15 D1-Jun. VL: SC 1903 Weimar D - FSV Sömmerda D
END:VEVENT
BEGIN:VEVENT
UID:20260422T203942CEST-0358LcRL7P@85.13.129.106
DTSTAMP:20260422T183942Z
DESCRIPTION:Schalkau
DTSTART;TZID=Europe/Berlin:20150620T103000
DTEND;TZID=Europe/Berlin:20150620T121500
LOCATION:Katzberger Straße 6\n96528 Schalkau\, 96528 Schalkau
SUMMARY:14/15 D1-Jun. VL: TSV Germ. Sonneberg West D - SC 1903 Weimar D
END:VEVENT
END:VCALENDAR
