BEGIN:VCALENDAR
VERSION:2.0
PRODID:-//85.13.129.106//NONSGML kigkonsult.se iCalcreator 2.10.23//
BEGIN:VEVENT
UID:20260422T115700CEST-1679VSFgli@85.13.129.106
DTSTAMP:20260422T095700Z
DESCRIPTION:
DTSTART;TZID=Europe/Berlin:20140906T100000
DTEND;TZID=Europe/Berlin:20140906T114500
LOCATION:
SUMMARY:14/15 D1-Jun. VL: FSV Sömmerda D - FC Carl Zeiss Jena D2
END:VEVENT
BEGIN:VEVENT
UID:20260422T115700CEST-16835iVJz2@85.13.129.106
DTSTAMP:20260422T095700Z
DESCRIPTION:
DTSTART;TZID=Europe/Berlin:20140913T110000
DTEND;TZID=Europe/Berlin:20140913T124500
LOCATION:
SUMMARY:14/15 D1-Jun. VL: SG Herpfer SV 07 D - FSV Sömmerda D
END:VEVENT
BEGIN:VEVENT
UID:20260422T115700CEST-1688bU5IWV@85.13.129.106
DTSTAMP:20260422T095700Z
DESCRIPTION:
DTSTART;TZID=Europe/Berlin:20140921T103000
DTEND;TZID=Europe/Berlin:20140921T121500
LOCATION:
SUMMARY:14/15 D1-Jun. VL: FC Rot-Weiß Erfurt D2 - FSV Sömmerda D
END:VEVENT
BEGIN:VEVENT
UID:20260422T115700CEST-1692VvHP79@85.13.129.106
DTSTAMP:20260422T095700Z
DESCRIPTION:
DTSTART;TZID=Europe/Berlin:20141004T110000
DTEND;TZID=Europe/Berlin:20141004T124500
LOCATION:
SUMMARY:14/15 D1-Jun. VL: FSV Sömmerda D - TSV Germ. Sonneberg West D
END:VEVENT
BEGIN:VEVENT
UID:20260422T115700CEST-1696GTrfH9@85.13.129.106
DTSTAMP:20260422T095700Z
DESCRIPTION:
DTSTART;TZID=Europe/Berlin:20141018T103000
DTEND;TZID=Europe/Berlin:20141018T121500
LOCATION:
SUMMARY:14/15 D1-Jun. VL: SG SV Germania Ilmenau D - FSV Sömmerda D
END:VEVENT
BEGIN:VEVENT
UID:20260422T115700CEST-1701AZVNrA@85.13.129.106
DTSTAMP:20260422T095700Z
DESCRIPTION:
DTSTART;TZID=Europe/Berlin:20141025T093000
DTEND;TZID=Europe/Berlin:20141025T111500
LOCATION:
SUMMARY:14/15 D1-Jun. VL: FSV Sömmerda D - SG 1. Suhler SV 06 D
END:VEVENT
BEGIN:VEVENT
UID:20260422T115700CEST-1706R5PoSE@85.13.129.106
DTSTAMP:20260422T095700Z
DESCRIPTION:
DTSTART;TZID=Europe/Berlin:20141101T100000
DTEND;TZID=Europe/Berlin:20141101T114500
LOCATION:
SUMMARY:14/15 D1-Jun. VL: SG FSV BW 90 Stadtilm D - FSV Sömmerda D
END:VEVENT
BEGIN:VEVENT
UID:20260422T115700CEST-1710flHB6C@85.13.129.106
DTSTAMP:20260422T095700Z
DESCRIPTION:
DTSTART;TZID=Europe/Berlin:20141108T110000
DTEND;TZID=Europe/Berlin:20141108T124500
LOCATION:
SUMMARY:14/15 D1-Jun. VL: FSV Sömmerda D - FC-BW Schalkau D
END:VEVENT
BEGIN:VEVENT
UID:20260422T115700CEST-1715kt4vmU@85.13.129.106
DTSTAMP:20260422T095700Z
DESCRIPTION:
DTSTART;TZID=Europe/Berlin:20141122T103000
DTEND;TZID=Europe/Berlin:20141122T121500
LOCATION:
SUMMARY:14/15 D1-Jun. VL: VfB Oberweimar D - FSV Sömmerda D
END:VEVENT
BEGIN:VEVENT
UID:20260422T115700CEST-1719r4CzWj@85.13.129.106
DTSTAMP:20260422T095700Z
DESCRIPTION:
DTSTART;TZID=Europe/Berlin:20141129T093000
DTEND;TZID=Europe/Berlin:20141129T111500
LOCATION:
SUMMARY:14/15 D1-Jun. VL: FSV Sömmerda D - SC 1903 Weimar D
END:VEVENT
BEGIN:VEVENT
UID:20260422T115700CEST-1723IvKu3R@85.13.129.106
DTSTAMP:20260422T095700Z
DESCRIPTION:
DTSTART;TZID=Europe/Berlin:20141206T110000
DTEND;TZID=Europe/Berlin:20141206T124500
LOCATION:
SUMMARY:14/15 D1-Jun. VL: SG 1. FC Sonneberg 04 D - FSV Sömmerda D
END:VEVENT
BEGIN:VEVENT
UID:20260422T115700CEST-1728ph39eI@85.13.129.106
DTSTAMP:20260422T095700Z
DESCRIPTION:
DTSTART;TZID=Europe/Berlin:20150228T103000
DTEND;TZID=Europe/Berlin:20150228T121500
LOCATION:
SUMMARY:14/15 D1-Jun. VL: FC Carl Zeiss Jena D2 - FSV Sömmerda D
END:VEVENT
BEGIN:VEVENT
UID:20260422T115700CEST-1733M2MOvh@85.13.129.106
DTSTAMP:20260422T095700Z
DESCRIPTION:
DTSTART;TZID=Europe/Berlin:20150307T110000
DTEND;TZID=Europe/Berlin:20150307T124500
LOCATION:
SUMMARY:14/15 D1-Jun. VL: FSV Sömmerda D - SG Herpfer SV 07 D
END:VEVENT
BEGIN:VEVENT
UID:20260422T115700CEST-1737vcxpeW@85.13.129.106
DTSTAMP:20260422T095700Z
DESCRIPTION:
DTSTART;TZID=Europe/Berlin:20150314T093000
DTEND;TZID=Europe/Berlin:20150314T111500
LOCATION:
SUMMARY:14/15 D1-Jun. VL: FSV Sömmerda D - FC Rot-Weiß Erfurt D2
END:VEVENT
BEGIN:VEVENT
UID:20260422T115700CEST-1742icuIsN@85.13.129.106
DTSTAMP:20260422T095700Z
DESCRIPTION:
DTSTART;TZID=Europe/Berlin:20150419T110000
DTEND;TZID=Europe/Berlin:20150419T124500
LOCATION:
SUMMARY:14/15 D1-Jun. VL: TSV Germ. Sonneberg West D - FSV Sömmerda D
END:VEVENT
BEGIN:VEVENT
UID:20260422T115700CEST-17479VITgR@85.13.129.106
DTSTAMP:20260422T095700Z
DESCRIPTION:
DTSTART;TZID=Europe/Berlin:20150425T110000
DTEND;TZID=Europe/Berlin:20150425T124500
LOCATION:
SUMMARY:14/15 D1-Jun. VL: FSV Sömmerda D - SG SV Germania Ilmenau D
END:VEVENT
BEGIN:VEVENT
UID:20260422T115700CEST-1751ro2wz0@85.13.129.106
DTSTAMP:20260422T095700Z
DESCRIPTION:
DTSTART;TZID=Europe/Berlin:20150502T110000
DTEND;TZID=Europe/Berlin:20150502T124500
LOCATION:
SUMMARY:14/15 D1-Jun. VL: SG 1. Suhler SV 06 D - FSV Sömmerda D
END:VEVENT
BEGIN:VEVENT
UID:20260422T115700CEST-1756H9auVa@85.13.129.106
DTSTAMP:20260422T095700Z
DESCRIPTION:
DTSTART;TZID=Europe/Berlin:20150516T110000
DTEND;TZID=Europe/Berlin:20150516T124500
LOCATION:
SUMMARY:14/15 D1-Jun. VL: FSV Sömmerda D - SG FSV BW 90 Stadtilm D
END:VEVENT
BEGIN:VEVENT
UID:20260422T115700CEST-1760D77IAB@85.13.129.106
DTSTAMP:20260422T095700Z
DESCRIPTION:Schalkau
DTSTART;TZID=Europe/Berlin:20150531T110000
DTEND;TZID=Europe/Berlin:20150531T124500
LOCATION:Katzberger Straße 6\n96528 Schalkau\, 96528 Schalkau
SUMMARY:14/15 D1-Jun. VL: FC-BW Schalkau D - FSV Sömmerda D
END:VEVENT
BEGIN:VEVENT
UID:20260422T115700CEST-1765xBZmUZ@85.13.129.106
DTSTAMP:20260422T095700Z
DESCRIPTION:Schalkau
DTSTART;TZID=Europe/Berlin:20150606T103000
DTEND;TZID=Europe/Berlin:20150606T121500
LOCATION:Katzberger Straße 6\n96528 Schalkau\, 96528 Schalkau
SUMMARY:14/15 D1-Jun. VL: FSV Sömmerda D - VfB Oberweimar D
END:VEVENT
BEGIN:VEVENT
UID:20260422T115700CEST-1769eF2MWi@85.13.129.106
DTSTAMP:20260422T095700Z
DESCRIPTION:Schalkau
DTSTART;TZID=Europe/Berlin:20150613T103000
DTEND;TZID=Europe/Berlin:20150613T121500
LOCATION:Katzberger Straße 6\n96528 Schalkau\, 96528 Schalkau
SUMMARY:14/15 D1-Jun. VL: SC 1903 Weimar D - FSV Sömmerda D
END:VEVENT
BEGIN:VEVENT
UID:20260422T115700CEST-1773sEV9p7@85.13.129.106
DTSTAMP:20260422T095700Z
DESCRIPTION:Schalkau
DTSTART;TZID=Europe/Berlin:20150620T103000
DTEND;TZID=Europe/Berlin:20150620T121500
LOCATION:Katzberger Straße 6\n96528 Schalkau\, 96528 Schalkau
SUMMARY:14/15 D1-Jun. VL: FSV Sömmerda D - SG 1. FC Sonneberg 04 D
END:VEVENT
END:VCALENDAR
