BEGIN:VCALENDAR
VERSION:2.0
PRODID:-//85.13.129.106//NONSGML kigkonsult.se iCalcreator 2.10.23//
BEGIN:VEVENT
UID:20260422T200138CEST-1519vIzNJd@85.13.129.106
DTSTAMP:20260422T180138Z
DESCRIPTION:
DTSTART;TZID=Europe/Berlin:20131012T103000
DTEND;TZID=Europe/Berlin:20131012T121500
LOCATION:
SUMMARY:13/14 D-Jun. KOL: FSV 06 Eintr. Hildburghausen D - SG Gleichamberg 
 D
END:VEVENT
BEGIN:VEVENT
UID:20260422T200138CEST-1523UKoTae@85.13.129.106
DTSTAMP:20260422T180138Z
DESCRIPTION:
DTSTART;TZID=Europe/Berlin:20131103T103000
DTEND;TZID=Europe/Berlin:20131103T121500
LOCATION:
SUMMARY:13/14 D-Jun. KOL: SG Gleichamberg D - TSV Germ. Sonneberg West D2
END:VEVENT
BEGIN:VEVENT
UID:20260422T200138CEST-1528ANNsUU@85.13.129.106
DTSTAMP:20260422T180138Z
DESCRIPTION:
DTSTART;TZID=Europe/Berlin:20140314T170000
DTEND;TZID=Europe/Berlin:20140314T184500
LOCATION:
SUMMARY:13/14 D-Jun. KOL: SG Gleichamberg D - FC-BW Schalkau D
END:VEVENT
BEGIN:VEVENT
UID:20260422T200138CEST-1532cuOl7s@85.13.129.106
DTSTAMP:20260422T180138Z
DESCRIPTION:
DTSTART;TZID=Europe/Berlin:20140415T173000
DTEND;TZID=Europe/Berlin:20140415T191500
LOCATION:
SUMMARY:13/14 D-Jun. KOL: SG Gleichamberg D - SG 1951 Sonneberg D
END:VEVENT
BEGIN:VEVENT
UID:20260422T200138CEST-1536lfpeu4@85.13.129.106
DTSTAMP:20260422T180138Z
DESCRIPTION:
DTSTART;TZID=Europe/Berlin:20140328T170000
DTEND;TZID=Europe/Berlin:20140328T184500
LOCATION:
SUMMARY:13/14 D-Jun. KOL: SG Gleichamberg D - Erlauer SV Grün-Weiß D
END:VEVENT
BEGIN:VEVENT
UID:20260422T200138CEST-1541mXmhAH@85.13.129.106
DTSTAMP:20260422T180138Z
DESCRIPTION:
DTSTART;TZID=Europe/Berlin:20140405T100000
DTEND;TZID=Europe/Berlin:20140405T114500
LOCATION:
SUMMARY:13/14 D-Jun. KOL: SV Eintracht Oberland D - SG Gleichamberg D
END:VEVENT
BEGIN:VEVENT
UID:20260422T200138CEST-1545CfIDMi@85.13.129.106
DTSTAMP:20260422T180138Z
DESCRIPTION:
DTSTART;TZID=Europe/Berlin:20140411T170000
DTEND;TZID=Europe/Berlin:20140411T184500
LOCATION:
SUMMARY:13/14 D-Jun. KOL: SG Gleichamberg D - TSV 1908 Gompertshausen D
END:VEVENT
BEGIN:VEVENT
UID:20260422T200138CEST-1549ATLvSd@85.13.129.106
DTSTAMP:20260422T180138Z
DESCRIPTION:
DTSTART;TZID=Europe/Berlin:20140505T173000
DTEND;TZID=Europe/Berlin:20140505T191500
LOCATION:
SUMMARY:13/14 D-Jun. KOL: SG Gleichamberg D - FSV 06 Eintr. Hildburghausen 
 D
END:VEVENT
BEGIN:VEVENT
UID:20260422T200138CEST-1554z5rj2e@85.13.129.106
DTSTAMP:20260422T180138Z
DESCRIPTION:
DTSTART;TZID=Europe/Berlin:20140511T090000
DTEND;TZID=Europe/Berlin:20140511T104500
LOCATION:
SUMMARY:13/14 D-Jun. KOL: TSV Germ. Sonneberg West D2 - SG Gleichamberg D
END:VEVENT
BEGIN:VEVENT
UID:20260422T200138CEST-1558dra3V9@85.13.129.106
DTSTAMP:20260422T180138Z
DESCRIPTION:Schalkau
DTSTART;TZID=Europe/Berlin:20140517T103000
DTEND;TZID=Europe/Berlin:20140517T121500
LOCATION:Katzberger Straße 6\n96528 Schalkau\, 96528 Schalkau
SUMMARY:13/14 D-Jun. KOL: FC-BW Schalkau D - SG Gleichamberg D
END:VEVENT
BEGIN:VEVENT
UID:20260422T200138CEST-15623CgHP8@85.13.129.106
DTSTAMP:20260422T180138Z
DESCRIPTION:Schalkau
DTSTART;TZID=Europe/Berlin:20140525T103000
DTEND;TZID=Europe/Berlin:20140525T121500
LOCATION:Katzberger Straße 6\n96528 Schalkau\, 96528 Schalkau
SUMMARY:13/14 D-Jun. KOL: SG 1951 Sonneberg D - SG Gleichamberg D
END:VEVENT
BEGIN:VEVENT
UID:20260422T200138CEST-1566AOjuOr@85.13.129.106
DTSTAMP:20260422T180138Z
DESCRIPTION:Schalkau
DTSTART;TZID=Europe/Berlin:20140531T143000
DTEND;TZID=Europe/Berlin:20140531T161500
LOCATION:Katzberger Straße 6\n96528 Schalkau\, 96528 Schalkau
SUMMARY:13/14 D-Jun. KOL: Erlauer SV Grün-Weiß D - SG Gleichamberg D
END:VEVENT
BEGIN:VEVENT
UID:20260422T200138CEST-1571m8uaE7@85.13.129.106
DTSTAMP:20260422T180138Z
DESCRIPTION:Schalkau
DTSTART;TZID=Europe/Berlin:20140614T150000
DTEND;TZID=Europe/Berlin:20140614T164500
LOCATION:Katzberger Straße 6\n96528 Schalkau\, 96528 Schalkau
SUMMARY:13/14 D-Jun. KOL: SG Gleichamberg D - SV Eintracht Oberland D
END:VEVENT
BEGIN:VEVENT
UID:20260422T200138CEST-1575I0Bwsv@85.13.129.106
DTSTAMP:20260422T180138Z
DESCRIPTION:Schalkau
DTSTART;TZID=Europe/Berlin:20140620T173000
DTEND;TZID=Europe/Berlin:20140620T191500
LOCATION:Katzberger Straße 6\n96528 Schalkau\, 96528 Schalkau
SUMMARY:13/14 D-Jun. KOL: TSV 1908 Gompertshausen D - SG Gleichamberg D
END:VEVENT
END:VCALENDAR
