BEGIN:VCALENDAR
VERSION:2.0
PRODID:-//85.13.129.106//NONSGML kigkonsult.se iCalcreator 2.10.23//
BEGIN:VEVENT
UID:20260420T120646CEST-741947erlo@85.13.129.106
DTSTAMP:20260420T100646Z
DESCRIPTION:
DTSTART;TZID=Europe/Berlin:20130818T150000
DTEND;TZID=Europe/Berlin:20130818T164500
LOCATION:
SUMMARY:13/14 Herren 2.KK-O: SG Haselbach/ Hasenthal - FSV 06 Rauenstein II
END:VEVENT
BEGIN:VEVENT
UID:20260420T120646CEST-7423Uwe2WE@85.13.129.106
DTSTAMP:20260420T100646Z
DESCRIPTION:
DTSTART;TZID=Europe/Berlin:20130824T170000
DTEND;TZID=Europe/Berlin:20130824T184500
LOCATION:
SUMMARY:13/14 Herren 2.KK-O: FSV 06 Rauenstein II - SV Rottmar/Gefell
END:VEVENT
BEGIN:VEVENT
UID:20260420T120646CEST-7427rgfVu2@85.13.129.106
DTSTAMP:20260420T100646Z
DESCRIPTION:
DTSTART;TZID=Europe/Berlin:20130908T160000
DTEND;TZID=Europe/Berlin:20130908T174500
LOCATION:
SUMMARY:13/14 Herren 2.KK-O: FSV 06 Rauenstein II - VfR Jagdshof 1931
END:VEVENT
BEGIN:VEVENT
UID:20260420T120646CEST-74316vTvXd@85.13.129.106
DTSTAMP:20260420T100646Z
DESCRIPTION:
DTSTART;TZID=Europe/Berlin:20130914T150000
DTEND;TZID=Europe/Berlin:20130914T164500
LOCATION:
SUMMARY:13/14 Herren 2.KK-O: SV Rennsteig Ernstthal - FSV 06 Rauenstein II
END:VEVENT
BEGIN:VEVENT
UID:20260420T120646CEST-7435dstkK8@85.13.129.106
DTSTAMP:20260420T100646Z
DESCRIPTION:Mengersgereuth Hämmern
DTSTART;TZID=Europe/Berlin:20130922T160000
DTEND;TZID=Europe/Berlin:20130922T174500
LOCATION:\,  
SUMMARY:13/14 Herren 2.KK-O: FSV 06 Rauenstein II - FC-BW Schalkau II
END:VEVENT
BEGIN:VEVENT
UID:20260420T120646CEST-74402I8Fzm@85.13.129.106
DTSTAMP:20260420T100646Z
DESCRIPTION:Mengersgereuth Hämmern
DTSTART;TZID=Europe/Berlin:20130929T160000
DTEND;TZID=Europe/Berlin:20130929T174500
LOCATION:\,  
SUMMARY:13/14 Herren 2.KK-O: FSV 06 Rauenstein II - FC Heinersdorf
END:VEVENT
BEGIN:VEVENT
UID:20260420T120646CEST-7444dvFTmL@85.13.129.106
DTSTAMP:20260420T100646Z
DESCRIPTION:Mengersgereuth Hämmern
DTSTART;TZID=Europe/Berlin:20131006T130000
DTEND;TZID=Europe/Berlin:20131006T144500
LOCATION:\,  
SUMMARY:13/14 Herren 2.KK-O: SC 09 Effelder II - FSV 06 Rauenstein II
END:VEVENT
BEGIN:VEVENT
UID:20260420T120646CEST-7448Kf4gTD@85.13.129.106
DTSTAMP:20260420T100646Z
DESCRIPTION:Mengersgereuth Hämmern
DTSTART;TZID=Europe/Berlin:20131013T160000
DTEND;TZID=Europe/Berlin:20131013T174500
LOCATION:\,  
SUMMARY:13/14 Herren 2.KK-O: FSV 06 Rauenstein II - SG 1951 Sonneberg II
END:VEVENT
BEGIN:VEVENT
UID:20260420T120646CEST-74525rmuZZ@85.13.129.106
DTSTAMP:20260420T100646Z
DESCRIPTION:Mengersgereuth Hämmern
DTSTART;TZID=Europe/Berlin:20131026T130000
DTEND;TZID=Europe/Berlin:20131026T144500
LOCATION:\,  
SUMMARY:13/14 Herren 2.KK-O: FSV 06 Rauenstein II - SG Haselbach/ Hasenthal
END:VEVENT
BEGIN:VEVENT
UID:20260420T120646CEST-7456IMbFl2@85.13.129.106
DTSTAMP:20260420T100646Z
DESCRIPTION:Mengersgereuth Hämmern
DTSTART;TZID=Europe/Berlin:20131102T140000
DTEND;TZID=Europe/Berlin:20131102T154500
LOCATION:\,  
SUMMARY:13/14 Herren 2.KK-O: SV Rottmar/Gefell - FSV 06 Rauenstein II
END:VEVENT
BEGIN:VEVENT
UID:20260420T120646CEST-7460j1wM0V@85.13.129.106
DTSTAMP:20260420T100646Z
DESCRIPTION:Mengersgereuth Hämmern
DTSTART;TZID=Europe/Berlin:20140406T160000
DTEND;TZID=Europe/Berlin:20140406T174500
LOCATION:\,  
SUMMARY:13/14 Herren 2.KK-O: VfR Jagdshof 1931 - FSV 06 Rauenstein II
END:VEVENT
BEGIN:VEVENT
UID:20260420T120646CEST-74659MAZ8v@85.13.129.106
DTSTAMP:20260420T100646Z
DESCRIPTION:Mengersgereuth Hämmern
DTSTART;TZID=Europe/Berlin:20140412T140000
DTEND;TZID=Europe/Berlin:20140412T154500
LOCATION:\,  
SUMMARY:13/14 Herren 2.KK-O: FSV 06 Rauenstein II - SV Rennsteig Ernstthal
END:VEVENT
BEGIN:VEVENT
UID:20260420T120646CEST-7469Wzgc8s@85.13.129.106
DTSTAMP:20260420T100646Z
DESCRIPTION:Schalkau
DTSTART;TZID=Europe/Berlin:20140427T130000
DTEND;TZID=Europe/Berlin:20140427T144500
LOCATION:Katzberger Straße 6\n96528 Schalkau\, 96528 Schalkau
SUMMARY:13/14 Herren 2.KK-O: FC-BW Schalkau II - FSV 06 Rauenstein II
END:VEVENT
BEGIN:VEVENT
UID:20260420T120646CEST-7473KU3u8D@85.13.129.106
DTSTAMP:20260420T100646Z
DESCRIPTION:Schalkau
DTSTART;TZID=Europe/Berlin:20140504T140000
DTEND;TZID=Europe/Berlin:20140504T154500
LOCATION:Katzberger Straße 6\n96528 Schalkau\, 96528 Schalkau
SUMMARY:13/14 Herren 2.KK-O: FC Heinersdorf - FSV 06 Rauenstein II
END:VEVENT
BEGIN:VEVENT
UID:20260420T120646CEST-7477O4aViS@85.13.129.106
DTSTAMP:20260420T100646Z
DESCRIPTION:Schalkau
DTSTART;TZID=Europe/Berlin:20140510T140000
DTEND;TZID=Europe/Berlin:20140510T154500
LOCATION:Katzberger Straße 6\n96528 Schalkau\, 96528 Schalkau
SUMMARY:13/14 Herren 2.KK-O: FSV 06 Rauenstein II - SC 09 Effelder II
END:VEVENT
BEGIN:VEVENT
UID:20260420T120646CEST-7481n4W0gU@85.13.129.106
DTSTAMP:20260420T100646Z
DESCRIPTION:Schalkau
DTSTART;TZID=Europe/Berlin:20140524T170000
DTEND;TZID=Europe/Berlin:20140524T184500
LOCATION:Katzberger Straße 6\n96528 Schalkau\, 96528 Schalkau
SUMMARY:13/14 Herren 2.KK-O: SG 1951 Sonneberg II - FSV 06 Rauenstein II
END:VEVENT
END:VCALENDAR
