BEGIN:VCALENDAR
VERSION:2.0
PRODID:-//85.13.129.106//NONSGML kigkonsult.se iCalcreator 2.10.23//
BEGIN:VEVENT
UID:20260422T142911CEST-3895OrkC5D@85.13.129.106
DTSTAMP:20260422T122911Z
DESCRIPTION:
DTSTART;TZID=Europe/Amsterdam:20130911T173000
DTEND;TZID=Europe/Amsterdam:20130911T191500
LOCATION:
SUMMARY:13/14 E-Jun. Pokal: TSV Germ. Hellingen E - FSV 07 Lauscha E
END:VEVENT
END:VCALENDAR
