BEGIN:VCALENDAR
VERSION:2.0
PRODID:-//85.13.129.106//NONSGML kigkonsult.se iCalcreator 2.10.23//
BEGIN:VEVENT
UID:20260424T004625CEST-2375KnV3ur@85.13.129.106
DTSTAMP:20260423T224625Z
DESCRIPTION:
DTSTART;TZID=Europe/Amsterdam:20130911T173000
DTEND;TZID=Europe/Amsterdam:20130911T191500
LOCATION:
SUMMARY:13/14 E-Jun. Pokal: SV Nahetal Hinternah E - SC 06 Oberlind E
END:VEVENT
END:VCALENDAR
