BEGIN:VCALENDAR
VERSION:2.0
PRODID:-//85.13.129.106//NONSGML kigkonsult.se iCalcreator 2.10.23//
BEGIN:VEVENT
UID:20260421T193931CEST-4929smk0o1@85.13.129.106
DTSTAMP:20260421T173931Z
DESCRIPTION:
DTSTART;TZID=Europe/Amsterdam:20131019T150000
DTEND;TZID=Europe/Amsterdam:20131019T163500
LOCATION:
SUMMARY:13/14 B-Jun. Pokal: Freilos - TSV Germ. Sonneberg West B
END:VEVENT
BEGIN:VEVENT
UID:20260421T193931CEST-4936Bd4v7I@85.13.129.106
DTSTAMP:20260421T173931Z
DESCRIPTION:
DTSTART;TZID=Europe/Amsterdam:20131019T150000
DTEND;TZID=Europe/Amsterdam:20131019T163500
LOCATION:
SUMMARY:13/14 B-Jun. Pokal: Freilos - 1. FC Köppelsdorf B
END:VEVENT
BEGIN:VEVENT
UID:20260421T193931CEST-4943J2lbhH@85.13.129.106
DTSTAMP:20260421T173931Z
DESCRIPTION:
DTSTART;TZID=Europe/Amsterdam:20131019T150000
DTEND;TZID=Europe/Amsterdam:20131019T163500
LOCATION:
SUMMARY:13/14 B-Jun. Pokal: Freilos - SG Mendhausen B
END:VEVENT
BEGIN:VEVENT
UID:20260421T193931CEST-49513Wm7F2@85.13.129.106
DTSTAMP:20260421T173931Z
DESCRIPTION:
DTSTART;TZID=Europe/Amsterdam:20131019T150000
DTEND;TZID=Europe/Amsterdam:20131019T163500
LOCATION:
SUMMARY:13/14 B-Jun. Pokal: Freilos - SV EK Veilsdorf B
END:VEVENT
BEGIN:VEVENT
UID:20260421T193931CEST-4958euMISV@85.13.129.106
DTSTAMP:20260421T173931Z
DESCRIPTION:
DTSTART;TZID=Europe/Amsterdam:20131019T150000
DTEND;TZID=Europe/Amsterdam:20131019T163500
LOCATION:
SUMMARY:13/14 B-Jun. Pokal: Freilos - FC-BW Schalkau B
END:VEVENT
BEGIN:VEVENT
UID:20260421T193931CEST-4966VjDi9E@85.13.129.106
DTSTAMP:20260421T173931Z
DESCRIPTION:
DTSTART;TZID=Europe/Amsterdam:20131019T150000
DTEND;TZID=Europe/Amsterdam:20131019T163500
LOCATION:
SUMMARY:13/14 B-Jun. Pokal: Freilos - SV 08 Steinach B
END:VEVENT
END:VCALENDAR
