BEGIN:VCALENDAR
VERSION:2.0
PRODID:-//85.13.129.106//NONSGML kigkonsult.se iCalcreator 2.10.23//
BEGIN:VEVENT
UID:20260422T134605CEST-9500r4uIE5@85.13.129.106
DTSTAMP:20260422T114605Z
DESCRIPTION:
DTSTART;TZID=Europe/Amsterdam:20130901T103000
DTEND;TZID=Europe/Amsterdam:20130901T121500
LOCATION:
SUMMARY:13/14 E-Jun. KL: SV EK Veilsdorf E2 - FSV 07 Lauscha E
END:VEVENT
BEGIN:VEVENT
UID:20260422T134605CEST-9505uCVR4a@85.13.129.106
DTSTAMP:20260422T114605Z
DESCRIPTION:
DTSTART;TZID=Europe/Amsterdam:20130907T103000
DTEND;TZID=Europe/Amsterdam:20130907T121500
LOCATION:
SUMMARY:13/14 E-Jun. KL: FSV 07 Lauscha E - TSV Germ. Sonneberg West E
END:VEVENT
BEGIN:VEVENT
UID:20260422T134605CEST-9509b22V8e@85.13.129.106
DTSTAMP:20260422T114605Z
DESCRIPTION:
DTSTART;TZID=Europe/Amsterdam:20130914T103000
DTEND;TZID=Europe/Amsterdam:20130914T121500
LOCATION:
SUMMARY:13/14 E-Jun. KL: FSV Mengersgereuth-Hämmern E - FSV 07 Lauscha E
END:VEVENT
BEGIN:VEVENT
UID:20260422T134605CEST-95140thhNF@85.13.129.106
DTSTAMP:20260422T114605Z
DESCRIPTION:
DTSTART;TZID=Europe/Amsterdam:20130921T103000
DTEND;TZID=Europe/Amsterdam:20130921T121500
LOCATION:
SUMMARY:13/14 E-Jun. KL: FSV 07 Lauscha E - FC-BW Schalkau E
END:VEVENT
BEGIN:VEVENT
UID:20260422T134605CEST-9518NVo2sw@85.13.129.106
DTSTAMP:20260422T114605Z
DESCRIPTION:
DTSTART;TZID=Europe/Amsterdam:20130929T103000
DTEND;TZID=Europe/Amsterdam:20130929T121500
LOCATION:
SUMMARY:13/14 E-Jun. KL: SV Falke Sachsenbrunn E - FSV 07 Lauscha E
END:VEVENT
BEGIN:VEVENT
UID:20260422T134605CEST-9523eawnFU@85.13.129.106
DTSTAMP:20260422T114605Z
DESCRIPTION:
DTSTART;TZID=Europe/Amsterdam:20131012T103000
DTEND;TZID=Europe/Amsterdam:20131012T121500
LOCATION:
SUMMARY:13/14 E-Jun. KL: FSV 07 Lauscha E - FSV 06 Rauenstein E
END:VEVENT
END:VCALENDAR
