BEGIN:VCALENDAR
VERSION:2.0
PRODID:-//85.13.129.106//NONSGML kigkonsult.se iCalcreator 2.10.23//
BEGIN:VEVENT
UID:20260422T232224CEST-6604NZGVNo@85.13.129.106
DTSTAMP:20260422T212224Z
DESCRIPTION:
DTSTART;TZID=Europe/Amsterdam:20130907T103000
DTEND;TZID=Europe/Amsterdam:20130907T121500
LOCATION:
SUMMARY:13/14 E-Jun. KL: FSV 06 Rauenstein E - SV EK Veilsdorf E2
END:VEVENT
BEGIN:VEVENT
UID:20260422T232224CEST-6609e7pIns@85.13.129.106
DTSTAMP:20260422T212224Z
DESCRIPTION:
DTSTART;TZID=Europe/Amsterdam:20130915T103000
DTEND;TZID=Europe/Amsterdam:20130915T121500
LOCATION:
SUMMARY:13/14 E-Jun. KL: TSV Germ. Sonneberg West E - FSV 06 Rauenstein E
END:VEVENT
BEGIN:VEVENT
UID:20260422T232224CEST-6613TXiTiL@85.13.129.106
DTSTAMP:20260422T212224Z
DESCRIPTION:
DTSTART;TZID=Europe/Amsterdam:20130925T170000
DTEND;TZID=Europe/Amsterdam:20130925T184500
LOCATION:
SUMMARY:13/14 E-Jun. KL: FSV 06 Rauenstein E - FSV Mengersgereuth-Hämmern E
END:VEVENT
BEGIN:VEVENT
UID:20260422T232224CEST-6617m67tK8@85.13.129.106
DTSTAMP:20260422T212224Z
DESCRIPTION:Schalkau
DTSTART;TZID=Europe/Amsterdam:20130928T103000
DTEND;TZID=Europe/Amsterdam:20130928T121500
LOCATION:Katzberger Straße 6\n96528 Schalkau\, 96528 Schalkau
SUMMARY:13/14 E-Jun. KL: FC-BW Schalkau E - FSV 06 Rauenstein E
END:VEVENT
BEGIN:VEVENT
UID:20260422T232224CEST-6622Uvx5u1@85.13.129.106
DTSTAMP:20260422T212224Z
DESCRIPTION:Schalkau
DTSTART;TZID=Europe/Amsterdam:20131005T103000
DTEND;TZID=Europe/Amsterdam:20131005T121500
LOCATION:Katzberger Straße 6\n96528 Schalkau\, 96528 Schalkau
SUMMARY:13/14 E-Jun. KL: FSV 06 Rauenstein E - SV Falke Sachsenbrunn E
END:VEVENT
BEGIN:VEVENT
UID:20260422T232224CEST-6626LRk5tI@85.13.129.106
DTSTAMP:20260422T212224Z
DESCRIPTION:Schalkau
DTSTART;TZID=Europe/Amsterdam:20131012T103000
DTEND;TZID=Europe/Amsterdam:20131012T121500
LOCATION:Katzberger Straße 6\n96528 Schalkau\, 96528 Schalkau
SUMMARY:13/14 E-Jun. KL: FSV 07 Lauscha E - FSV 06 Rauenstein E
END:VEVENT
END:VCALENDAR
