BEGIN:VCALENDAR
VERSION:2.0
PRODID:-//85.13.129.106//NONSGML kigkonsult.se iCalcreator 2.10.23//
BEGIN:VEVENT
UID:20260420T014426CEST-2414tUeJw2@85.13.129.106
DTSTAMP:20260419T234426Z
DESCRIPTION:
DTSTART;TZID=Europe/Berlin:20180824T180000
DTEND;TZID=Europe/Berlin:20180824T193500
LOCATION:
SUMMARY:18/19 B-Jun. Pokal: SG 1. FC Sonneberg 04 B - SG Goßmannsrod/Oberla
 nd B
END:VEVENT
BEGIN:VEVENT
UID:20260420T014426CEST-2418tIM9UM@85.13.129.106
DTSTAMP:20260419T234426Z
DESCRIPTION:
DTSTART;TZID=Europe/Berlin:20181031T140000
DTEND;TZID=Europe/Berlin:20181031T153500
LOCATION:
SUMMARY:18/19 B-Jun. Pokal: SG SC 06 Oberlind B - SG Goßmannsrod/Oberland B
END:VEVENT
BEGIN:VEVENT
UID:20260420T014426CEST-2423d2KhzJ@85.13.129.106
DTSTAMP:20260419T234426Z
DESCRIPTION:
DTSTART;TZID=Europe/Berlin:20190412T180000
DTEND;TZID=Europe/Berlin:20190412T193500
LOCATION:
SUMMARY:18/19 B-Jun. Pokal: SG Römhild B - SG Goßmannsrod/Oberland B
END:VEVENT
BEGIN:VEVENT
UID:20260420T014426CEST-2427v4ch63@85.13.129.106
DTSTAMP:20260419T234426Z
DESCRIPTION:
DTSTART;TZID=Europe/Berlin:20190501T150000
DTEND;TZID=Europe/Berlin:20190501T163500
LOCATION:
SUMMARY:18/19 B-Jun. Pokal: SG Goßmannsrod/Oberland B - SV 03 Eisfeld/Schal
 kau B
END:VEVENT
END:VCALENDAR
