BEGIN:VCALENDAR
VERSION:2.0
PRODID:-//85.13.129.106//NONSGML kigkonsult.se iCalcreator 2.10.23//
BEGIN:VEVENT
UID:20260423T041928CEST-2559NveZDT@85.13.129.106
DTSTAMP:20260423T021928Z
DESCRIPTION:
DTSTART;TZID=Europe/Berlin:20180811T103000
DTEND;TZID=Europe/Berlin:20180811T111500
LOCATION:
SUMMARY:18/19 D-Jun. Landespokal: SG Effelder/Schalkau D - 1. FC Sonneberg 
 04 D
END:VEVENT
BEGIN:VEVENT
UID:20260423T041928CEST-2564T5vM72@85.13.129.106
DTSTAMP:20260423T021928Z
DESCRIPTION:
DTSTART;TZID=Europe/Berlin:20180915T103000
DTEND;TZID=Europe/Berlin:20180915T111500
LOCATION:
SUMMARY:18/19 D-Jun. Landespokal: 1. FC Sonneberg 04 D - SV Germania Ilmena
 u D
END:VEVENT
END:VCALENDAR
