BEGIN:VCALENDAR
VERSION:2.0
PRODID:-//85.13.129.106//NONSGML kigkonsult.se iCalcreator 2.10.23//
BEGIN:VEVENT
UID:20260423T102448CEST-7113KCRwCm@85.13.129.106
DTSTAMP:20260423T082448Z
DESCRIPTION:
DTSTART;TZID=Europe/Berlin:20180818T110000
DTEND;TZID=Europe/Berlin:20180818T124500
LOCATION:
SUMMARY:18/19 D-Jun. VL: SV Wacker 04 Bad Salzungen D - 1. Suhler SV 06 D
END:VEVENT
BEGIN:VEVENT
UID:20260423T102448CEST-7118CZGI7J@85.13.129.106
DTSTAMP:20260423T082448Z
DESCRIPTION:
DTSTART;TZID=Europe/Berlin:20180826T110000
DTEND;TZID=Europe/Berlin:20180826T124500
LOCATION:
SUMMARY:18/19 D-Jun. VL: 1. Suhler SV 06 D - SG Effelder/Schalkau D
END:VEVENT
BEGIN:VEVENT
UID:20260423T102448CEST-7122IHp2v8@85.13.129.106
DTSTAMP:20260423T082448Z
DESCRIPTION:
DTSTART;TZID=Europe/Berlin:20180902T103000
DTEND;TZID=Europe/Berlin:20180902T121500
LOCATION:
SUMMARY:18/19 D-Jun. VL: 1. Suhler SV 06 D - spielfrei
END:VEVENT
BEGIN:VEVENT
UID:20260423T102448CEST-7126XXUK1N@85.13.129.106
DTSTAMP:20260423T082448Z
DESCRIPTION:
DTSTART;TZID=Europe/Berlin:20180908T103000
DTEND;TZID=Europe/Berlin:20180908T121500
LOCATION:
SUMMARY:18/19 D-Jun. VL: FSV Ulstertal Geisa 1866 D - 1. Suhler SV 06 D
END:VEVENT
BEGIN:VEVENT
UID:20260423T102448CEST-7131uNkmI7@85.13.129.106
DTSTAMP:20260423T082448Z
DESCRIPTION:
DTSTART;TZID=Europe/Berlin:20180928T173000
DTEND;TZID=Europe/Berlin:20180928T191500
LOCATION:
SUMMARY:18/19 D-Jun. VL: 1. Suhler SV 06 D - FSV Martinroda D
END:VEVENT
BEGIN:VEVENT
UID:20260423T102448CEST-713512a6pU@85.13.129.106
DTSTAMP:20260423T082448Z
DESCRIPTION:
DTSTART;TZID=Europe/Berlin:20181031T103000
DTEND;TZID=Europe/Berlin:20181031T121500
LOCATION:
SUMMARY:18/19 D-Jun. VL: 1. FC Sonneberg 04 D - 1. Suhler SV 06 D
END:VEVENT
BEGIN:VEVENT
UID:20260423T102448CEST-7140USjObU@85.13.129.106
DTSTAMP:20260423T082448Z
DESCRIPTION:
DTSTART;TZID=Europe/Berlin:20181027T110000
DTEND;TZID=Europe/Berlin:20181027T124500
LOCATION:
SUMMARY:18/19 D-Jun. VL: 1. Suhler SV 06 D - SG SpG Helba D
END:VEVENT
BEGIN:VEVENT
UID:20260423T102448CEST-7144NDKAbI@85.13.129.106
DTSTAMP:20260423T082448Z
DESCRIPTION:
DTSTART;TZID=Europe/Berlin:20181103T103000
DTEND;TZID=Europe/Berlin:20181103T121500
LOCATION:
SUMMARY:18/19 D-Jun. VL: 1. Suhler SV 06 D - SV Wacker 04 Bad Salzungen D
END:VEVENT
BEGIN:VEVENT
UID:20260423T102448CEST-7148rv5vaT@85.13.129.106
DTSTAMP:20260423T082448Z
DESCRIPTION:
DTSTART;TZID=Europe/Berlin:20181110T103000
DTEND;TZID=Europe/Berlin:20181110T121500
LOCATION:
SUMMARY:18/19 D-Jun. VL: SG Effelder/Schalkau D - 1. Suhler SV 06 D
END:VEVENT
BEGIN:VEVENT
UID:20260423T102448CEST-7153Zv4I6j@85.13.129.106
DTSTAMP:20260423T082448Z
DESCRIPTION:
DTSTART;TZID=Europe/Berlin:20181118T103000
DTEND;TZID=Europe/Berlin:20181118T121500
LOCATION:
SUMMARY:18/19 D-Jun. VL: spielfrei - 1. Suhler SV 06 D
END:VEVENT
BEGIN:VEVENT
UID:20260423T102448CEST-71576iCZZL@85.13.129.106
DTSTAMP:20260423T082448Z
DESCRIPTION:
DTSTART;TZID=Europe/Berlin:20181124T103000
DTEND;TZID=Europe/Berlin:20181124T121500
LOCATION:
SUMMARY:18/19 D-Jun. VL: 1. Suhler SV 06 D - FSV Ulstertal Geisa 1866 D
END:VEVENT
BEGIN:VEVENT
UID:20260423T102448CEST-7162S83UUL@85.13.129.106
DTSTAMP:20260423T082448Z
DESCRIPTION:
DTSTART;TZID=Europe/Berlin:20190223T103000
DTEND;TZID=Europe/Berlin:20190223T121500
LOCATION:
SUMMARY:18/19 D-Jun. VL: FSV Martinroda D - 1. Suhler SV 06 D
END:VEVENT
BEGIN:VEVENT
UID:20260423T102448CEST-7166LH2uXe@85.13.129.106
DTSTAMP:20260423T082448Z
DESCRIPTION:
DTSTART;TZID=Europe/Berlin:20190302T103000
DTEND;TZID=Europe/Berlin:20190302T121500
LOCATION:
SUMMARY:18/19 D-Jun. VL: 1. FC Sonneberg 04 D - 1. Suhler SV 06 D
END:VEVENT
BEGIN:VEVENT
UID:20260423T102448CEST-7170mFBoNb@85.13.129.106
DTSTAMP:20260423T082448Z
DESCRIPTION:
DTSTART;TZID=Europe/Berlin:20190309T103000
DTEND;TZID=Europe/Berlin:20190309T121500
LOCATION:
SUMMARY:18/19 D-Jun. VL: SG SpG Helba D - 1. Suhler SV 06 D
END:VEVENT
BEGIN:VEVENT
UID:20260423T102448CEST-7175vI34cg@85.13.129.106
DTSTAMP:20260423T082448Z
DESCRIPTION:
DTSTART;TZID=Europe/Berlin:20190317T110000
DTEND;TZID=Europe/Berlin:20190317T124500
LOCATION:
SUMMARY:18/19 D-Jun. VL: SV Wacker 04 Bad Salzungen D - 1. Suhler SV 06 D
END:VEVENT
BEGIN:VEVENT
UID:20260423T102448CEST-7179Kls4pG@85.13.129.106
DTSTAMP:20260423T082448Z
DESCRIPTION:
DTSTART;TZID=Europe/Berlin:20190428T103000
DTEND;TZID=Europe/Berlin:20190428T121500
LOCATION:
SUMMARY:18/19 D-Jun. VL: 1. Suhler SV 06 D - SG Effelder/Schalkau D
END:VEVENT
BEGIN:VEVENT
UID:20260423T102448CEST-7183XfaaVh@85.13.129.106
DTSTAMP:20260423T082448Z
DESCRIPTION:
DTSTART;TZID=Europe/Berlin:20190407T103000
DTEND;TZID=Europe/Berlin:20190407T121500
LOCATION:
SUMMARY:18/19 D-Jun. VL: 1. Suhler SV 06 D - spielfrei
END:VEVENT
BEGIN:VEVENT
UID:20260423T102448CEST-7188SW8FJu@85.13.129.106
DTSTAMP:20260423T082448Z
DESCRIPTION:
DTSTART;TZID=Europe/Berlin:20190511T103000
DTEND;TZID=Europe/Berlin:20190511T121500
LOCATION:
SUMMARY:18/19 D-Jun. VL: FSV Ulstertal Geisa 1866 D - 1. Suhler SV 06 D
END:VEVENT
BEGIN:VEVENT
UID:20260423T102448CEST-7192PPiwES@85.13.129.106
DTSTAMP:20260423T082448Z
DESCRIPTION:
DTSTART;TZID=Europe/Berlin:20190519T110000
DTEND;TZID=Europe/Berlin:20190519T124500
LOCATION:
SUMMARY:18/19 D-Jun. VL: 1. Suhler SV 06 D - FSV Martinroda D
END:VEVENT
BEGIN:VEVENT
UID:20260423T102448CEST-7196pgBce3@85.13.129.106
DTSTAMP:20260423T082448Z
DESCRIPTION:
DTSTART;TZID=Europe/Berlin:20190525T103000
DTEND;TZID=Europe/Berlin:20190525T121500
LOCATION:
SUMMARY:18/19 D-Jun. VL: 1. Suhler SV 06 D - 1. FC Sonneberg 04 D
END:VEVENT
BEGIN:VEVENT
UID:20260423T102448CEST-7201OLJP6d@85.13.129.106
DTSTAMP:20260423T082448Z
DESCRIPTION:
DTSTART;TZID=Europe/Berlin:20190601T103000
DTEND;TZID=Europe/Berlin:20190601T121500
LOCATION:
SUMMARY:18/19 D-Jun. VL: 1. Suhler SV 06 D - SG SpG Helba D
END:VEVENT
END:VCALENDAR
