BEGIN:VCALENDAR
VERSION:2.0
PRODID:-//85.13.129.106//NONSGML kigkonsult.se iCalcreator 2.10.23//
BEGIN:VEVENT
UID:20260424T002535CEST-0023zhL8Po@85.13.129.106
DTSTAMP:20260423T222535Z
DESCRIPTION:
DTSTART;TZID=Europe/Berlin:20180812T170000
DTEND;TZID=Europe/Berlin:20180812T184500
LOCATION:
SUMMARY:18/19 Herren 2.KK-O: spielfrei - SG SV 08 Steinach III
END:VEVENT
BEGIN:VEVENT
UID:20260424T002535CEST-002788mG1I@85.13.129.106
DTSTAMP:20260423T222535Z
DESCRIPTION:
DTSTART;TZID=Europe/Berlin:20181111T130000
DTEND;TZID=Europe/Berlin:20181111T144500
LOCATION:
SUMMARY:18/19 Herren 2.KK-O: SG SV 08 Steinach III - 1. FC Köppelsdorf II
END:VEVENT
BEGIN:VEVENT
UID:20260424T002535CEST-0032IuOtvH@85.13.129.106
DTSTAMP:20260423T222535Z
DESCRIPTION:Schalkau
DTSTART;TZID=Europe/Berlin:20180803T183000
DTEND;TZID=Europe/Berlin:20180803T201500
LOCATION:Katzberger Straße 6\n96528 Schalkau\, 96528 Schalkau
SUMMARY:18/19 Herren 2.KK-O: FC-BW Schalkau II - SG SV 08 Steinach III
END:VEVENT
BEGIN:VEVENT
UID:20260424T002535CEST-0036NMWosS@85.13.129.106
DTSTAMP:20260423T222535Z
DESCRIPTION:Schalkau
DTSTART;TZID=Europe/Berlin:20180902T150000
DTEND;TZID=Europe/Berlin:20180902T164500
LOCATION:Katzberger Straße 6\n96528 Schalkau\, 96528 Schalkau
SUMMARY:18/19 Herren 2.KK-O: SG SV 08 Steinach III - SG Lauscha/Neuhaus II
END:VEVENT
BEGIN:VEVENT
UID:20260424T002535CEST-0040MTl4iT@85.13.129.106
DTSTAMP:20260423T222535Z
DESCRIPTION:Schalkau
DTSTART;TZID=Europe/Berlin:20180908T160000
DTEND;TZID=Europe/Berlin:20180908T174500
LOCATION:Katzberger Straße 6\n96528 Schalkau\, 96528 Schalkau
SUMMARY:18/19 Herren 2.KK-O: SC 06 Oberlind II - SG SV 08 Steinach III
END:VEVENT
BEGIN:VEVENT
UID:20260424T002535CEST-0045fdKW5A@85.13.129.106
DTSTAMP:20260423T222535Z
DESCRIPTION:Schalkau
DTSTART;TZID=Europe/Berlin:20180915T160000
DTEND;TZID=Europe/Berlin:20180915T174500
LOCATION:Katzberger Straße 6\n96528 Schalkau\, 96528 Schalkau
SUMMARY:18/19 Herren 2.KK-O: SG SV 08 Steinach III - SV Iso. Neuhaus Schier
 schnitz II
END:VEVENT
BEGIN:VEVENT
UID:20260424T002535CEST-00496VBU2X@85.13.129.106
DTSTAMP:20260423T222535Z
DESCRIPTION:Schalkau
DTSTART;TZID=Europe/Berlin:20180923T150000
DTEND;TZID=Europe/Berlin:20180923T164500
LOCATION:Katzberger Straße 6\n96528 Schalkau\, 96528 Schalkau
SUMMARY:18/19 Herren 2.KK-O: spielfrei - SG SV 08 Steinach III
END:VEVENT
BEGIN:VEVENT
UID:20260424T002535CEST-0053FOlvxx@85.13.129.106
DTSTAMP:20260423T222535Z
DESCRIPTION:Schalkau
DTSTART;TZID=Europe/Berlin:20180930T130000
DTEND;TZID=Europe/Berlin:20180930T144500
LOCATION:Katzberger Straße 6\n96528 Schalkau\, 96528 Schalkau
SUMMARY:18/19 Herren 2.KK-O: SG SV 08 Steinach III - TSV Germ. Sonneberg-We
 st II
END:VEVENT
BEGIN:VEVENT
UID:20260424T002535CEST-0058aIP1fu@85.13.129.106
DTSTAMP:20260423T222535Z
DESCRIPTION:Schalkau
DTSTART;TZID=Europe/Berlin:20181007T150000
DTEND;TZID=Europe/Berlin:20181007T164500
LOCATION:Katzberger Straße 6\n96528 Schalkau\, 96528 Schalkau
SUMMARY:18/19 Herren 2.KK-O: SG Heinersdorf/Neuenbau - SG SV 08 Steinach II
 I
END:VEVENT
BEGIN:VEVENT
UID:20260424T002535CEST-0062rz2p8f@85.13.129.106
DTSTAMP:20260423T222535Z
DESCRIPTION:Schalkau
DTSTART;TZID=Europe/Berlin:20181014T150000
DTEND;TZID=Europe/Berlin:20181014T164500
LOCATION:Katzberger Straße 6\n96528 Schalkau\, 96528 Schalkau
SUMMARY:18/19 Herren 2.KK-O: SG SV 08 Steinach III - VfR Jagdshof 1931
END:VEVENT
BEGIN:VEVENT
UID:20260424T002535CEST-0066flzwnf@85.13.129.106
DTSTAMP:20260423T222535Z
DESCRIPTION:Schalkau
DTSTART;TZID=Europe/Berlin:20181021T150000
DTEND;TZID=Europe/Berlin:20181021T164500
LOCATION:Katzberger Straße 6\n96528 Schalkau\, 96528 Schalkau
SUMMARY:18/19 Herren 2.KK-O: SV Rottmar/Gefell - SG SV 08 Steinach III
END:VEVENT
BEGIN:VEVENT
UID:20260424T002535CEST-0071JncC7u@85.13.129.106
DTSTAMP:20260423T222535Z
DESCRIPTION:Schalkau
DTSTART;TZID=Europe/Berlin:20181028T150000
DTEND;TZID=Europe/Berlin:20181028T164500
LOCATION:Katzberger Straße 6\n96528 Schalkau\, 96528 Schalkau
SUMMARY:18/19 Herren 2.KK-O: SG SV 08 Steinach III - spielfrei
END:VEVENT
BEGIN:VEVENT
UID:20260424T002535CEST-0075HgOPEw@85.13.129.106
DTSTAMP:20260423T222535Z
DESCRIPTION:Schalkau
DTSTART;TZID=Europe/Berlin:20181104T123000
DTEND;TZID=Europe/Berlin:20181104T141500
LOCATION:Katzberger Straße 6\n96528 Schalkau\, 96528 Schalkau
SUMMARY:18/19 Herren 2.KK-O: 1. FC Köppelsdorf II - SG SV 08 Steinach III
END:VEVENT
BEGIN:VEVENT
UID:20260424T002535CEST-0079g6ko3o@85.13.129.106
DTSTAMP:20260423T222535Z
DESCRIPTION:Schalkau
DTSTART;TZID=Europe/Berlin:20190317T120000
DTEND;TZID=Europe/Berlin:20190317T134500
LOCATION:Katzberger Straße 6\n96528 Schalkau\, 96528 Schalkau
SUMMARY:18/19 Herren 2.KK-O: SG SV 08 Steinach III - FC-BW Schalkau II
END:VEVENT
BEGIN:VEVENT
UID:20260424T002535CEST-0084h1zhez@85.13.129.106
DTSTAMP:20260423T222535Z
DESCRIPTION:Schalkau
DTSTART;TZID=Europe/Berlin:20190323T160000
DTEND;TZID=Europe/Berlin:20190323T174500
LOCATION:Katzberger Straße 6\n96528 Schalkau\, 96528 Schalkau
SUMMARY:18/19 Herren 2.KK-O: SG Lauscha/Neuhaus II - SG SV 08 Steinach III
END:VEVENT
BEGIN:VEVENT
UID:20260424T002535CEST-0088bXa5m4@85.13.129.106
DTSTAMP:20260423T222535Z
DESCRIPTION:Schalkau
DTSTART;TZID=Europe/Berlin:20190330T160000
DTEND;TZID=Europe/Berlin:20190330T174500
LOCATION:Katzberger Straße 6\n96528 Schalkau\, 96528 Schalkau
SUMMARY:18/19 Herren 2.KK-O: SG SV 08 Steinach III - SC 06 Oberlind II
END:VEVENT
BEGIN:VEVENT
UID:20260424T002535CEST-00920v63tD@85.13.129.106
DTSTAMP:20260423T222535Z
DESCRIPTION:Schalkau
DTSTART;TZID=Europe/Berlin:20190407T130000
DTEND;TZID=Europe/Berlin:20190407T144500
LOCATION:Katzberger Straße 6\n96528 Schalkau\, 96528 Schalkau
SUMMARY:18/19 Herren 2.KK-O: SV Iso. Neuhaus Schierschnitz II - SG SV 08 St
 einach III
END:VEVENT
BEGIN:VEVENT
UID:20260424T002535CEST-0097PWg9np@85.13.129.106
DTSTAMP:20260423T222535Z
DESCRIPTION:Schalkau
DTSTART;TZID=Europe/Berlin:20190413T160000
DTEND;TZID=Europe/Berlin:20190413T174500
LOCATION:Katzberger Straße 6\n96528 Schalkau\, 96528 Schalkau
SUMMARY:18/19 Herren 2.KK-O: SG SV 08 Steinach III - spielfrei
END:VEVENT
BEGIN:VEVENT
UID:20260424T002535CEST-0101NCwItv@85.13.129.106
DTSTAMP:20260423T222535Z
DESCRIPTION:Schalkau
DTSTART;TZID=Europe/Berlin:20190524T190000
DTEND;TZID=Europe/Berlin:20190524T204500
LOCATION:Katzberger Straße 6\n96528 Schalkau\, 96528 Schalkau
SUMMARY:18/19 Herren 2.KK-O: TSV Germ. Sonneberg-West II - SG SV 08 Steinac
 h III
END:VEVENT
BEGIN:VEVENT
UID:20260424T002535CEST-01052PbmlM@85.13.129.106
DTSTAMP:20260423T222535Z
DESCRIPTION:Schalkau
DTSTART;TZID=Europe/Berlin:20190512T130000
DTEND;TZID=Europe/Berlin:20190512T144500
LOCATION:Katzberger Straße 6\n96528 Schalkau\, 96528 Schalkau
SUMMARY:18/19 Herren 2.KK-O: SG SV 08 Steinach III - SG Heinersdorf/Neuenba
 u
END:VEVENT
BEGIN:VEVENT
UID:20260424T002535CEST-0110O84Uun@85.13.129.106
DTSTAMP:20260423T222535Z
DESCRIPTION:Schalkau
DTSTART;TZID=Europe/Berlin:20190519T150000
DTEND;TZID=Europe/Berlin:20190519T164500
LOCATION:Katzberger Straße 6\n96528 Schalkau\, 96528 Schalkau
SUMMARY:18/19 Herren 2.KK-O: VfR Jagdshof 1931 - SG SV 08 Steinach III
END:VEVENT
BEGIN:VEVENT
UID:20260424T002535CEST-0114uFuIWF@85.13.129.106
DTSTAMP:20260423T222535Z
DESCRIPTION:Schalkau
DTSTART;TZID=Europe/Berlin:20190526T140000
DTEND;TZID=Europe/Berlin:20190526T154500
LOCATION:Katzberger Straße 6\n96528 Schalkau\, 96528 Schalkau
SUMMARY:18/19 Herren 2.KK-O: SG SV 08 Steinach III - SV Rottmar/Gefell
END:VEVENT
END:VCALENDAR
